Workbook

Sheet مجمع 
A7: مجمع عمومي عادي صاحبان سهام
A9: با احترام
B10: به پيوست صورتهاي مالي شركت سهامي آب منطقه اي خراسان رضوی مربوط به سال مالي منتهي به 29 اسفند ماه 1396
B11: تقدیم مي شود . اجزاي تشكيل دهنده صورتهاي مالي به قرار زير است :
J12: شماره صفحه
B13: ترازنامه | J13: 2
B14: صورت سود و زيان | J14: 3
B15: گردش حساب زيان انباشته | J15: 3
B16: صورت جريان وجوه نقد | J16: 4
B17: يادداشتهاي توضيحي :
C18: تاريخچه و فعاليت | J18: 5
C19: اهم رويه هاي حسابداري | J19: 7 - 5
C20: يادداشتهاي مربوط به اقلام مندرج در صورتهاي مالي و ساير اطلاعات مالي | J20: 8-30
C21: صورت وضعیت مالی ترکیبی طرحهای تملک داراییهای سرمایه ای(پیوست1) | J21: 31
C22: گزارش تطبیق عملکرد با بودجه اصلاحی مصوب (پیوست 2) | J22: 32-33
B24: صورتهاي مالي براساس استانداردهاي حسابداري تهيه شده و در تاريخ 1397/01/26به تأييد هيأت مديره شرکت رسيده است .
B27: نام اعضاي هيأت مديره | F27: سمت | J27: امضا
B28: محمد حسین جعفری | F28: رئيس هيات مديره و مدیر عامل
B29: علیرضا طاهری | F29: عضو موظف هیات مدیره
B30: علیرضا عامری | F30: عضو موظف هیات مدیره
B31: مسعود محمدی | F31: عضو موظف هیات مدیره
B32: محمدعلی نعمت نژاد | F32: عضو موظف هیات مدیره
A33: 1

Sheet مجمع  (2)
B4: مجمع عمومي عادي صاحبان سهام
B6: با احترام
B7: به پيوست صورت هاي مالي شركت سهامي آب منطقه اي خراسان رضوی مربوط به سال مالي منتهي به 30 اسفند 1399 تقدیم مي شود . اجزاي تشكيل دهنده صورت هاي مالي به قرار زير است :
J9: شماره صفحه
B10: صورت سود و زيان | J10: 2
B11: صورت وضعیت مالی | J11: 3
B12: صورت تغییرات در حقوق مالکانه | J12: 4
B13: صورت جريان های نقدی | J13: 5
B14: يادداشت هاي توضيحي | J14: 6-33
B15: تطبیق عملکرد با بودجه مصوب - پیوست یک | J15: 34-35
B16: صورت وضعیت طرح های تملک دارایی های سرمایه ای - پیوست دو | J16: 36 | N16: خالص آثار مالی ناشی از ارائه خدمات و کالا به قیمت تکلیفی - پیوست سه | V16: 36
N17: جزء (8) بند{ی} تبصره 2 قانون بودجه سال 1400 - پیوست سه
A20: صورت هاي مالي بر اساس استانداردهاي حسابداري تهيه شده و در تاريخ 1400/02/15 به تأييد هيأت مديره شرکت رسيده است .
B22: اعضاي هيأت مديره | F22: سمت | J22: امضا
B23: محمد علایی | F23: رئيس هيات مديره و مدیر عامل
B24: علیرضا طاهری | F24: عضو موظف هیات مدیره
B25: علیرضا عامری | F25: عضو موظف هیات مدیره
B26: محمدعلی نعمت نژاد | F26: عضو موظف هیات مدیره
B27: مسعود محمدی | F27: عضو غیر موظف هیات مدیره

Sheet صورت سود و زيان
B1: شركت سهامي آب منطقه اي خراسان رضوي
B2: صورت سود و زیان
B3: سال مالی منتهی به 30 اسفند 1399
E5: سال 1399 | G5: (تجدید ارائه شده) | I5: (تجدید ارائه شده) | K5: (تجدید ارائه شده)
C6: يادداشت | G6: ســــــال 1398 | I6: ســــــال 1397 | K6: ســــــال 1396
E7: میلیون ريـــال | G7: میلیون ريـــال | I7: میلیون ريـــال | K7: ريـــال
B8: درآمدهای عملیاتی | C8: 5 | E8: ='5'!I13 -> 1291567.8 | G8: ='5'!M13 -> 891277.5 | I8: =812164+24202 -> 836366 | K8: 548275928090 | L8: =K8/G8 -> 615157.38
B9: بهاي تمام شده درآمدهای عملیاتی | C9: 6 | E9: =-'6'!M25 -> -1159721.1 | G9: =-'6'!U25 -> -885829.34 | I9: =-675489 -> -675489 | K9: 858652443488 | L9: =K9/G9 -> -969320.39
B10: سود ناخالص | E10: =SUM(E8:E9) -> 131846.74 | G10: =SUM(G8:G9) -> 5448.1616 | I10: =SUM(I8:I9) -> 160877 | K10: =K8-K9 -> -310376515398 | L10: =K10/G10 -> -56969036 | S10: 1634272
B11: هزينه هاي فروش، اداري و عمومي | C11: 7 | E11: =-'7-8'!F18 -> -335863.36 | G11: =-'7-8'!H18 -> -319168.42 | I11: -229392 | K11: -210484141733 | L11: =K11/G11 -> 659476.72 | P11: 1581248366782 | S11: =E8+E12+E15+E16 -> 1401791.8
B12: سایردرآمدها | C12: 8 | E12: ='7-8'!F36 -> 340372.96 | G12: ='7-8'!H36 -> 285312.13 | I12: =133495 -> 133495 | K12: 96297248543 | L12: =K12/G12 -> 337515.44 | P12: =E9+E11+E13 -> -1547283.2 | S12: 1569419799266
B13: سایر هزینه ها | C13: 9 | E13: ='9-11'!G11 -> -51698.732 | G13: ='9-11'!I9 -> -29150.597 | I13: =-23551 -> -23551 | K13: 0 | L13: =K13/G13 -> 0 | P13: =P11+P12 -> 1.5812468e+12 | S13: =S11-S12 -> -1.5694184e+12
B14: سود (زیان) عملياتي | E14: =SUM(D10:E13) -> 84657.606 | G14: =SUM(F10:G13) -> -57558.723 | I14: =SUM(H10:I13) -> 41429 | K14: =SUM(H10:K13) -> -424563367159 | L14: =K14/G14 -> 7376177.6
B15: سایر درآمدها و هزینه های غیرعملیاتی | C15: 10 | E15: ='9-11'!G25 -> -245649 | G15: ='9-11'!I25 -> 22557.342 | I15: 15717 | K15: -28317477963 | L15: =K15/G15 -> -1255355.2 | S15: =S10-S11 -> 232480.24
B16: کمک های دریافتی از دولت بابت جبران زیان | C16: 11 | E16: 15500 | G16: 13750 | I16: 17700 | K16: 25000000000 | L16: =K16/G16 -> 1818181.8
B17: سود (زیان) خالص | E17: =SUM(E14:E16) -> -145491.39 | G17: =SUM(G14:G16) -> -21251.381 | I17: =SUM(I14:I16) -> 74846 | K17: =SUM(K14:K16) -> -427880845122 | L17: =K17/G17 -> 20134261
B18: جزء (8) بند(ی)تبصره 2 قانون بودجه سال 1400 کل کشور | C18: 29 | E18: ='29'!V15 -> 118006122 | G18: ='29'!V24 -> 148271158
B21: یادداشت های توضیحی، بخش جدایی ناپذیر صورت های مالی است .
B33: 2
B41: 3

Sheet صورت وضعیت مالی
B1: شرکت سهامی آب منطقه ای خراسان رضوی
B2: صورت وضعیت مالی
B3: در تاریخ 30 اسفند 1399
H4: (تجدید ارائه شده) | J4: (تجدید ارائه شده)
D5: يادداشت | F5: 1399/12/30 | H5: 1398/12/29 | J5: 1398/01/01 | L5: 1398/01/01
B6: دارايي ها | F6: میلیون ريـــال | H6: میلیون ريـــال | J6: میلیون ريـــال | L6: میلیون ريـــال
B7: دارایی های غيرجاري
B8: دارایی های ثابت مشهود | D8: 12 | F8: ='دارایی ثابت 1'!W31 -> 8313339.4 | H8: ='دارایی ثابت 1'!W32 -> 8511825.8 | J8: =L8/1000000 -> 7876133 | L8: 7876133013554 | P8: =F8-H8 -> -198486.37
B9: دارایی های نامشهود | D9: 13 | F9: ='13'!K25 -> 18713.546 | H9: ='13'!K23 -> 18677.546 | J9: =L9/1000000 -> 18539.294 | L9: 18539293755 | P9: =F9-H9 -> 36
B10: دریافتنی های بلند مدت | D10: 14-2 | F10: ='14-2'!E33 -> 46650 | H10: ='14-2'!G33 -> 6007.65 | J10: =L10/1000000 -> 6666.1285 | L10: 6666128464 | P10: =F10-H10 -> 40642.35
B11: ساير دارايي ها | F11: 0 | H11: 0 | J11: =L11/1000000 -> 0 | L11: 0 | P11: =F11-H11 -> 0
B12: جمع دارایی های غيرجاري | F12: =SUM(F8:F11) -> 8378703 | H12: 8536512 | J12: =L12/1000000 -> 7901338.4 | L12: =SUM(L8:L11) -> 7901338435773 | P12: =F12-H12 -> -157809.05
P13: =F13-H13 -> 0
B14: دارایي هاي جاري | P14: =F14-H14 -> 0
B15: دريافتني های تجاري و سایر دریافتنی ها | D15: 14 | F15: ='14'!I34 -> 2753899 | H15: ='14'!K34 -> 2084101.4 | J15: =L15/1000000+24202 -> 1792175.1 | L15: 1767973091246 | P15: =F15-H15 -> 669797.55
B16: پیش پرداخت ها | D16: 15 | F16: ='15-19'!E17 -> 19094 | H16: ='15-19'!G17 -> 10867.311 | J16: =L16/1000000 -> 6583.289 | L16: 6583289024 | P16: =F16-H16 -> 8226.6894
B17: موجودی مواد و کالا | D17: 16 | F17: 10135 | H17: 4369 | J17: =L17/1000000 -> 5448.1466 | L17: 5448146639 | P17: =F17-H17 -> 5766
B18: موجودي نقد | D18: 17 | F18: ='15-19'!E33 -> 49203 | H18: ='15-19'!G33 -> 67241.655 | J18: =L18/1000000+0.5 -> 26970.509 | L18: 26970009257 | P18: =F18-H18 -> -18038.655
B19: جمع دارایی های جاري | F19: =SUM(F15:F18) -> 2832331 | H19: =SUM(H15:H18) -> 2166579.4 | J19: =SUM(J15:J18) -> 1831177 | L19: =SUM(L15:L18) -> 1806974536166 | P19: =F19-H19 -> 665751.59
B20: جمع دارايي ها | F20: =F19+F12 -> 11211034 | H20: =H19+H12 -> 10703091 | J20: =J19+J12 -> 9732515.5 | L20: =L19+L12 -> 9708312971939 | P20: =F20-H20 -> 507942.54
P21: =F21-H21 -> 0
B22: حقوق عمومی، حقوق مالکانه و بدهی ها | P22: 0
B23: حقوق عمومي | D23: 18 | F23: 18333 | H23: 18333 | J23: =L23/1000000 -> 18332.83 | L23: 18332830265 | P23: =F23-H23 -> 0
B24: حقوق مالکانه | P24: =F24-H24 -> 0
B25: سرمايه | D25: 19 | F25: 7671699 | H25: 7671699 | J25: =L25/1000000 -> 7671699.4 | L25: 7671699390000 | P25: =F25-H25 -> 0
B26: کاهش سرمایه در جریان | D26: 20 | F26: -1846470 | H26: -1846470 | J26: =L26/1000000 -> -1846470.4 | L26: -1846470390402 | P26: =F26-H26 -> 0
B27: وجوه قابل انتقال به سرمایه | D27: 21 | F27: ='20-22'!I16 -> 4467673 | H27: ='20-22'!K16 -> 2031489.4 | J27: =(L27/1000000)+932+96600 -> 1796094.7 | L27: 1698562657289 | P27: =F27-H27 -> 2436183.6
B28: اندوخته قانوني | D28: 22 | F28: 10 | H28: 10 | J28: =L28/1000000 -> 10 | L28: 10000000 | P28: =F28-H28 -> 0
B29: زيان انباشته | F29: ='صورت تغییرات در حقوق مالکانه'!N23 -> -3457593.4 | H29: ='صورت تغییرات در حقوق مالکانه'!N17 -> -3312102 | J29: ='صورت تغییرات در حقوق مالکانه'!N12 -> -3290851 | L29: -3315055668713 | P29: =F29-H29 -> -145491.39
B30: جمع حقوق مالکانه | F30: =SUM(F25:F29) -> 6835318.6 | H30: =SUM(H25:H29) -> 4544626.4 | J30: =SUM(J25:J29) -> 4330482.7 | L30: =SUM(L25:L29) -> 4208745988174 | P30: =F30-H30 -> 2290692.2
B31: بدهی ها | P31: =#REF!-#REF! -> #REF!
B32: بدهی های غير جاري
B33: پرداختني های بلند مدت | D33: 23-2 | F33: ='23.2'!I13 -> 1988400.7 | H33: ='23.2'!K13 -> 4363621.5 | J33: =L33/1000000-96600 -> 3697029.9 | L33: 3793629939051 | P33: =F33-H33 -> -2375220.8
B34: پيش دريافت های بلند مدت | D34: 24 | F34: ='24'!I22 -> 98948 | H34: ='24'!K22 -> 158721.91 | J34: =L34/1000000-0.5 -> 100584.27 | L34: 100584765957 | P34: =F34-H34 -> -59773.907
B35: ذخيره مزاياي پايان خدمت كاركنان | D35: 25 | F35: ='25-26'!S12 -> 136522.32 | H35: ='25-26'!U12 -> 130031.46 | J35: =L35/1000000-0.5 -> 91158.044 | L35: 91158544049 | P35: =F35-H35 -> 6490.8555
B36: جمع بدهی های غير جاري | F36: =SUM(F33:F35) -> 2223871 | H36: =SUM(H33:H35) -> 4652374.9 | J36: =SUM(J33:J35) -> 3888772.2 | L36: =SUM(L33:L35) -> 3985373249057 | P36: =F36-H36 -> -2428503.9
B37: بدهی های جاري | P37: =F37-H37 -> 0
B38: پرداختنی های تجاری و سایر پرداختنی ها | D38: 23 | F38: ='23'!H30 -> 2039133 | H38: ='23'!J30 -> 1481732 | I38: 2 | J38: =L38/1000000+1 -> 1435629.5 | L38: 1435628532068 | P38: =F38-H38 -> 557401
B39: پيش دريافت ها | D39: 24 | F39: ='24'!E22 -> 94378 | H39: ='24'!G22 -> 6024.8035 | J39: =59300-2 -> 59298 | L39: 59299996919 | P39: =F39-H39 -> 88353.196
B40: مالیات پرداختنی | D40: 26 | F40: 0 | H40: 0 | J40: =L40/1000000 -> 0 | L40: 0 | O40: =F20-F43 -> 0.34212 | P40: =F40-H40 -> 0 | Q40: 0
...

Sheet صورت تغییرات در حقوق مالکانه
B1: شركت سهامي آب منطقه اي خراسان رضوي
B2: صورت تغییرات در حقوق مالکانه
B3: سال مالی منتهی به 30 اسفند 1399
F5: سرمایه | H5: کاهش سرمایه در جریان | J5: وجوه قابل انتقال به سرمایه | L5: اندوخته قانونی | N5: سود (زیان) انباشته | P5: جمع کل
F6: میلیون ريـــال | H6: میلیون ريـــال | J6: میلیون ريـــال | L6: میلیون ريـــال | N6: میلیون ريـــال | P6: میلیون ريـــال
B7: مانده در 1397/01/01 | F7: ='صورت وضعیت مالی'!J25 -> 7671699.4 | H7: ='صورت وضعیت مالی'!J26 -> -1846470.4 | J7: ='صورت وضعیت مالی'!J27 -> 1796094.7 | L7: ='صورت وضعیت مالی'!J28 -> 10 | N7: =-3468513-275000 -> -3743513 | P7: =SUM(F7:O7) -> 3877820.7 | S7: =1698563+932 -> 1699495
B8: اصلاح وجوه دریافتی بابت طرح های خاتمه یافته غیرانتفاعی( یادداشت 27 ) | F8: 0 | H8: 0 | J8: 96600 | L8: 0 | N8: 0 | P8: =SUM(F8:O8) -> 96600
B9: اصلاح اشتباهات ( یادداشت 27 ) | F9: 0 | H9: 0 | J9: 0 | L9: 0 | N9: ='27-28'!K40 -> 275000 | P9: =SUM(F9:O9) -> 275000
B10: مانده در 1398/01/01 | F10: ='صورت وضعیت مالی'!H25 -> 7671699 | H10: ='صورت وضعیت مالی'!H26 -> -1846470 | J10: ='صورت وضعیت مالی'!H27-235394 -> 1796095.4 | L10: ='صورت وضعیت مالی'!H28 -> 10 | N10: =SUM(N7:N9) -> -3468513 | P10: =SUM(F10:O10) -> 4152821.4
B11: اصلاح اشتباهات ( یادداشت 27 ) | F11: 0 | H11: 0 | J11: 0 | L11: 0 | N11: =153460+24202 -> 177662 | P11: =SUM(N11:O11) -> 177662
B12: مانده تجدید ارائه شده در 1398/01/01 | F12: =SUM(F10:F11) -> 7671699 | H12: =SUM(H10:H11) -> -1846470 | J12: =SUM(J10:J11) -> 1796095.4 | L12: =SUM(L10:L11) -> 10 | N12: =SUM(N10:N11) -> -3290851 | P12: =SUM(P10:P11) -> 4330483.4
B13: تغییرات حقوق مالکانه در سال 1398
B14: سود خالص گزارش شده در صورت های مالی سال 1398 | F14: 0 | H14: 0 | J14: 0 | L14: 0 | N14: -46320 | P14: =SUM(N14:O14) -> -46320
B15: اصلاح اشتباهات ( یادداشت 27 ) | F15: 0 | H15: 0 | J15: 0 | L15: 0 | N15: ='27-28'!O12 -> 25069 | P15: =SUM(N15:O15) -> 25069
B16: وجوه مصرف شده در طرح ها و پروژه های خاتمه یافته غیر انتقاعی ( یادداشت 1-21 ) | F16: 0 | H16: 0 | J16: 235394 | L16: 0 | N16: 0 | P16: =SUM(F16:O16) -> 235394
B17: مانده تجدید ارائه شده در 1398/12/29 | F17: =SUM(F12:F16) -> 7671699 | H17: =SUM(H12:H16) -> -1846470 | J17: =SUM(J12:J16) -> 2031489.4 | L17: =SUM(L12:L16) -> 10 | N17: =SUM(N12:N16) -> -3312102 | P17: =SUM(P12:P16) -> 4544626.4
B18: تغییرات حقوق مالکانه در سال 1399
B19: زیان خالص سال 1399 | F19: 0 | H19: 0 | J19: 0 | L19: 0 | N19: ='صورت سود و زيان'!E17 -> -145491.39 | P19: =SUM(N19:O19) -> -145491.39
B20: وجوه مصرف شده در طرح ها و پروژه های خاتمه یافته غیر انتقاعی ( یادداشت 1-21 ) | F20: 0 | H20: 0 | J20: 2406000 | L20: 0 | N20: 0 | P20: =SUM(F20:O20) -> 2406000
B21: وجوه قابل انتقال به سرمایه ( یادداشت 1-21 ) | F21: 0 | H21: 0 | J21: 30184 | L21: 0 | N21: 0 | P21: =SUM(F21:O21) -> 30184
B22: اصلاح اشتباهات | D22: 28 | F22: 0 | H22: 0 | J22: 0 | L22: 0 | N22: 0 | P22: =SUM(N22:O22) -> 0
B23: مانده در 1399/12/30 | F23: =SUM(F17:F22) -> 7671699 | H23: =SUM(H17:H22) -> -1846470 | J23: =SUM(J17:J22) -> 4467673.4 | L23: =SUM(L17:L22) -> 10 | N23: =SUM(N17:N22) -> -3457593.4 | P23: =SUM(P17:P22) -> 6835319
S26: 3457596
B27: یادداشت های توضیحی، بخش جدایی ناپذیر صورت های مالی است.
S30: =N23+S26 -> 2.606096
B32: 4
J34: 2297389
J35: =J21-J34 -> -2267205

Sheet صورت جريان های نقدی
B1: شركت سهامي آب منطقه اي خراسان رضوي
B2: صورت جریان های نقدی
B3: سال مالی منتهی به 30 اسفند 1399
C5: يادداشت | E5: سال 1399 | I5: سال 1398
E6: میلیون ريـــال | G6: میلیون ريـــال | I6: میلیون ريـــال
B7: جریان های نقدی حاصل از فعاليت هاي عملياتي
B8: نقد حاصل از عمليات | C8: 28 | G8: ='27-28'!O66 -> 122501.18 | I8: ='27-28'!Q66 -> 46288.053
B9: کمک های دریافتی از دولت بابت جبران زیان | C9: 11 | G9: ='صورت سود و زيان'!E16 -> 15500 | I9: 13750
B11: بازده سرمایه گذاری‌ها و سود پرداختی بابت تامین مالی:
B12: جريان خالص ورود (خروج) وجه نقد ناشي از بازده سرمایه گذاری‌ها و سود پرداختی بابت تامین مالی | G12: 0 | I12: 0
B14: مالیات بر درآمد:
B15: مالیات بر درآمد پرداختی | G15: 0 | I15: 0
B17: جریان های نقدی حاصل از فعاليت هاي سرمايه گذاري
B18: پرداخت های نقدی بابت خريد دارايي هاي ثابت مشهود | C18: 12 | E18: =(-'دارایی ثابت 1'!W17) -> -123982 | I18: -55661
B19: وجوه حاصل از فروش دارایي هاي ثابت مشهود | E19: 1753 | I19: 2258
B20: پرداخت های نقدی بابت خريد دارايي هاي نامشهود | C20: 13 | E20: =-'13'!G24 -> -36 | I20: -139
B21: جريان خالص ( خروج ) نقد حاصل از فعاليت هاي سرمايه گذاري | G21: =SUM(E18:E20) -> -122265 | I21: =SUM(I18:I20) -> -53542
B22: جريان خالص ورود ( خروج ) نقد قبل از فعاليت هاي تأمين مالي | G22: =G21+G15+G12+G9+G8 -> 15736.175 | I22: =I21+I15+I12+I9+I8 -> 6496.053
B23: جریان های نقدی حاصل از فعالیت‌های تامین مالی:
B24: جريان خالص ورود ( خروج ) نقد حاصل از فعاليت هاي تامین مالی | G24: 0 | I24: 0
B25: خالص افزایش (کاهش) در موجودی نقد | G25: =SUM(G22:G24) -> 15736.175 | I25: =SUM(I22:I24) -> 6496.053
B26: مانده موجودی نقد در ابتدای سال | G26: =I27 -> 33467.053 | I26: 26971
B27: مانده موجودی نقد در پايان سال | G27: =SUM(G25:G26) -> 49203.229 | I27: =SUM(I25:I26) -> 33467.053 | L27: ='صورت وضعیت مالی'!F18 -> 49203 | M27: =G27-L27+0.4 -> 0.628527 | N27: 67242 | O27: =I27-N27 -> -33774.947
B28: معاملات غیر نقدی - دارایی های ثابت مشهود انتقال یافته از طرح های تملک دارایی های سرمایه ای | G28: 57233 | I28: 901986
B31: یادداشت های توضیحی، بخش جدایی ناپذیر صورت های مالی است .
B38: 5

Sheet تاريخچه ص6
B1: شركت سهامي آب منطقه اي خراسان رضوي
B2: يادداشت هاي توضيحي صورت هاي مالي
B3: سال مالی منتهی به 30 اسفند 1399
B5: 1 - تاريخچه و فعاليت
B7: 1 - 1- تاریخچه
B9: شركت سهـامي آب منـطقه اي خراسان رضوي به شناسه ملی 10380126119 بنا به اختيارات حاصل از مـــاده ( 2 ) قانون تاسيـس وزارت نيرو مصوب 1353/11/28 در تاريخ 1355/08/18 تاسيس شده و در تاريخ 1355/11/12 تحـت شماره 1255 در اداره ثبـت اسناد و املاك مشهد به ثبت رسيده و به استناد ماده ( 4 ) قانون برنامه سوم توسعه اقتصادي ، اجتماعي و فرهنگي جمهوري اسلامي ايران مـصوب 1379 و پيشنهاد شماره 69432/20/100 مورخ 1381/12/11 وزارت نيرو و جلـــسات مورخ 1381/12/14 و 1382/02/07 هیات مــحترم وزيران ، تمامی سهام آن به شركت مادر تخصصي مديريت منابع آب ايران واگذار گرديده است. در حال حاضر، شركت سهامي آب منطقه اي خراسان رضوي جزو شرکت های فرعی شرکت مادر تخصصی مدیریت منابع آب ایران است. مرکز اصلی شرکت، مشهد- بلوار خیام جنوبی - خيام 35 می باشد.
B11: طبق مصوبه هیئت واگذاری در سال های 1397 و 1398 شرکت در فهرست شرکت های مشمول واگذاری قرارگرفته است لیکن در اجرای مصوبه شماره 33910/ت56110هـ مورخ 1398/3/25 هیات محترم وزیران موضوع خروج نام شرکت های زیرمجموعه شرکت مادر تخصصی مدیریت منابع آب ایران از شمول واگذاری به بخش خصوصی، کلیه شرکت های زیر مجموعه شرکت مادر تخصصی مدیریت منابع آب ایران از پیوست شماره (2) آیین نامه اجرایی تشخیص، انطباق و طبقه بندی فعالیتها و بنگاه های اقتصادی با هریک از سه گروه اقتصادی مصرح در ماده (2) اصلاح موادی از قانون برنامه چهارم توسعه اقتصادی، اجتماعی و فرهنگی جمهوری اسلامی ایران و اجرای سیاست های کلی اصل44 قانون اساسی موضوع تصویب نامه شماره 115320/ت43181ک مورخ 1388/6/7 به پیوست شماره (1) آیین نامه یاد شده منتقل گردیده و موضوع واگذاری منتفی شده است.
B13: 2 - 1 - فعاليت اصلي
B15: موضوع فعالیت شرکت طبق ماده 7 اساسنامه شرکت عبارت است از: انجام وظایف عملیاتی مدیریتی منابع آب در زمینه شناخت، مطالعه، توسعه، حفاظت، بهره برداری بهینه از منابع آب و همچنین ایجاد و توسعه بهره برداری و نگهداری از تأسیسات و سازه های آبی ( به استثناء تاسيسات و ســـازه های مربوط به آب و فاضلاب ) و برق آبی در چارچوب الزامات و سیاست های مدیـــریت حوضه آبریز و مطالعات جامع و برنامه ريزي توسعه منابع آب، تکالیف مندرج در قوانین و مقررات مربوط به سیاست های وزارت نیرو است. شرکت در سال مالی مورد گزارش به انجام وظایف عملیاتی خود در راستای ماده 7 اساسنامه به شرح فوق و اجرای 12 فقره موافقت نامه مبادله شده با سازمان برنامه و بودجه بوده است.
B17: 3 -1- تعداد کارکنان
B19: تعداد كاركنان در استخدام و نیز تعداد کارکنان شرکت های خدماتی که بخشی از امور خدماتی شرکت را به عهده دارند، در پایان سال به شرح زیر بوده است :
I21: 1399 | K21: 1398
I22: نفر | K22: نفر
C23: رسمی( 4 نفر استخدام کشوری ) | I23: 164 | K23: 190
C24: قراردادی | I24: 59 | K24: 59
C25: کار معین | I25: 27 | K25: 23 | O25: نکات : بابت افزایش 2 نفر در سال جاری مجوز لازم وجود ندارد.
I26: =SUM(I23:I25) -> 250 | K26: =SUM(K23:K25) -> 272
C27: شرکت های خدماتی | I27: 351 | K27: 280
I28: =SUM(I26:I27) -> 601 | K28: =SUM(K26:K27) -> 552
B30: کاهش پرسنل رسمی به تعداد 22 نفر به دلیل بازنشستگی در پایان سال می‌باشد.
B35: 6

Sheet Sheet3
B1: شركت سهامي آب منطقه اي خراسان رضوي
B2: يادداشت هاي توضيحي صورت هاي مالي
B3: برای سال مالی منتهی به 29 اسفند 1397
B5: 1 - تاريخچه و فعاليت
B6: 1 - 1- تاریخچه
B7: شركت سهـامي آب منـطقه اي خراسان رضوي بنا به اختيارات حاصل از مـــاده ( 2 ) قانون تاسيـس وزارت نيرو مصوب 1353/11/28 در تاريخ 1355/8/18 تاسيس شده و در تاريخ 1355/11/12 تحـت شماره 1255 در اداره ثبـت اسناد و املاك مشهد به ثبت رسيده و به استناد ماده ( 4 ) قانون برنامه سوم توسعه اقتصادي ، اجتماعي و فرهنگي جمهوري اسلامي ايران مـصوب 1379 و پيشنهاد شماره 69432/20/100 به تاریخ 1381/12/11 وزارت نيرو در جلـــسات مورخ 1381/12/14 و 1382/2/7 هیات مــحترم وزيران ، تمامی سهام آن به شركت مادر تخصصي مديريت منابع آب ايران واگذار گرديده است. شرکت در حال حاضر جزو واحدهای فرعی شرکت مزبور بوده و محل اصلی آن، مشهد- بلوار خیام جنوبی - خيام 35 می باشد.
B8: شرکت در راستای اصل 44 قانون اساسی طی مصوبه مورخ 1397/2/19 هیأت وزیران مشمول واگذاری به بخش غیر دولتی قرار گرفته است لیکن متعاقباً طبق مصوبه مورخ 1398/03/22 هیأت وزیران, از فهرست بنگاه های مشمول واگذاری خارج گردیده و موضوع واگذاری کان لم یکن تلقی گردیده است. با عنایت به مصوبه شماره 33910/ت56110هـ مورخ 1398/3/25 هیات محترم وزیران، کلیه شرکت های زیر مجموعه شرکت مادر تخصصی مدیریت منابع آب ایران از پیوست شماره 2 آیین نامه اجرایی تشخیص، انطباق و طبقه بندی فعالیتها و بنگاه های اقتصادی با هریک از 3 گروه اقتصادی مصرح در ماده 2 اصلاح موادی از قانون برنامه چهارم توسعه اقتصادی، اجتماعی و فرهنگی جمهوری اسلامی ایران و اجرای سیاست های کلی اصل44 قانون اساسی موضوع تصویب نامه شماره 115320/ت43181ک مورخ 1388/6/7 به پیوست شماره یک آیین نامه یاد شده منتقل گردیده اند.
B10: 2 - 1 - فعاليت اصلي
B11: موضوع فعالیت شرکت طبق ماده 7 اساسنامه شرکت عبارت است از: انجام وظایف عملیاتی مدیریتی منابع آب در زمینه شناخت، مطالعه، توسعه، حفاظت، بهره برداری بهینه از منابع آب و همچنین ایجاد و توسعه بهره برداری و نگهداری از تأسیسات و سازه های آبی ( به استثناء تاسيسات و ســـازه های مربوط به آب و فاضلاب ) و برق آبی در چارچوب الزامات و سیاست های مدیـــریت حوضه آبریز و مطالعات جامع و برنامه ريزي توسعه منابع آب، تکالیف مندرج در قوانین و مقررات مربوط به سیاست های وزارت نیرو است. شرکت در سال مالی مورد گزارش به انجام وظایف عملیاتی خود در زمینه مدیریت بهره برداری بهینه از منابع آب ، ارائه خدمات به مشترکین و شرکت های آب و فاضلاب و نگهداری از تاسیسات و سازه های آبی اقدام نموده است.
B13: 3 -1- تعداد کارکنان
B14: میانگین تعدادكاركنان دراستخدام و نیز تعداد کارکنان شرکت های خدماتی که در بخشی از امور خدماتی شرکت را به عهده دارند، طی سال به شرح زیر بوده است :
G16: 1397 | I16: 1396
G17: نفر | I17: نفر
C18: کارکنان رسمی( 7 نفر استخدام کشوری ) | G18: 209 | I18: 224
C19: کارکنان قراردادی | G19: 59 | I19: 59
C20: جمــــع | G20: =SUM(G18:G19) -> 268 | I20: =SUM(I18:I19) -> 283
C21: کارکنان شرکت های خدماتی | G21: 280 | I21: 283
C22: کارکنان کار معین | G22: 24 | I22: 24
C23: جمــــع کل | G23: =SUM(G20:G22) -> 572 | I23: =SUM(I20:I22) -> 590
B25: کاهش پرسنل رسمی به تعداد 15 نفر و کارکنان شرکت های خدماتی به تعداد 3 نفر به دلیل بازنشستگی پرسنل مذکور در انتهای سال می‌باشد.
B29: 5
B30: 2 - اهم رويه هاي حسابداري
B31: 1- 2 - مبناي تهيه صورت هاي مالي
B32: صورت هاي مالي بر مبناي بهاي تمام شده تاريخي تهيه شده و در خصوص بخشی از دارایی های ثابت مشهود به شرح یادداشت 2-4-2 بر مبنای روش تجدید ارزیابی استفاده شده است .
B34: 2- 2 - موجودي مواد و كالا
B35: بهاي تمام شده مواد و كالا به " اقل بهاي تمام شده و خالص ارزش فروش " هر یک از اقلام اندازه گیری مي شود . در صورت فزوني بهاي تمام شده نسبت به خالص ارزش فروش ، مابه التفاوت به عنوان زیان كاهش ارزش موجودي شناسايي مي شود . بهاي تمام شده موجودي ها با بکارگیری روش ميانگين موزون تعيين مي گردد .
B37: 3- 2 - دارایی های نامشهود
B39: دارایی های نامشهود ، بر مبنای بهای تمام شده اندازه گیری و در حسابها ثبت می شود.
B41: 4 - 2 - دارایي هاي ثابت مشهود
B42: 2-4-1- دارايي هاي ثابت مشهود ( به استثناء موارد مندرج در یادداشت 2-4-2 ) بر مبناي بـهاي تمام شده درحســاب ها ثبـت مي شود. مخـارج بعدی مرتبط با دارایی های ثابت مشهود که موجب بهبود وضعیت دارایی در مقایسه با استاندارد عملکرد ارزیابی شده اولیه آن گردد و منجر به افزایش منافع اقتصادی حاصل از دارایی شود ، به مبلغ دفتری دارایی اضافه و طي عــمر مفيــد باقيمانده دارایي هاي مربوط مستهلك مي شود. مخارج روزمره تعمیر و نگهداري دارایی ها كه به منظور حفظ وضعیت دارایی در مقایسه با استــاندارد عملكرد ارزيابي شده اوليه دارايي انجام مي شود ، در زمان وقوع به عنوان هزينه شناسایی مي گردد.
B43: 2-4-2- زمین، ساختمان، تاسیسات و تجهیزات شرکت بر مبنای تجدید ارزیابی در حساب ها انعکاس یافته است. تجدید ارزیابی در اجرای آئین نامه اجرایی جزء ( ب ) بند 78 قانون بودجه سال 1390 کل کشور در سال 1391 صورت پذیرفته و مبلغ 7.404.020 میلیون ریال مازاد تجدید ارزیابی طبق مصوبه مجمع عمومی فوق العاده مورخ 1391/07/16بابت افزایش سرمایه منظور شده و طی نامه شماره 139330406185018357 مورخ 1393/12/23 در روزنامه رسمی کشور به ثبت رسیده است .
B45: 2-4-3- استهلاك دارایي هاي ثابت مشهود با توجه به الگوی مصرف منافع اقتصادی آتی مورد انتظار دارایی های مربوط و با در نظر گرفتن آیین نامه استهلاکات موضوع ماده 149 اصلاحی قانون ماليات هاي مستقيم مصوب تیر ماه 1394 و مقررات و ضوابط اجرایی آن و براساس نرخ ها و روش هاي زير محاسبه مي شود :
B47: دارايــــــــي | G47: نـــــرخ استهلاك | J47: روش استهلاك
B48: تاسيـسات - ســـدها | G48: 10، 20، 25، 30 تا 100 | H48: ساله | J48: خــــــط مستقيــــــــم
B49: جاده ها | G49: 10 و 40 | H49: ساله | J49: خــــــط مستقيــــــــم
B50: چـــــــاه ها | G50: 8 | H50: ساله | J50: خــــــط مستقيــــــــم
B51: لـولـه هـاي اصلي آب | G51: 25 ، 15 و30 | H51: ساله | J51: خــــــط مستقيــــــــم
B52: ســـاختــــــمان ها | G52: 15 و 25 | H52: ساله | J52: خــــــط مستقيــــــــم
B53: ماشین آلات و تجـهيــزات | G53: 5 ،10، 15 و 25 | H53: ساله | J53: خــــــط مستقيــــــــم
B54: وسایل نقليه | G54: 6 | H54: ساله | J54: خــــــط مستقيــــــــم
...

Sheet اهم رویه ها ص8و7
B1: شركت سهامي آب منطقه اي خراسان رضوي
B2: يادداشت هاي توضيحي صورت هاي مالي
B3: سال مالی منتهی به 30 اسفند 1399
B5: 2 - استاندارهاي حسابداري جديد و تجديد نظر شده
B7: 2-1- آثار با اهمیت ناشی از بکارگیری استانداردهای حسابداری جدید و تجدید نظر شده که در سال جاری لازم الاجرا هستند، به شرح زیر است:
B9: 1-1 -2- استاندارد حسابداري 35 با عنوان ((ماليات بر درآمد))
B11: شرکت در برآورد عمر مفید و به کارگیری روش استهلاک برای اهداف گزارشگری و مالیاتی از ماده 149 قانون مالیات‌های مستقیم استفاده می‌کند و بر اساس قضاوت مدیریت شرکت با اجرای استاندارد حسابداری جدید و تجدید نظر شده که در سال جاری لازم الاجرا است, اثر با اهمیتی بر شرکت ندارد.
B13: 2-2- آثار با اهمیت ناشی از اجرای استانداردهای حسابداری جدید و تجدید نظر شده که هنوز لازم الاجرا نشده، به شرح زیر می‌باشد:
B14: 2-2-1- استاندارد حسابداری شماره 42 با عنوان " اندازه گیری ارزش منصفانه" در سال 1399 به تصویب رسیده است و الزامات آن در مورد کلیه صورتهای مالی که دوره مالی آنها از تاریخ 1400/01/01 و بعد از آن شروع می شود ، لازم الاجرا است . این استاندارد ارزش منصفانه را تعریف نموده ، چارچوب اندازه گیری ارزش منصفانه را مقرر و الزامات افشا در باره اندازه گیری ارزش منصفانه را تعیین می کند .
B15: الزامات این استاندارد در مواردی کاربرد دارد که دیگر استانداردهای حسابداری ، اندازه گیری ارزش منصفانه یا افشاء درباره اندازه گیری ارزش منصفانه (اندازه گیری مبتنی بر ارزش منصفانه پس از کسر مخارج فروش ، یا افشاء درباره اندازه گیری ها) را الزامی یا مجاز کرده باشد .
B17: بر اساس قضاوت مدیریت واحد تجاری ( شرکت سهامی آب منطقه ای خراسان رضوی) با اعمال الزامات این استاندارد از تاریخ لازم الاجرا شدن آن ، به طور کلی تاثیر قابل ملاحظه ای بر گزارشگری اقلام صورتهای مالی نخواهد داشت .
B19: 3 - اهم رويه هاي حسابداري
B21: 1- 3 - مباني اندازه گیری استفاده شده در تهیه صورت هاي مالي | O21: 3-3- مخارج تأمين مالي
B23: صورت هاي مالي اساساً بر مبناي بهاي تمام شده تاريخي تهيه شده و در خصوص بخشی از دارایی های ثابت مشهود به شرح یادداشت 2-3-3 از ارزش‌های جاری استفاده شده است. | O23: مخارج تأمين مالي در دوره وقوع به عنوان هزينه شناسايي مي­شود، به استثناي مخارجي كه مستقيماً قابل انتساب به تحصيل "دارايي­هاي واجد شرايط" است.
B25: 3-2- درآمد عملیاتی
B27: درآمد عملیاتی به ارزش منصفانه مابه ازای دریافتی یا دریافتنی اندازه گیری می شود.
B29: 3-2-1- درآمد عملیاتی حاصل از فروش آب سدها در زمان تحویل کالا به مشتری شناسایی می شود .
B31: 3-2-2- درآمد فروش آب و حق النظاره چاه های بخش صنعت و تجارت به اشخاص حقوقی در زمان تحویل شناسایی می شود .
B33: 3-2-3- درآمد فروش آب و حق النظاره چاه ها به اشخاص حقیقی و خسارت اضافه برداشت آب چاه ها در زمان ارائه خدمات شناسایی می‌شود. درآمد ارائه خدمات کارشناسی قبل از ارائه خدمات از متقاضی وصول و سپس اقدام به ارائه خدمات می شود.
B35: 3 - 3 - دارایي هاي ثابت مشهود
B37: 3-3-1- دارايي هاي ثابت مشهود ( به استثنای موارد مندرج در یادداشت 2-3-3 ) بر مبناي بـهاي تمام شده اندازه گیری مي‌شود. مخـارج بعدی مرتبط با دارایی‌های ثابت مشهود که موجب بهبود وضعیت دارایی در مقایسه با استاندارد عملکرد ارزیابی شده اولیه آن گردد و منجر به افزایش منافع اقتصادی حاصل از دارایی شود، به مبلغ دفتری دارایی اضافه و طي عــمر مفيــد باقيمانده دارایي هاي مربوط مستهلك مي شود. مخارج روزمره تعمیر و نگهداري دارایی‌ها كه به منظور حفظ وضعیت دارایی در مقایسه با استــاندارد عملكرد ارزيابي شده اوليه دارايي انجام مي شود ، در زمان وقوع به عنوان هزينه شناسایی مي‌گردد.
B39: 3-3-2- زمین، ساختمان، تاسیسات و تجهیزات شرکت بر مبنای تجدید ارزیابی در حساب ها انعکاس یافته است. تجدید ارزیابی در اجرای آئین نامه اجرایی جزء(ب) بند 78 قانون بودجه سال 1390 کل کشور در سال 1391 صورت پذیرفته و مبلغ 7.404.020 میلیون ریال مازاد تجدید ارزیابی طبق مصوبه مجمع عمومی فوق العاده مورخ 1391/07/16 بابت افزایش سرمایه منظور شده و طی نامه شماره 139330406185018357 مورخ 1393/12/23 در روزنامه رسمی کشور به ثبت رسیده است .
B41: 7
B43: 3-3-3- استهلاك دارایي هاي ثابت مشهود با توجه به الگوی مصرف منافع اقتصادی آتی مورد انتظار ( شامل عمر مفید برآوردی ) دارایی های مربوط و با در نظر گرفتن آیین نامه استهلاکات موضوع ماده 149 اصلاحیه مصوب 1394/04/31 قانون ماليات هاي مستقيم مصوب اسفند ماه 1396 و اصلاحیه‌های بعدی آن و براساس نرخ ها و روش‌هاي زير محاسبه مي شود :
B45: دارايــــــــي | G45: نـــــرخ استهلاك - سال | J45: روش استهلاك
B47: تاسيـسات (ســـدها ، جاده ها ، چاهها و خطوط انتقال) | G47: 10، 20، 25، 30 تا 100 | J47: خــــــط مستقيــــــــم | O47: ساله
B48: ســـاختــــــمان ها | G48: 15 و 25 | J48: خــــــط مستقيــــــــم | O48: ساله
B49: ماشین آلات و تجـهيــزات | G49: 5 ،10، 15 و 25 | J49: خــــــط مستقيــــــــم | O49: ساله
B50: وسایل نقليه | G50: 6 | J50: خــــــط مستقيــــــــم | O50: ساله
B51: اثاثه و منصوبات | G51: 10،5و 15 | J51: خــــــط مستقيــــــــم | O51: ساله
B52: ابزارآلات و لوازم فنی | G52: 10،5و 15 | J52: خــــــط مستقيــــــــم | O52: ساله
B54: 3-3-3-1- استهلاک تغذیه مصنوعی و شبکه های آبیاری که در جدول استهلاک موضوع ماده 149 قانون مالیات های مستقیم پیش بینی نشده است بر اساس مدت 30 سال به روش خط مستقیم محاسبه می شود. برای دارایی های ثابتی که طی ماه تحصیل می‌شود و مورد بهره برداری قرار می گیرد ، استهلاک از اول ماه بعد محاسبه و در حساب ها منظور می شود. در مواردی که هر یک از دارایی های استهلاک پذیر پس از آمادگی جهت بهره برداری به علت تعطیل کار یا علل دیگر برای مدتی بیش از 6 ماه متوالی در یک دوره مالی مورد استفاده قرار نگیرد، میزان استهلاک آن برای مدت یاد شده معادل 30 درصد نرخ استهلاک منعکس در جدول بالا محاسبه می گردد. در این صورت چنانچه محاسبه استهلاک بر اساس مدت باشد, 70 درصد مدت زمانی که دارایی مورد استفاده قرار نگرفته است به مدت باقیمانده تعیین شده برای استهلاک دارایی در این جدول اضافه خواهد شد.
B56: 3-3-3-2- استهلاک دارایی های تجدید ارزیابی شده با توجه به مبلغ دفتری جدید ( پس از تجدید ارزیابی )، طی عمر مفید باقیمانده محاسبه و در حساب ها منظور می‌شود.
B58: 4- 3 - دارایی های نامشهود
B60: دارایی های نامشهود ، بر مبنای بهای تمام شده اندازه گیری و در حسابها ثبت می شود.
B62: 5- 3 - موجودي مواد و كالا
B64: بهاي تمام شده مواد و كالا به " اقل بهاي تمام شده و خالص ارزش فروش " هر یک از اقلام اندازه گیری مي شود . در صورت فزوني بهاي تمام شده نسبت به خالص ارزش فروش ، مابه التفاوت به عنوان زیان كاهش ارزش موجودي شناسايي مي شود . بهاي تمام شده موجودي ها با بکارگیری روش ميانگين موزون تعيين مي گردد .
B66: 3-6- ذخایر
B68: ذخایر، بدهی های هستند که زمان تسویه و یا تعیین مبلغ آن توام با ابهام نسبتاً قابل توجه است. ذخایر زمانی شناسایی می‌شوند که شرکت دارای تعهد فعلی (قانونی یا عرفی) در نتیجه رویدادهای گذشته باشد، خروج منافع اقتصادی برای تسویه تعهد محتمل باشد و مبلغ تعهد به گونه ای اتکاپذیر قابل برآورد باشد.
B70: ذخایر در پایان دوره مالی بررسی و برای نشان دادن بهترین برآورد جاری تعدیل می شوند و هرگاه خروج منافع اقتصادی برای تسویه تعهد، دیگر محتمل نباشد، ذخیره برگشت داده می شود.
...

Sheet 5
B1: شركت سهامي آب منطقه اي خراسان رضوي
B2: يادداشت هاي توضيحي صورت هاي مالي
B3: سال مالی منتهی به 30 اسفند 1399
B5: ‏‏5‏ - درآمدهای عملیاتی
K6: (تجدید ارائه شده)
C7: يادداشت | E7: واحد | G7: 1399 | K7: 1398
G8: مقدار | I8: مبلـــــغ | K8: مقدار | M8: مبلـــــغ
I9: میلیون ريـــال | M9: میلیون ريـــال
B10: فروش آب | C10: ‏5-2 | E10: میلیون متر مکعب | G10: ='5'!G49 -> 193 | I10: ='5'!I49 -> 197312.92 | K10: ='5'!K49 -> 175 | M10: =M49 -> 177749.85 | O10: بابت تجدید ارایه، علیرغم تغییر مبالغ احجام چرا تغییر نیافته است؟
B11: درآمد حق النظاره و آب بهاء چاه ها | C11: ‏5-3 | E11: میلیون متر مکعب | G11: ='5-1 5-2 5-3'!G30 -> 4213 | I11: ='5-1 5-2 5-3'!I30 -> 1061048.2 | K11: ='5-1 5-2 5-3'!K30 -> 5141 | M11: ='5-1 5-2 5-3'!M30 -> 690677.45
B12: درآمد ارائه خدمات كارشناسي چاه ها | C12: ‏5-4 | E12: تعداد کارشناسی | G12: ='5-1 5-2 5-3'!G47 -> 6971 | I12: ='5-1 5-2 5-3'!I47 -> 33206.639 | K12: ='5-1 5-2 5-3'!K47 -> 4889 | M12: ='5-1 5-2 5-3'!M47 -> 22850.199
I13: =SUM(I10:I12) -> 1291567.8 | M13: =SUM(M10:M12) -> 891277.5
B15: 5-1- خالص درآمدهای عملیاتی به تفکیک وابستگی اشخاص:
K16: (تجدید ارائه شده)
E17: يادداشت | G17: =G7 -> 1399 | K17: =K7 -> 1398
G18: درآمد عملیاتی | I18: نسبت به کل | K18: درآمد عملیاتی | M18: نسبت به کل
G19: میلیون ريـــال | I19: درصد | K19: ميليون ريال | M19: درصد
B20: اشخاص وابسته | E20: ‏5-1-1 | G20: ='5'!G29 -> 165119.98 | I20: =G20/G22*100 -> 12.784461 | K20: ='5'!K29 -> 116845.33 | M20: =K20/K22*100 -> 13.109871
B21: سایر مشتریان | G21: =I13-G20 -> 1126447.8 | I21: =G21/G22*100 -> 87.215539 | K21: =M13-K20 -> 774432.17 | M21: =K21/K22*100 -> 86.890129
G22: =SUM(G20:G21) -> 1291567.8 | K22: =SUM(K20:K21) -> 891277.5
B24: 5-1-1- فروش آب شرب و حق النظاره چاه ها به اشخاص وابسته به شرح زیر می باشد:
G25: ='5-5'!D8 -> 1399 | K25: 1398
G26: میلیون ريـــال | I26: درصد | K26: میلیون ريـــال | M26: درصد
B27: شرکت آب و فاضلاب مشهد | G27: 87336.259 | I27: =(G27/G29)*100 -> 52.892606 | K27: 72670.314 | M27: =(K27/K29)*100 -> 62.193598 | O27: ='5'!G27/1000000 -> 0.087336259 | P27: ='5'!K27/1000000 -> 0.072670314
B28: شرکت آب و فاضلاب استان خراسان رضوی | G28: 77783.719 | I28: =(G28/G29)*100 -> 47.107394 | K28: 44175.014 | M28: =(K28/K29)*100 -> 37.806402 | O28: ='5'!G28/1000000 -> 0.077783719 | P28: ='5'!K28/1000000 -> 0.044175014
G29: =SUM(G27:G28) -> 165119.98 | K29: =SUM(K27:K28) -> 116845.33
B31: 5-2- فروش آب های سطحی به تفكيك منابع آبي: | O31: =M36/1000000 -> 0.091064279 | Q31: =I36/1000000 -> 0.107889
K32: (تجدید ارائه شده) | O32: =M39/1000000 -> 0.0094613333 | Q32: =I39/1000000 -> 0.0083333333
E33: يادداشت | G33: =G7 -> 1399 | K33: =K7 -> 1398 | O33: =M40/1000000 -> 0.0041432952 | Q33: =I40/1000000 -> 0
G34: مقدار | I34: مبلغ | K34: مقدار | M34: مبلـــــغ | O34: =M41/1000000 -> 0.0081027755 | Q34: =I41/1000000 -> 0.027028276
G35: میلیون متر مكعب | I35: میلیون ريـــال | K35: میلیون متر مكعب | M35: میلیون ريـــال | O35: =M42/1000000 -> 0.016637922 | Q35: =I42/1000000 -> 0.010437
B36: سد دوستی ( شرب، صنعت و خدمات ) | G36: 105 | I36: 107889 | K36: 112 | M36: 91064.279 | O36: =M43/1000000 -> 0.0030220199 | Q36: =I43/1000000 -> 0.004966478
B37: تصفیه خانه ( پساب پرکند آباد و اولنگ ) | G37: 6 | I37: 7209.0051 | K37: 1 | M37: 1582.7175 | O37: =M44/1000000 -> 0.00219275 | Q37: =I44/1000000 -> 2.6562165e-05
B38: چشمه هاي آهكي ( شرب ) | G38: 4 | I38: 1147.9553 | K38: 3 | M38: 813.89042 | O38: =M45/1000000 -> 0.015087635 | Q38: =I45/1000000 -> 0.016992032
B39: سد سنگرد ( بهره برداران روستاها ) | G39: 3 | I39: 8333.3333 | K39: 5 | M39: 9461.3333 | O39: =M46/1000000 -> 0.015304818 | Q39: =I46/1000000 -> 0.00356328
B40: بند انحرافي طرق، سد سده ( بهره برداران روستاها ) | G40: 0 | I40: 0 | K40: 6 | M40: 4143.2952 | O40: =M47/1000000 -> 0.00875 | Q40: =I47/1000000 -> 0.0026
B41: سد کارده ( شرب و خدمات ) | G41: 2 | I41: 27028.276 | K41: 1 | M41: 8102.7755 | O41: =M48/1000000 -> 0.0015864172 | Q41: =I48/1000000 -> 0.00712
B42: سد طرق ( شرب و خدمات ) | G42: 19 | I42: 10437 | K42: 12 | M42: 16637.922 | Q42: =I49/1000000 -> 0.19731292
B43: سد تبارک آباد ( شرب و خدمات ) | G43: 8 | I43: 4966.478 | K43: 5 | M43: 3022.0199
B44: سد فریمان | E44: ‏5-2-4 | G44: 1 | I44: 26.562165 | K44: 9 | M44: 2192.75
...

Sheet 5-1  5-2  5-3
B1: شركت سهامي آب منطقه اي خراسان رضوي
B2: يادداشت هاي توضيحي صورت هاي مالي
B3: سال مالی منتهی به 30 اسفند 1399
B5: 5-2-1- فروش آب های سطحی به تفكيك نوع مصرف: | O5: ='5'!#REF!/1000000 -> #REF! | P5: ='5'!#REF!/1000000 -> #REF! | Q5: ='5'!#REF!/'5'!#REF! -> #REF!
K6: (تجدید ارائه شده)
G7: 1399 | K7: 1398
G8: مقدار | I8: مبلغ | K8: مقدار | M8: مبلغ
G9: میلیون متر مكعب | I9: میلیون ريـــال | K9: میلیون متر مكعب | M9: میلیون ريـــال
B10: آب کشاورزی | G10: 59 | I10: 129763 | K10: 65 | M10: 119283.34
B11: آب شرب | G11: 133 | I11: 62973 | K11: 104 | M11: 41105.715
B12: آب صنعتی | G12: 1 | I12: 4576.5622 | K12: 3 | M12: 17360.798
G13: =SUM(G10:G12) -> 193 | I13: =SUM(I10:I12) -> 197312.56 | K13: =SUM(K10:K12) -> 172 | M13: =SUM(M10:M12) -> 177749.85
B15: 5-2-2- نرخ فروش آب شرب از سدهای طرق، کارده، دوستی، تبارک آباد ، زاوین و سد ارداک برابر تعرفه ابلاغی 98/11067/20/100 مورخ 1398/01/21 و تعرفه ابلاغی شماره 98/10014/20/100 مورخ 1398/02/01و تعرفه ابلاغی شماره 99/14971/31/100 مورخ 1399/03/07 ( قابل اجرا از تاریخ 1399/02/01) وزارت محترم نیرو و تعرفه فروش آب به بهره برداران روستاها جهت مصارف کشاورزی و صنعت و ... طبق مصوبه شماره 755 مورخ 1394/12/16 و مصوبه شماره 774 مورخ 1395/12/28 هیات مدیره و فروش آب سطحی جهت مصارف غیرخانگی به استناد بخشنامه شماره 91/31514/31/100 مورخ 1391/07/24 وزارت محترم نیرو و طبق مصوبات هیات مدیره محاسبه گردیده است .
B17: 5-2-3- افزایش درآمد فروش آب سدها نسبت به سال قبل ناشی از افزایش نزولات جوی و افزایش ورودی آب به مخزن سدها و به تبع آن افزایش حجم آب تحویلی به شرکت‌های آب و فاضلاب مشهد و استان در سال مورد گزارش بوده است. افزایش درآمد فروش پساب تصفیه خانه ها ناشی از انعقاد قرارداد جدید با متقاضیان بالاخص شهرداری مشهد در سال جاری می باشد.
O18: این افشا مربوط به سال قبل می باشد؟
B19: 5-2-4- کاهش درآمد فروش آب از سد بار نسبت به سال قبل عمدتاٌ ناشی از ثبت درآمد فروش آب در سنوات قبل از بهره برداری به شرکت مجتمع فولاد خراسان به حساب درآمد سال قبل با توجه به بهره برداری آن بوده است. | O19: 5-2-4- کاهش درآمد فروش آب از سد بار نسبت به سال قبل عمدتاٌ ناشی از ثبت درآمد فروش آب در سنوات قبل از بهره برداری به شرکت مجتمع فولاد خراسان به حساب درآمد سال قبل که به بهره برداری رسیده می‌باشد.
B21: 5-3- درآمد حق النظاره و آب بهاء چاه ها به تفکیک نوع مصرف : | O21: 5-3- درآمد آب های زیر زمینی ( حق النظاره و آب بهاء چاه ها ) به شرح زير مي باشد :
K22: (تجدید ارائه شده)
E23: يادداشت | G23: 1399 | K23: 1398
G24: مقدار | I24: مبلغ | K24: مقدار | M24: مبلغ
G25: میلیون متر مکعب | I25: میلیون ريـــال | K25: میلیون متر مکعب | M25: میلیون ريـــال
B26: شرب | E26: 5-3-1 | G26: 406 | I26: 120278.66 | K26: 285 | M26: 64257.302 | P26: =I26/1000000 -> 0.12027866 | Q26: =J26/1000000 -> 0 | R26: =K26/1000000 -> 0.000285 | S26: =L26/1000000 -> 0 | T26: =M26/1000000 -> 0.064257302 | U26: =N26/1000000 -> 0
B27: صنعت | E27: 5-3-2 | G27: 303 | I27: 806319 | K27: 200 | M27: 498426 | P27: =I27/1000000 -> 0.806319 | Q27: =J27/1000000 -> 0 | R27: =K27/1000000 -> 0.0002 | S27: =L27/1000000 -> 0 | T27: =M27/1000000 -> 0.498426 | U27: =N27/1000000 -> 0
B28: كشاورزي | E28: 5-3-3 | G28: 3413 | I28: 5362.5812 | K28: 4580 | M28: 7195.6051 | O28: معاف می باشد؟ | P28: =I28/1000000 -> 0.0053625812 | Q28: =J28/1000000 -> 0 | R28: =K28/1000000 -> 0.00458 | S28: =L28/1000000 -> 0 | T28: =M28/1000000 -> 0.0071956051 | U28: =N28/1000000 -> 0
B29: سایر مصارف | E29: 5-3-4 | G29: 91 | I29: =93389+35699 -> 129088 | K29: 76 | M29: 120798.54 | P29: =I29/1000000 -> 0.129088 | Q29: =J29/1000000 -> 0 | R29: =K29/1000000 -> 7.6e-05 | S29: =L29/1000000 -> 0 | T29: =M29/1000000 -> 0.12079854 | U29: =N29/1000000 -> 0
G30: =SUM(G26:G29) -> 4213 | I30: =SUM(I26:I29) -> 1061048.2 | K30: =SUM(K26:K29) -> 5141 | M30: =SUM(M26:M29) -> 690677.45
B32: 5-3-1- حق النظاره هر متر مكعب برداشـت از منابع آب های زيرزميني جهت شرب به شركت هاي آب و فاضلاب استان خراسان رضوی و مشهد مطابق تعرفه ابلاغی شماره 98/10014/20/100 مورخ 1398/02/01و تعرفه ابلاغی شماره 99/14971/31/100 مورخ 1399/03/07 ( قابل اجرا از تاریخ 1399/02/01) وزیر نیرو محاسبه شده است. افزایش درآمد نسبت به سال قبل ناشی از افزایش میزان مصرف آب چاه ها جهت مصارف شرب با توجه به کاهش مصرف آب جایگزین ( فروش آب از سدها به شرح یادداشت 2-5 ) و افزایش تعرفه ها می باشد.
B34: 5-3-2- حق النظاره هر متر مكعب برداشـت از منابع آب های زيرزميني جهت مصارف صنعتی مطابق مصوبه شماره 736 مورخ 1393/12/23 هیئت مدیره محاسبه شده است. افزایش درآمد نسبت به سال قبل عمدتاً ناشی از افزایش میزان مصرف آب چاه ها جهت مصارف صنعت می باشد. طبق بند (ه) تبصره 8 قانون بودجه سال 1399 کل کشور ( دریافت حق النظاره چاه آب کشاورزی و واریز به خزانه ) مکاتبه مدیریت منابع آب ایران نیز دارد.
B36: 5-3-3- به استناد ماده 3 قانون تامين منابع مالي براي جبران خسارت ناشي از خشكسالي و سرمازدگي مورخ 14/7/1383 از ابتدای سال 1384 دريافت هرگونه وجهي از فعاليت هاي بخش كشاورزي و دامداري به عنوان حق النظاره آب ممنوع مي باشد. درآمد فوق مربوط به حق النظاره ایجاد شده در سال های قبل از سال 1384 می‌باشد.
B38: 5-3-4- افزایش درآمد سایر مصارف عمدتاٌ ناشی از شناسایی مطالبات از مشترکین خدمات و دام و طیور در سال جاری, باتوجه به رویه شناسایی درآمد ( به شرح یادداشت توضیحی 3-2-3 ) می باشد.
B40: 5-4- درآمد ارائه خدمات كارشناسي چاه ها :
G42: =G23 -> 1399 | K42: =K23 -> 1398
G43: تعداد | I43: میلیون ريـــال | K43: تعداد | M43: میلیون ريـــال
B44: كشـــــاورزي | G44: 5498 | I44: 25489.514 | K44: 3963 | M44: 18358.667 | P44: =I44/1000000 -> 0.025489514 | Q44: =J44/1000000 -> 0 | R44: =K44/1000000 -> 0.003963 | S44: =L44/1000000 -> 0 | T44: =M44/1000000 -> 0.018358667
B45: صنعتــــــــــي | G45: 732 | I45: 5607.3243 | K45: 386 | M45: 2954.1011 | P45: =I45/1000000 -> 0.0056073243 | Q45: =J45/1000000 -> 0 | R45: =K45/1000000 -> 0.000386 | S45: =L45/1000000 -> 0 | T45: =M45/1000000 -> 0.0029541011
B46: شــــــــــــرب | G46: 741 | I46: 2109.8015 | K46: 540 | M46: 1537.4303 | P46: =I46/1000000 -> 0.0021098015 | Q46: =J46/1000000 -> 0 | R46: =K46/1000000 -> 0.00054 | S46: =L46/1000000 -> 0 | T46: =M46/1000000 -> 0.0015374303
G47: =SUM(G44:G46) -> 6971 | I47: =SUM(I44:I46) -> 33206.639 | K47: =SUM(K44:K46) -> 4889 | M47: =SUM(M44:M46) -> 22850.199 | P47: =I47/1000000 -> 0.033206639 | Q47: =J47/1000000 -> 0 | R47: =K47/1000000 -> 0.004889 | S47: =L47/1000000 -> 0 | T47: =M47/1000000 -> 0.022850199
B49: 5-4-1- درآمد خدمات کارشناسی بر اساس تعرفه ابلاغی شماره 99/15535/20/100 مورخ 1399/03/20وزیر محترم نيرو در اجراي ماده 8 قانون توزيع عادلانه آب با تقاضای مشترک جهت انجام مراحل درخواست کف شکنی، تغییر محل، لایروبی، حفر چاه و .... دریافت می شود. افزایش درآمد خدمات کارشناسی بدلیل افزایش تعداد کارشناسی‌های انجام شده (بنا به درخواست مشترکین) و افزایش نعرفه نسبت به سال گذشته بوده است.
B51: 10

Sheet 5-5
B1: شركت سهامي آب منطقه اي خراسان رضوي
B2: يادداشت هاي توضيحي صورت هاي مالي
B3: سال مالی منتهی به 30 اسفند 1399
B5: 5-5- جدول مقایسه ای درآمد عملیاتی و بهای تمام شده به شرح زیر می باشد:
P7: (تجدید ارائه شده)
D8: 1399 | L8: 1398
D9: فروش | F9: بهای تمام شده | H9: سود ( زیان ) نا خالص | J9: درصد سود ( زیان ) ناخالص به بهای تمام شده | L9: فروش | N9: بهای تمام شده | P9: سود ( زیان ) نا خالص | R9: درصد سود ( زیان ) ناخالص به بهای تمام شده
D10: میلیون ريـــال | F10: میلیون ريـــال | H10: میلیون ريـــال | L10: میلیون ريـــال | N10: میلیون ريـــال | P10: میلیون ريـــال
B11: آب شرب | D11: ='5-1 5-2 5-3'!I10 -> 129763 | F11: =D11/U14*'6'!G25 -> 592514.07 | H11: =D11-F11 -> -462751.07 | J11: =(H11/F11)*100 -> -78.099592 | L11: ='5-1 5-2 5-3'!M10 -> 119283.34 | N11: 156597 | P11: =L11-N11 -> -37313.66 | R11: =(P11/N11)*100 -> -23.827826
B12: آب کشاورزی | D12: ='5-1 5-2 5-3'!I11 -> 62973 | F12: =D12/U14*'6'!G25 -> 287542.58 | H12: =D12-F12 -> -224569.58 | J12: =(H12/F12)*100 -> -78.099592 | L12: ='5-1 5-2 5-3'!M11 -> 41105.715 | N12: 454425 | P12: =L12-N12 -> -413319.29 | R12: =(P12/N12)*100 -> -90.954346
B13: آب صنعتی | D13: ='5-1 5-2 5-3'!I12 -> 4576.5622 | F13: =D13/U14*'6'!G25 -> 20897.154 | H13: =D13-F13 -> -16320.592 | J13: =(H13/F13)*100 -> -78.099592 | L13: ='5-1 5-2 5-3'!M12 -> 17360.798 | N13: 66138 | P13: =L13-N13 -> -48777.202 | R13: =(P13/N13)*100 -> -73.750646
B14: حق النظاره چاه ها | D14: ='5-1 5-2 5-3'!I30 -> 1061048.2 | F14: ='6'!I25 -> 235478.2 | H14: =D14-F14 -> 825570.03 | J14: =(H14/F14)*100 -> 350.59297 | L14: ='5-1 5-2 5-3'!M30 -> 690677.45 | N14: ='6'!Q25 -> 202410.15 | P14: =L14-N14 -> 488267.3 | R14: =(P14/N14)*100 -> 241.22669 | U14: =SUM(D11:D13) -> 197312.56
B15: خدمات کارشناسی | D15: ='5-1 5-2 5-3'!I47 -> 33206.639 | F15: ='6'!K25 -> 23289.053 | H15: =D15-F15 -> 9917.5862 | J15: =(H15/F15)*100 -> 42.584755 | L15: ='5-1 5-2 5-3'!M47 -> 22850.199 | N15: ='6'!S25 -> 6259.1696 | P15: =L15-N15 -> 16591.029 | R15: =(P15/N15)*100 -> 265.06757
D16: =SUM(D11:D15) -> 1291567.4 | F16: =SUM(F11:F15) -> 1159721.1 | H16: =SUM(H11:H15) -> 131846.38 | J16: =(H16/F16)*100 -> 11.368801 | L16: =SUM(L11:L15) -> 891277.5 | N16: =SUM(N11:N15) -> 885829.32 | P16: =SUM(P11:P15) -> 5448.1809 | R16: =(P16/N16)*100 -> 0.61503732
B29: 11

Sheet 6
B2: شركت سهامي آب منطقه اي خراسان رضوي
B3: يادداشت هاي توضيحي صورت هاي مالي
B4: سال مالی منتهی به 30 اسفند 1399
B6: 6 - بهاي تمام شده درآمدهای عملیاتی
D8: یادداشت | E8: 1395/12/30 | G8: 1399 | O8: 1398
G9: فروش آب | I9: ارائه خدمات | M9: جمع | O9: فروش آب | Q9: ارائه خدمات | U9: جمع
I10: حق النظاره | K10: خدمات کارشناسی | Q10: حق النظاره | S10: خدمات کارشناسی
G11: میلیون ريـــال | I11: میلیون ريـــال | K11: میلیون ريـــال | M11: میلیون ريـــال | O11: میلیون ريـــال | Q11: میلیون ريـــال | S11: میلیون ريـــال | U11: میلیون ريـــال
B12: دستمزد مستقیم :
B13: حقوق و مزاياي كارمندان | D13: 6-1 | G13: 189527 | I13: 83421.442 | K13: 8250.4723 | M13: =G13+I13+K13 -> 281198.91 | O13: =144224.438882 -> 144224.44 | Q13: 72940.487 | S13: 2255.8914 | U13: =O13+Q13+S13 -> 219420.82 | W13: =G13/1000000 -> 0.189527 | X13: =H13/1000000 -> 0 | Y13: =I13/1000000 -> 0.083421442 | Z13: =J13/1000000 -> 0 | AA13: =K13/1000000 -> 0.0082504723 | AB13: =L13/1000000 -> 0 | AC13: =M13/1000000 -> 0.28119891 | AD13: =N13/1000000 -> 0 | ... AI13: =S13/1000000 -> 0.0022558914
B14: دستمزد و مزاياي كارگران | D14: 6-1 | G14: 19928 | I14: 12434.407 | K14: 1229.7765 | M14: =G14+I14+K14 -> 33592.184 | O14: 19790.961 | Q14: 12821.155 | S14: =396.530552-1 -> 395.53055 | U14: =O14+Q14+S14 -> 33007.646 | W14: =G14/1000000 -> 0.019928 | X14: =H14/1000000 -> 0 | Y14: =I14/1000000 -> 0.012434407 | Z14: =J14/1000000 -> 0 | AA14: =K14/1000000 -> 0.0012297765 | AB14: =L14/1000000 -> 0 | AC14: =M14/1000000 -> 0.033592184 | AD14: =N14/1000000 -> 0 | ... AI14: =S14/1000000 -> 0.00039553055
B15: هزينه مزاياي پايان خدمت | D15: 26-1 | G15: 33352.565 | I15: 6280.6239 | K15: 621.1606 | M15: =G15+I15+K15 -> 40254.349 | O15: 39841.227 | Q15: 20317.623 | S15: 628.38009 | U15: =O15+Q15+S15 -> 60787.23 | W15: =G15/1000000 -> 0.033352565 | X15: =H15/1000000 -> 0 | Y15: =I15/1000000 -> 0.0062806239 | Z15: =J15/1000000 -> 0 | AA15: =K15/1000000 -> 0.0006211606 | AB15: =L15/1000000 -> 0 | AC15: =M15/1000000 -> 0.040254349 | AD15: =N15/1000000 -> 0 | ... AI15: =S15/1000000 -> 0.00062838009
B16: سربار : | AE16: =O16/1000000 -> 0 | AF16: =P16/1000000 -> 0 | AG16: =Q16/1000000 -> 0 | AH16: =R16/1000000 -> 0 | AI16: =S16/1000000 -> 0
B17: آب و بــرق و سوخــــت | D17: 6-2 | G17: 4294.21 | I17: 1978.3291 | K17: 195.65893 | M17: =G17+I17+K17 -> 6468.198 | O17: 6059.6115 | Q17: =1466.542075-1 -> 1465.5421 | S17: 45.356971 | U17: =O17+Q17+S17 -> 7570.5105 | W17: =G17/1000000 -> 0.00429421 | X17: =H17/1000000 -> 0 | Y17: =I17/1000000 -> 0.0019783291 | Z17: =J17/1000000 -> 0 | AA17: =K17/1000000 -> 0.00019565893 | AB17: =L17/1000000 -> 0 | AC17: =M17/1000000 -> 0.006468198 | AD17: =N17/1000000 -> 0 | ... AI17: =S17/1000000 -> 4.5356971e-05
B18: تعميــرات و نگهــــداري | D18: 6-5 | G18: 52717 | I18: 2780.1555 | K18: 274.96043 | M18: =G18+I18+K18 -> 55772.116 | O18: 23174.085 | Q18: 12888.835 | S18: 398.12377 | U18: =O18+Q18+S18+1 -> 36462.044 | W18: =G18/1000000 -> 0.052717 | X18: =H18/1000000 -> 0 | Y18: =I18/1000000 -> 0.0027801555 | Z18: =J18/1000000 -> 0 | AA18: =K18/1000000 -> 0.00027496043 | AB18: =L18/1000000 -> 0 | AC18: =M18/1000000 -> 0.055772116 | AD18: =N18/1000000 -> 0 | ... AI18: =S18/1000000 -> 0.00039812377
B19: مخــابــرات و ارتباطات | G19: 5331.4419 | I19: 273.17447 | K19: 27.017256 | M19: =G19+I19+K19 -> 5631.6336 | O19: 883.97638 | Q19: =235.340048+1 -> 236.34005 | S19: 7.309486 | U19: =O19+Q19+S19-1 -> 1126.6259 | W19: =G19/1000000 -> 0.0053314419 | X19: =H19/1000000 -> 0 | Y19: =I19/1000000 -> 0.00027317447 | Z19: =J19/1000000 -> 0 | AA19: =K19/1000000 -> 2.7017256e-05 | AB19: =L19/1000000 -> 0 | AC19: =M19/1000000 -> 0.0056316336 | AD19: =N19/1000000 -> 0 | ... AI19: =S19/1000000 -> 7.309486e-06
B20: خـــدمـــات قــــــراردادي | D20: 6-3 | G20: 355017 | I20: 120393.29 | K20: 11907.028 | M20: =G20+I20+K20 -> 487317.32 | O20: 223894.3 | Q20: 76405.339 | S20: 2363.0517 | U20: =O20+Q20+S20-1 -> 302661.69 | W20: =G20/1000000 -> 0.355017 | X20: =H20/1000000 -> 0 | Y20: =I20/1000000 -> 0.12039329 | Z20: =J20/1000000 -> 0 | AA20: =K20/1000000 -> 0.011907028 | AB20: =L20/1000000 -> 0 | AC20: =M20/1000000 -> 0.48731732 | AD20: =N20/1000000 -> 0 | ... AI20: =S20/1000000 -> 0.0023630517
B21: هزينــه هاي استـــــهلاك | D21: 6-4 | G21: 374257.59 | I21: 2432.4182 | K21: 240.56884 | M21: =G21+I21+K21 -> 376930.58 | O21: 317539.41 | Q21: 2104.8956 | S21: 65.099865 | U21: =O21+Q21+S21 -> 319709.41 | W21: =G21/1000000 -> 0.37425759 | X21: =H21/1000000 -> 0 | Y21: =I21/1000000 -> 0.0024324182 | Z21: =J21/1000000 -> 0 | AA21: =K21/1000000 -> 0.00024056884 | AB21: =L21/1000000 -> 0 | AC21: =M21/1000000 -> 0.37693058 | AD21: =N21/1000000 -> 0 | ... AI21: =S21/1000000 -> 6.5099865e-05
B22: ساير هزينه ها | D22: 6-6 | G22: 49623 | I22: 5484.3667 | K22: 542.4099 | M22: =G22+I22+K22 -> 55649.777 | O22: 42061.936 | Q22: 3229.9335 | S22: =99.425778+1 -> 100.42578 | U22: =O22+Q22+S22 -> 45392.295 | W22: =G22/1000000 -> 0.049623 | X22: =H22/1000000 -> 0 | Y22: =I22/1000000 -> 0.0054843667 | Z22: =J22/1000000 -> 0 | AA22: =K22/1000000 -> 0.0005424099 | AB22: =L22/1000000 -> 0 | AC22: =M22/1000000 -> 0.055649777 | AD22: =N22/1000000 -> 0 | ... AI22: =S22/1000000 -> 0.00010042578
B23: هزینه های جذب نشده تولید | D23: 9-1 | G23: -38351 | I23: 0 | K23: 0 | M23: =K23+I23+G23 -> -38351 | O23: -29150.597 | Q23: 0 | S23: 0 | U23: =S23+Q23+O23 -> -29150.597 | W23: =G23/1000000 -> -0.038351 | X23: =H23/1000000 -> 0 | Y23: =I23/1000000 -> 0 | Z23: =J23/1000000 -> 0 | AA23: =G23/1000000 -> -0.038351 | AB23: =L23/1000000 -> 0 | AC23: =M23/1000000 -> -0.038351 | AD23: =N23/1000000 -> 0 | AE23: =O23/1000000 -> -0.029150597 | AF23: =P23/1000000 -> 0 | AG23: =Q23/1000000 -> 0 | AH23: =R23/1000000 -> 0 | AI23: =S23/1000000 -> 0
B24: سهم هزینه های اداری از مراکز خدماتی | D24: 7-4 | G24: -144743 | I24: 0 | K24: 0 | M24: =K24+I24+G24 -> -144743 | O24: -111159.33 | Q24: 0 | S24: 0 | U24: =S24+Q24+O24 -> -111159.33 | W24: =G24/1000000 -> -0.144743 | X24: =H24/1000000 -> 0 | Y24: =I24/1000000 -> 0 | Z24: =J24/1000000 -> 0 | AA24: =G24/1000000 -> -0.144743 | AB24: =L24/1000000 -> 0 | AC24: =M24/1000000 -> -0.144743 | AD24: =N24/1000000 -> 0 | AE24: =O24/1000000 -> -0.11115933 | AF24: =P24/1000000 -> 0 | AG24: =Q24/1000000 -> 0 | AH24: =R24/1000000 -> 0 | AI24: =S24/1000000 -> 0
G25: =SUM(G13:G24) -> 900953.8 | I25: =SUM(I13:I24) -> 235478.2 | K25: =SUM(K13:K24) -> 23289.053 | M25: =G25+I25+K25 -> 1159721.1 | O25: =SUM(O13:O24) -> 677160.02 | Q25: =SUM(Q13:Q24) -> 202410.15 | S25: =SUM(S13:S24) -> 6259.1696 | U25: =O25+Q25+S25 -> 885829.34
B27: 6-1- افزایش مبلغ حقوق و مزاياي كارمندان نسبت به سال قبل عمدتاً ناشی از افزایش ضریب حقوقی سالیانه برای مشمولین قانون مديريت خدمات كشوري و سایر کارمندان و همچنین اعمال فوق العاده بند 10 ماده 68 قانون مذکور می باشد؛ همچنین افزایش دستمزد و مزایای کارگران ناشی از افزایش ضریب حقوقی سالیانه و افزایش 2 نفر به کارکنان کارمعین می باشد. | Y27: =O25*'5'!Q49 -> #REF!
Y28: =O25*'5'!Q50 -> #REF!
B29: 6-2- کاهش مبلغ مذکور عمدتاً بابت کاهش برق مصرفی شهری توسط شرکت و استفاده از برق جایگزین از محل ژنراتور شرکت در سال جاری می باشد. | Y29: =O25*'5-1 5-2 5-3'!Q5 -> #REF!
B31: 6-3- افزایش مبالغ خدمات قراردادی، ناشی از افزایش حقوق و مزایای پرسنل امور خدماتی در سطح استان در راستای برون سپاری وظایف به پیمانکاران می باشد.
B33: 6-4- افزایش هزینه های استهلاک ناشی از محاسبه استهلاک در سال 1399 مربوط به طرح های به بهره برداری رسیده انتقالی از دفاتر طرح های تملک دارایی های سرمایه ای مي باشد.
B35: 4-6- مقایسه مقدار تولید شرکت در سال مالی مورد گزارش با ظرفیت اسمی و ظرفیت معمولی (عملی)، نتایج زیر را نشان می دهد.
M36: واحد اندازه گیری | O36: ظرفیت اسمی | Q36: ظرفیت معمولی(عملی) | S36: تولید واقعی مغایرت تراز سال قبل | U36: تولید واقعی
A37: یهره برداری آب | M37: میلیون متر مکعب | O37: 120 | Q37: .... | S37: .... | U37: ....
B38: 6-5- افزایش هزینه تعميــرات و نگهــــداري عمدتاً بابت افزایش سطح عمومی قیمت ها مي باشد .
B41: 6-6- سایر هزینه ها عمدتاً بابت هزینه های سهم راهبردی ، قرائت اشل ، آزمایشگاه ، هزینه تایپ و تکثیر و آبدارخانه مي باشد .
B44: 12

Sheet 7-8
B1: شركت سهامي آب منطقه اي خراسان رضوي
B2: يادداشت هاي توضيحي صورت هاي مالي
B3: سال مالی منتهی به 30 اسفند 1399
B5: 7- هزينه هاي فروش ، اداري و عمومي
D7: يادداشت | F7: 1399 | H7: 1398
F8: میلیون ريـــال | H8: میلیون ريـــال | P8: 406200000
B9: حقوق و مزاياي كارمنـدان | D9: 7-1 | F9: 88222.521 | H9: 92281.089 | J9: =F9/1000000 -> 0.088222521 | L9: =H9/1000000 -> 0.092281089
B10: دستمزد و مزاياي كارگران | D10: 7-2 | F10: 17117.953 | H10: 14423.023 | J10: =F10/1000000 -> 0.017117953 | L10: =H10/1000000 -> 0.014423023
B11: هزينه مزاياي پايان خدمت | D11: 26-1 | F11: 17495.408 | H11: 26922.742 | J11: =F11/1000000 -> 0.017495408 | L11: =H11/1000000 -> 0.026922742 | P11: 373556250
B12: آب و بــــرق و ســـوخـت | D12: 6-2 | F12: 4081.4976 | H12: 6415.1547 | J12: =F12/1000000 -> 0.0040814976 | L12: =H12/1000000 -> 0.0064151547 | N12: =F18-F16 -> 191120.36 | P12: 16603091303
B13: تعميــرات و نگـــــــهداري | F13: 2121.5746 | H13: 2506.7617 | J13: =F13/1000000 -> 0.0021215746 | L13: =H13/1000000 -> 0.0025067617 | P13: =SUM(P11:P12) -> 16976647553
B14: خــــــدمــات قــــــراردادي | D14: 7-3 | F14: 42333.137 | H14: 40555.688 | J14: =F14/1000000 -> 0.042333137 | L14: =H14/1000000 -> 0.040555688 | P14: 16570447553
B15: هزينـــــه هاي استــــــهلاك | F15: 2771.62 | H15: 2245.5635 | J15: =F15/1000000 -> 0.00277162 | L15: =H15/1000000 -> 0.0022455635 | N15: =F15+'6'!M21 -> 379702.2 | P15: =P13-P14 -> 406200000
B16: سهم از هزینه های مراکز خدماتی | D16: 7-4 | F16: 144743 | H16: 111159.33 | J16: =F16/1000000 -> 0.144743 | L16: =H16/1000000 -> 0.11115933 | N16: 335286673756 | P16: =N15-N16 -> -3.3528629e+11
B17: ســـاير | D17: 6-6 | F17: 16976.648 | H17: 22659.062 | J17: =F17/1000000 -> 0.016976648 | L17: =H17/1000000 -> 0.022659062 | N17: 16603091303 | P17: =P15-P16 -> 3.3569249e+11
F18: =SUM(F9:F17) -> 335863.36 | H18: =SUM(H9:H17) -> 319168.42 | N18: ='صورت سود و زيان'!P13 -> 1.5812468e+12
N19: =N17+N18 -> 1.5978499e+12
B20: 7-1- علیرغم افزایش حقوق و مزایا به شرح یادداشت 1-6 ، کاهش مبلغ مذکور نسبت به سال قبل ناشی از بازنشستگی 4 نفر کارمندان اداری در شش ماهه اول سال جاری می‌باشد. | J20: 7-1- افزایش مبلغ مذکور نسبت به سال قبل ناشی از افزایش دستمزد سالیانه می باشد.
B22: 7-2- افزایش مبلغ مذکور نسبت به سال قبل ناشی از افزایش دستمزد سالیانه می باشد. | J22: 7-1- افزایش مبلغ مذکور نسبت به سال قبل ناشی از افزایش دستمزد سالیانه می باشد.
B24: 7-3- افزایش هزینه خدمات قراردادی عمدتاً ناشی از قراردادهای جدید منعقده در آخر سال قبل و سال جاری و افزایش سطح عمومی قیمت ها در سال جاری نسبت به سال قبل می باشد.
B26: 7-4- هزینه های مشترک و قابل تقسیم مراکز خدماتی بر اساس درصدهای تعیین شده در سیستم بهای تمام شده (نسبت به سال قبل تغییر عمده ای نداشته ) تسهیم گردیده است. افزایش هزینه های مذکور نسبت به سال قبل عمدتاً ناشی از افزایش سطح عمومی قیمت ها در سال جاری می باشد.
B28: 8- سایر درآمدها
D30: يادداشت | F30: =F7 -> 1399 | H30: =H7 -> 1398
F31: میلیون ريـــال | H31: میلیون ريـــال
B32: خسارت وارده به منابع آب های زیرزمینی | D32: 8-1 | F32: 317936.49 | H32: 267607.83 | L32: =F32/1000000 -> 0.31793649 | N32: =H32/1000000 -> 0.26760783
B33: درآمد اجاره بستر رودخانه ها | D33: 8-2 | F33: 15231.96 | H33: 3940.0278 | L33: =F33/1000000 -> 0.01523196 | N33: =H33/1000000 -> 0.0039400278
B34: درآمد اجاره حق استفاده از دریاچه سدها جهت پرورش ماهی | F34: 1695.5096 | H34: 3134.691 | L34: =F34/1000000 -> 0.0016955096 | N34: =H34/1000000 -> 0.003134691
B35: سایر (عمدتاً اجاره مخزن سدها و چاه و جمع آوری منصوبات چاهها) | F35: 5509 | H35: 10629.581 | L35: =F35/1000000 -> 0.005509 | N35: =H35/1000000 -> 0.010629581
F36: =SUM(F32:F35) -> 340372.96 | H36: =SUM(H32:H35) -> 285312.13
B38: 8-1- مبلغ مذکور در رعایت ماده 45 قانون توزیع عادلانه آب، خسارت برداشت غیر مجاز ( اعم از چاه های غیر مجاز و مازاد بر پروانه بهره برداری ) مطابق روند اجرایی مربوطه تعیین، دریافت و در حساب ها منظور شده است. افزایش درآمد نسبت به سال قبل عمدتاٌ ناشی از افزایش آن بابت کنترل بیشتر بر چاه ها در راستای جلوگیری از برداشت غیر مجاز از چاه های آب سطح استان و نظارت مستمر و بیشتر از منابع آب های زیرزمینی در قالب طرح احیاء و تعادل بخشی بوده است.
B40: 8-2- مبلغ مذکور بابت حق استفاده و بهره برداری از منافع اراضی واقع در رودخانه های سطح شهرستان های تابعه (اجاره اراضی بستر و حریم رودخانه ها و فروش شن و ماسه ) می‌باشد.
B43: 13

Sheet 9-11
B1: شركت سهامي آب منطقه اي خراسان رضوي
B2: يادداشت هاي توضيحي صورت هاي مالي
B3: سال مالی منتهی به 30 اسفند 1399
B5: 9- سایر هزینه ها
E7: يادداشت | G7: ='7-8'!F7 -> 1399 | I7: 1398
G8: میلیون ريـــال | I8: میلیون ريـــال
B9: هزینه های جذب نشده تولید | E9: 9-1 | G9: ='6'!G23 -> -38351 | I9: ='6'!O23 -> -29150.597 | L9: =F9/1000000 -> 0
B10: هزینه آرای قضایی علیه شرکت | E10: 9-2 | G10: -13347.733 | I10: 0 | L10: =G10/1000000 -> -0.013347733
G11: =SUM(G9:G10) -> -51698.732 | I11: =SUM(I9:I10) -> -29150.597
B13: 9-1- مبلغ مذکور بابت تفکیک هزینه عدم استفاده موثر از نیروی کار و هزینه های ثابت سربار تولیدی از هزینه های بهای تمام شده آب در خصوص سدهایی است که فاقد تولید آب می باشد. افزایش هزینه فوق ناشی از سدهای شهید دهقان، اسجیل و شهید مدرس می‌باشد که در سال جاری فاقد آب بوده اند,
B15: 9-2- بر اساس آرای صادره بر علیه شرکت توسط دادگستری استان خراسان رضوی در خصوص پرداخت خسارت قطع درختان و تخریب تاسیسات و زراعت و آسیب به باغ خواهان (آقای سید حسن کریمی) به مبلغ 6،259 میلیون ریال و همچنین پرداخت خسارت ناشی از تخریب زراعت و آسیب به مزارع خواهان (آقای علی جعفری و سایرین ) به مبلغ 6،028 میلیون ریال و سایر اشخاص به مبلغ 1،061 میلیون ریال ( جمعاً به مبلغ 13،348 میلیون ریال) به عنوان ذخیره (یادداشت23) در حساب ها انعکاس یافته و با توجه به اعتراض شرکت موضوع در دست بررسی می باشد.
B17: 10 - سـايـر درآمـدهـا و هزینه های غيرعملياتي
E19: يادداشت | G19: =G7 -> 1399 | I19: 1398
G20: میلیون ريـــال | I20: میلیون ريـــال
B21: درآمد مجموعه فرهنگي و ورزشي | E21: 10-1 | G21: 3308 | H21: 0 | I21: 19373.435 | L21: =G21/1000000 -> 0.003308 | M21: =H21/1000000 -> 0 | N21: =I21/1000000 -> 0.019373435 | O21: =J21/1000000 -> 0
B22: هزینه مالیات بر ارزش افزوده | E22: 10-2 | G22: -253677 | I22: 0 | L22: =G22/1000000 -> -0.253677
B23: سود ( زیان ) ناشی از فروش یا برکناری دارایی های ثابت | E23: 12-7 | G23: 1753 | H23: 0 | I23: 2257.7794 | L23: =G23/1000000 -> 0.001753 | M23: =H23/1000000 -> 0 | N23: =I23/1000000 -> 0.0022577794 | O23: =J23/1000000 -> 0
B24: ســـــايـــــــــر | G24: 2967 | H24: 0 | I24: 926.12806 | L24: =G24/1000000 -> 0.002967 | M24: =H24/1000000 -> 0 | N24: =I24/1000000 -> 0.00092612806 | O24: =J24/1000000 -> 0
G25: =SUM(G21:G24) -> -245649 | I25: =SUM(I21:I24) -> 22557.342 | L25: -5.416355 | M25: 24-2- بر اساس برگه های قطعی و مطالبه دریافتی از سازمان امورمالیاتی از ابتدای اجرای قانون مالیات بر ارزش افزوده تا پایان سال 1395 به ترتیب مبلغ 3.451 میلیون ریال به هزینه قطعی و 42.515 میلیون ریال به عنوان ذخیره ( یادداشت 11 ) در حساب ها انعکاس یافته و با توجه به اعتراض شرکت موضوع در دست بررسی می باشد.
M26: 24-1-3-2- مانده فوق شامل مبلغ 193.339 میلیون ریال اصل مبلغ عوارض و مالیات بر ارزش افزوده از ابتدای سه ماهه دوم سال 1389 تا پایان سال 1397 و تامین ذخیره به مبلغ 42،515 میلیون ریال در سال 1397 بر اساس برگه‌های قطعی ابلاغی توسط سازمان امور مالیاتی تا پایان سال 1395 می باشد. در راستای اعتراض شرکت، هیئت حل اختلاف مالیاتی در تاریخ 1400/01/18 اقدام به صدور رای نموده و ماخذ مشمول مالیات و اعتبارات رسیدگی شده طبق رای های قطعی برای دوره های مذکور را عیناً تایید نموده است. که شرکت به دلیل معترض بودن به رای صادره ، ضمن ارجاع شکایت به شورای عالی مالیاتی که در دست بررسی می‌باشد، معادل مبالغ جرایم مطالبه شده طیق برگه های قطعی ابلاغی، ذخیره در سال جاری شناسایی و ثبت نموده است. همچنین بابت سال های 1396 و 1397 بر اساس برگه های قطعی و مطالبه ابلاغی که نسبت به آن اعتراض شده معادل اصل و جرایم مبالغ عوارض و مالیات بر ارزش افزوده بالغ بر 65،452 میلیون ریال و در مجموع 104،414 میلیون ریال بابت دوره های مذکور در سال جاری ذخیره در دفاتر انعکاس یافته است. توضیحات کاملتر در یادداشت 2-10 ارائه شده است.
B27: 10-1- مبلغ مذكور عمدتاً درآمد استخر و اجاره سالن ورزشی است كه مورد استفاده پرسنل و برخي شركت ها مي باشد که کاهش مبلغ مذکور ناشی از عدم انعقاد قراردادهای جدید می باشد.
B29: 10-2- بر اساس برگه های قطعی و اجرایی ابلاغی از سازمان امور مالیاتی مربوط به دوره های سه ماهه دوم سال 1389 تا پایان سال 1397 جمعاً مبلغ 296،192 میلیون ریال بابت اصل و جرایم عوارض و مالیات بر ارزش افزوده مطالبه شده که باتوجه به انعکاس مبلغ 42،515 میلیون ریال بابت اصل عوارض و مالیات بر ارزش افزوده مطالبه شده در دفاتر سال 1397 ، در سال جاری نیز مبلغ 253،677 میلیون ریال بابت جرایم مطالبه شده به عنوان ذخیره (به شرح یادداشت 2-3-1-23) در حساب ها انعکاس یافته است. | L29: 10-2- در سال جاری بر اساس برگه های قطعی و مطالبه قطعی دریافتی از سازمان امور مالیاتی مربوط به سال های 1389 الی 1396 مبلغ 53.664 میلیون ریال بابت جرایم مطالبه شده به عنوان ذخیره (به شرح یادداشت 24) در حساب ها انعکاس یافته و با توجه به اعتراض شرکت موضوع در دست بررسی می باشد. شایان ذکر است بابت سال های مذکور در دفاتر سال 1397 مبلغ 42،515 میلیون ریال بابت اصل عوارض و مالیات بر ارزش افزوده مطالبه شده در سرفصل ذخیره انعکاس یافته بوده است.
B31: 11- کمک های دریافتی از دولت بابت جبران زیان | L31: 26- تعدیلات سنواتی
O32: يادداشت | Q32: 1397 | S32: 1396
