Workbook

Sheet مجمع 
A7: مجمع عمومي عادي صاحبان سهام
A9: با احترام
B10: به پيوست صورتهاي مالي شركت سهامي آب منطقه اي خراسان رضوی مربوط به سال مالي منتهي به 29 اسفند ماه 1396
B11: تقدیم مي شود . اجزاي تشكيل دهنده صورتهاي مالي به قرار زير است :
J12: شماره صفحه
B13: ترازنامه | J13: 2
B14: صورت سود و زيان | J14: 3
B15: گردش حساب زيان انباشته | J15: 3
B16: صورت جريان وجوه نقد | J16: 4
B17: يادداشتهاي توضيحي :
C18: تاريخچه و فعاليت | J18: 5
C19: اهم رويه هاي حسابداري | J19: 7 - 5
C20: يادداشتهاي مربوط به اقلام مندرج در صورتهاي مالي و ساير اطلاعات مالي | J20: 8-30
C21: صورت وضعیت مالی ترکیبی طرحهای تملک داراییهای سرمایه ای(پیوست1) | J21: 31
C22: گزارش تطبیق عملکرد با بودجه اصلاحی مصوب (پیوست 2) | J22: 32-33
B24: صورتهاي مالي براساس استانداردهاي حسابداري تهيه شده و در تاريخ 1397/01/26به تأييد هيأت مديره شرکت رسيده است .
B27: نام اعضاي هيأت مديره | F27: سمت | J27: امضا
B28: محمد حسین جعفری | F28: رئيس هيات مديره و مدیر عامل
B29: علیرضا طاهری | F29: عضو موظف هیات مدیره
B30: علیرضا عامری | F30: عضو موظف هیات مدیره
B31: مسعود محمدی | F31: عضو موظف هیات مدیره
B32: محمدعلی نعمت نژاد | F32: عضو موظف هیات مدیره
A33: 1

Sheet مجمع  (2)
B4: مجمع عمومي عادي صاحبان سهام
B6: با احترام
B7: به پيوست صورت هاي مالي شركت سهامي آب منطقه اي خراسان رضوی مربوط به سال مالي منتهي به 30 اسفند 1399 تقدیم مي شود . اجزاي تشكيل دهنده صورت هاي مالي به قرار زير است :
J9: شماره صفحه
B10: صورت سود و زيان | J10: 2
B11: صورت وضعیت مالی | J11: 3
B12: صورت تغییرات در حقوق مالکانه | J12: 4
B13: صورت جريان های نقدی | J13: 5
B14: يادداشت هاي توضيحي | J14: 6-33
B15: تطبیق عملکرد با بودجه مصوب - پیوست یک | J15: 34-35
B16: صورت وضعیت طرح های تملک دارایی های سرمایه ای - پیوست دو | J16: 36 | N16: خالص آثار مالی ناشی از ارائه خدمات و کالا به قیمت تکلیفی - پیوست سه | V16: 36
N17: جزء (8) بند{ی} تبصره 2 قانون بودجه سال 1400 - پیوست سه
A20: صورت هاي مالي بر اساس استانداردهاي حسابداري تهيه شده و در تاريخ 1400/02/15 به تأييد هيأت مديره شرکت رسيده است .
B22: اعضاي هيأت مديره | F22: سمت | J22: امضا
B23: محمد علایی | F23: رئيس هيات مديره و مدیر عامل
B24: علیرضا طاهری | F24: عضو موظف هیات مدیره
B25: علیرضا عامری | F25: عضو موظف هیات مدیره
B26: محمدعلی نعمت نژاد | F26: عضو موظف هیات مدیره
B27: مسعود محمدی | F27: عضو غیر موظف هیات مدیره

Sheet صورت سود و زيان
B1: شركت سهامي آب منطقه اي خراسان رضوي
B2: صورت سود و زیان
B3: سال مالی منتهی به 30 اسفند 1399
E5: سال 1399 | G5: (تجدید ارائه شده) | I5: (تجدید ارائه شده) | K5: (تجدید ارائه شده)
C6: يادداشت | G6: ســــــال 1398 | I6: ســــــال 1397 | K6: ســــــال 1396
E7: میلیون ريـــال | G7: میلیون ريـــال | I7: میلیون ريـــال | K7: ريـــال
B8: درآمدهای عملیاتی | C8: 5 | E8: ='5'!I13 -> 1291567.8 | G8: ='5'!M13 -> 891277.5 | I8: =812164+24202 -> 836366 | K8: 548275928090 | L8: =K8/G8 -> 615157.38
B9: بهاي تمام شده درآمدهای عملیاتی | C9: 6 | E9: =-'6'!M25 -> -1159721.1 | G9: =-'6'!U25 -> -885829.34 | I9: =-675489 -> -675489 | K9: 858652443488 | L9: =K9/G9 -> -969320.39
B10: سود ناخالص | E10: =SUM(E8:E9) -> 131846.74 | G10: =SUM(G8:G9) -> 5448.1616 | I10: =SUM(I8:I9) -> 160877 | K10: =K8-K9 -> -310376515398 | L10: =K10/G10 -> -56969036 | S10: 1634272
B11: هزينه هاي فروش، اداري و عمومي | C11: 7 | E11: =-'7-8'!F18 -> -335863.36 | G11: =-'7-8'!H18 -> -319168.42 | I11: -229392 | K11: -210484141733 | L11: =K11/G11 -> 659476.72 | P11: 1581248366782 | S11: =E8+E12+E15+E16 -> 1401791.8
B12: سایردرآمدها | C12: 8 | E12: ='7-8'!F36 -> 340372.96 | G12: ='7-8'!H36 -> 285312.13 | I12: =133495 -> 133495 | K12: 96297248543 | L12: =K12/G12 -> 337515.44 | P12: =E9+E11+E13 -> -1547283.2 | S12: 1569419799266
B13: سایر هزینه ها | C13: 9 | E13: ='9-11'!G11 -> -51698.732 | G13: ='9-11'!I9 -> -29150.597 | I13: =-23551 -> -23551 | K13: 0 | L13: =K13/G13 -> 0 | P13: =P11+P12 -> 1.5812468e+12 | S13: =S11-S12 -> -1.5694184e+12
B14: سود (زیان) عملياتي | E14: =SUM(D10:E13) -> 84657.606 | G14: =SUM(F10:G13) -> -57558.723 | I14: =SUM(H10:I13) -> 41429 | K14: =SUM(H10:K13) -> -424563367159 | L14: =K14/G14 -> 7376177.6
B15: سایر درآمدها و هزینه های غیرعملیاتی | C15: 10 | E15: ='9-11'!G25 -> -245649 | G15: ='9-11'!I25 -> 22557.342 | I15: 15717 | K15: -28317477963 | L15: =K15/G15 -> -1255355.2 | S15: =S10-S11 -> 232480.24
B16: کمک های دریافتی از دولت بابت جبران زیان | C16: 11 | E16: 15500 | G16: 13750 | I16: 17700 | K16: 25000000000 | L16: =K16/G16 -> 1818181.8
B17: سود (زیان) خالص | E17: =SUM(E14:E16) -> -145491.39 | G17: =SUM(G14:G16) -> -21251.381 | I17: =SUM(I14:I16) -> 74846 | K17: =SUM(K14:K16) -> -427880845122 | L17: =K17/G17 -> 20134261
B18: جزء (8) بند(ی)تبصره 2 قانون بودجه سال 1400 کل کشور | C18: 29 | E18: ='29'!V15 -> 118006122 | G18: ='29'!V24 -> 148271158
B21: یادداشت های توضیحی، بخش جدایی ناپذیر صورت های مالی است .
B33: 2
B41: 3

Sheet صورت وضعیت مالی
B1: شرکت سهامی آب منطقه ای خراسان رضوی
B2: صورت وضعیت مالی
B3: در تاریخ 30 اسفند 1399
H4: (تجدید ارائه شده) | J4: (تجدید ارائه شده)
D5: يادداشت | F5: 1399/12/30 | H5: 1398/12/29 | J5: 1398/01/01 | L5: 1398/01/01
B6: دارايي ها | F6: میلیون ريـــال | H6: میلیون ريـــال | J6: میلیون ريـــال | L6: میلیون ريـــال
B7: دارایی های غيرجاري
B8: دارایی های ثابت مشهود | D8: 12 | F8: ='دارایی ثابت 1'!W31 -> 8313339.4 | H8: ='دارایی ثابت 1'!W32 -> 8511825.8 | J8: =L8/1000000 -> 7876133 | L8: 7876133013554 | P8: =F8-H8 -> -198486.37
B9: دارایی های نامشهود | D9: 13 | F9: ='13'!K25 -> 18713.546 | H9: ='13'!K23 -> 18677.546 | J9: =L9/1000000 -> 18539.294 | L9: 18539293755 | P9: =F9-H9 -> 36
B10: دریافتنی های بلند مدت | D10: 14-2 | F10: ='14-2'!E33 -> 46650 | H10: ='14-2'!G33 -> 6007.65 | J10: =L10/1000000 -> 6666.1285 | L10: 6666128464 | P10: =F10-H10 -> 40642.35
B11: ساير دارايي ها | F11: 0 | H11: 0 | J11: =L11/1000000 -> 0 | L11: 0 | P11: =F11-H11 -> 0
B12: جمع دارایی های غيرجاري | F12: =SUM(F8:F11) -> 8378703 | H12: 8536512 | J12: =L12/1000000 -> 7901338.4 | L12: =SUM(L8:L11) -> 7901338435773 | P12: =F12-H12 -> -157809.05
P13: =F13-H13 -> 0
B14: دارایي هاي جاري | P14: =F14-H14 -> 0
B15: دريافتني های تجاري و سایر دریافتنی ها | D15: 14 | F15: ='14'!I34 -> 2753899 | H15: ='14'!K34 -> 2084101.4 | J15: =L15/1000000+24202 -> 1792175.1 | L15: 1767973091246 | P15: =F15-H15 -> 669797.55
B16: پیش پرداخت ها | D16: 15 | F16: ='15-19'!E17 -> 19094 | H16: ='15-19'!G17 -> 10867.311 | J16: =L16/1000000 -> 6583.289 | L16: 6583289024 | P16: =F16-H16 -> 8226.6894
B17: موجودی مواد و کالا | D17: 16 | F17: 10135 | H17: 4369 | J17: =L17/1000000 -> 5448.1466 | L17: 5448146639 | P17: =F17-H17 -> 5766
B18: موجودي نقد | D18: 17 | F18: ='15-19'!E33 -> 49203 | H18: ='15-19'!G33 -> 67241.655 | J18: =L18/1000000+0.5 -> 26970.509 | L18: 26970009257 | P18: =F18-H18 -> -18038.655
B19: جمع دارایی های جاري | F19: =SUM(F15:F18) -> 2832331 | H19: =SUM(H15:H18) -> 2166579.4 | J19: =SUM(J15:J18) -> 1831177 | L19: =SUM(L15:L18) -> 1806974536166 | P19: =F19-H19 -> 665751.59
B20: جمع دارايي ها | F20: =F19+F12 -> 11211034 | H20: =H19+H12 -> 10703091 | J20: =J19+J12 -> 9732515.5 | L20: =L19+L12 -> 9708312971939 | P20: =F20-H20 -> 507942.54
P21: =F21-H21 -> 0
B22: حقوق عمومی، حقوق مالکانه و بدهی ها | P22: 0
B23: حقوق عمومي | D23: 18 | F23: 18333 | H23: 18333 | J23: =L23/1000000 -> 18332.83 | L23: 18332830265 | P23: =F23-H23 -> 0
B24: حقوق مالکانه | P24: =F24-H24 -> 0
B25: سرمايه | D25: 19 | F25: 7671699 | H25: 7671699 | J25: =L25/1000000 -> 7671699.4 | L25: 7671699390000 | P25: =F25-H25 -> 0
B26: کاهش سرمایه در جریان | D26: 20 | F26: -1846470 | H26: -1846470 | J26: =L26/1000000 -> -1846470.4 | L26: -1846470390402 | P26: =F26-H26 -> 0
B27: وجوه قابل انتقال به سرمایه | D27: 21 | F27: ='20-22'!I16 -> 4467673 | H27: ='20-22'!K16 -> 2031489.4 | J27: =(L27/1000000)+932+96600 -> 1796094.7 | L27: 1698562657289 | P27: =F27-H27 -> 2436183.6
B28: اندوخته قانوني | D28: 22 | F28: 10 | H28: 10 | J28: =L28/1000000 -> 10 | L28: 10000000 | P28: =F28-H28 -> 0
B29: زيان انباشته | F29: ='صورت تغییرات در حقوق مالکانه'!N23 -> -3457593.4 | H29: ='صورت تغییرات در حقوق مالکانه'!N17 -> -3312102 | J29: ='صورت تغییرات در حقوق مالکانه'!N12 -> -3290851 | L29: -3315055668713 | P29: =F29-H29 -> -145491.39
B30: جمع حقوق مالکانه | F30: =SUM(F25:F29) -> 6835318.6 | H30: =SUM(H25:H29) -> 4544626.4 | J30: =SUM(J25:J29) -> 4330482.7 | L30: =SUM(L25:L29) -> 4208745988174 | P30: =F30-H30 -> 2290692.2
B31: بدهی ها | P31: =#REF!-#REF! -> #REF!
B32: بدهی های غير جاري
B33: پرداختني های بلند مدت | D33: 23-2 | F33: ='23.2'!I13 -> 1988400.7 | H33: ='23.2'!K13 -> 4363621.5 | J33: =L33/1000000-96600 -> 3697029.9 | L33: 3793629939051 | P33: =F33-H33 -> -2375220.8
B34: پيش دريافت های بلند مدت | D34: 24 | F34: ='24'!I22 -> 98948 | H34: ='24'!K22 -> 158721.91 | J34: =L34/1000000-0.5 -> 100584.27 | L34: 100584765957 | P34: =F34-H34 -> -59773.907
B35: ذخيره مزاياي پايان خدمت كاركنان | D35: 25 | F35: ='25-26'!S12 -> 136522.32 | H35: ='25-26'!U12 -> 130031.46 | J35: =L35/1000000-0.5 -> 91158.044 | L35: 91158544049 | P35: =F35-H35 -> 6490.8555
B36: جمع بدهی های غير جاري | F36: =SUM(F33:F35) -> 2223871 | H36: =SUM(H33:H35) -> 4652374.9 | J36: =SUM(J33:J35) -> 3888772.2 | L36: =SUM(L33:L35) -> 3985373249057 | P36: =F36-H36 -> -2428503.9
B37: بدهی های جاري | P37: =F37-H37 -> 0
B38: پرداختنی های تجاری و سایر پرداختنی ها | D38: 23 | F38: ='23'!H30 -> 2039133 | H38: ='23'!J30 -> 1481732 | I38: 2 | J38: =L38/1000000+1 -> 1435629.5 | L38: 1435628532068 | P38: =F38-H38 -> 557401
B39: پيش دريافت ها | D39: 24 | F39: ='24'!E22 -> 94378 | H39: ='24'!G22 -> 6024.8035 | J39: =59300-2 -> 59298 | L39: 59299996919 | P39: =F39-H39 -> 88353.196
B40: مالیات پرداختنی | D40: 26 | F40: 0 | H40: 0 | J40: =L40/1000000 -> 0 | L40: 0 | O40: =F20-F43 -> 0.34212 | P40: =F40-H40 -> 0 | Q40: 0
B41: جمع بدهي هاي جاري | F41: =SUM(F38:F40) -> 2133511 | H41: =SUM(H38:H40) -> 1487756.8 | J41: =SUM(J38:J40) -> 1494927.5 | L41: =SUM(L38:L40) -> 1494928528987 | P41: =F41-H41 -> 645754.2
B42: جمع بدهي ها | F42: =F41+F36 -> 4357382 | H42: =H41+H36 -> 6140131.7 | J42: =J41+J36 -> 5383699.8 | L42: =L41+L36 -> 5480301778044 | P42: =F42-H42 -> -1782749.7 | S42: =F39+F34 -> 193326
B43: جمع حقوق عمومی، حقوق مالکانه و بدهي ها | F43: =F42+F30+F23 -> 11211034 | H43: =H42+H30+H23 -> 10703091 | J43: =J42+J30+J23 -> 9732515.3 | L43: =L42+L30+L23 -> 9707380596483 | P43: =F43-H43 -> 507942.5
B44: طرف حساب طرح های تملک دارایی های سرمایه ای ( پیوست 1 ) | F44: ='صورت وضعیت مالی طرحها'!J21 -> 5840632 | H44: ='صورت وضعیت مالی طرحها'!L21 -> 4729488 | L44: 7519264539388 | P44: 0
B47: یادداشت های توضیحی، بخش جدایی ناپذیر صورت های مالی است.
P48: ='14'!E27+'14-2'!E32 -> -19847
B49: 3 | P49: =F20 -> 11211034
F50: =F20-F43 -> 0.34212 | H50: =H20-H43 -> 0.301732 | I50: =I20-I43 -> 0 | J50: =J20-J43 -> 0.203662 | L50: =L20-L43 -> 932375456 | P50: =P48-P49 -> -11230881

Sheet صورت تغییرات در حقوق مالکانه
B1: شركت سهامي آب منطقه اي خراسان رضوي
B2: صورت تغییرات در حقوق مالکانه
B3: سال مالی منتهی به 30 اسفند 1399
F5: سرمایه | H5: کاهش سرمایه در جریان | J5: وجوه قابل انتقال به سرمایه | L5: اندوخته قانونی | N5: سود (زیان) انباشته | P5: جمع کل
F6: میلیون ريـــال | H6: میلیون ريـــال | J6: میلیون ريـــال | L6: میلیون ريـــال | N6: میلیون ريـــال | P6: میلیون ريـــال
B7: مانده در 1397/01/01 | F7: ='صورت وضعیت مالی'!J25 -> 7671699.4 | H7: ='صورت وضعیت مالی'!J26 -> -1846470.4 | J7: ='صورت وضعیت مالی'!J27 -> 1796094.7 | L7: ='صورت وضعیت مالی'!J28 -> 10 | N7: =-3468513-275000 -> -3743513 | P7: =SUM(F7:O7) -> 3877820.7 | S7: =1698563+932 -> 1699495
B8: اصلاح وجوه دریافتی بابت طرح های خاتمه یافته غیرانتفاعی( یادداشت 27 ) | F8: 0 | H8: 0 | J8: 96600 | L8: 0 | N8: 0 | P8: =SUM(F8:O8) -> 96600
B9: اصلاح اشتباهات ( یادداشت 27 ) | F9: 0 | H9: 0 | J9: 0 | L9: 0 | N9: ='27-28'!K40 -> 275000 | P9: =SUM(F9:O9) -> 275000
B10: مانده در 1398/01/01 | F10: ='صورت وضعیت مالی'!H25 -> 7671699 | H10: ='صورت وضعیت مالی'!H26 -> -1846470 | J10: ='صورت وضعیت مالی'!H27-235394 -> 1796095.4 | L10: ='صورت وضعیت مالی'!H28 -> 10 | N10: =SUM(N7:N9) -> -3468513 | P10: =SUM(F10:O10) -> 4152821.4
B11: اصلاح اشتباهات ( یادداشت 27 ) | F11: 0 | H11: 0 | J11: 0 | L11: 0 | N11: =153460+24202 -> 177662 | P11: =SUM(N11:O11) -> 177662
B12: مانده تجدید ارائه شده در 1398/01/01 | F12: =SUM(F10:F11) -> 7671699 | H12: =SUM(H10:H11) -> -1846470 | J12: =SUM(J10:J11) -> 1796095.4 | L12: =SUM(L10:L11) -> 10 | N12: =SUM(N10:N11) -> -3290851 | P12: =SUM(P10:P11) -> 4330483.4
B13: تغییرات حقوق مالکانه در سال 1398
B14: سود خالص گزارش شده در صورت های مالی سال 1398 | F14: 0 | H14: 0 | J14: 0 | L14: 0 | N14: -46320 | P14: =SUM(N14:O14) -> -46320
B15: اصلاح اشتباهات ( یادداشت 27 ) | F15: 0 | H15: 0 | J15: 0 | L15: 0 | N15: ='27-28'!O12 -> 25069 | P15: =SUM(N15:O15) -> 25069
B16: وجوه مصرف شده در طرح ها و پروژه های خاتمه یافته غیر انتقاعی ( یادداشت 1-21 ) | F16: 0 | H16: 0 | J16: 235394 | L16: 0 | N16: 0 | P16: =SUM(F16:O16) -> 235394
B17: مانده تجدید ارائه شده در 1398/12/29 | F17: =SUM(F12:F16) -> 7671699 | H17: =SUM(H12:H16) -> -1846470 | J17: =SUM(J12:J16) -> 2031489.4 | L17: =SUM(L12:L16) -> 10 | N17: =SUM(N12:N16) -> -3312102 | P17: =SUM(P12:P16) -> 4544626.4
B18: تغییرات حقوق مالکانه در سال 1399
B19: زیان خالص سال 1399 | F19: 0 | H19: 0 | J19: 0 | L19: 0 | N19: ='صورت سود و زيان'!E17 -> -145491.39 | P19: =SUM(N19:O19) -> -145491.39
B20: وجوه مصرف شده در طرح ها و پروژه های خاتمه یافته غیر انتقاعی ( یادداشت 1-21 ) | F20: 0 | H20: 0 | J20: 2406000 | L20: 0 | N20: 0 | P20: =SUM(F20:O20) -> 2406000
B21: وجوه قابل انتقال به سرمایه ( یادداشت 1-21 ) | F21: 0 | H21: 0 | J21: 30184 | L21: 0 | N21: 0 | P21: =SUM(F21:O21) -> 30184
B22: اصلاح اشتباهات | D22: 28 | F22: 0 | H22: 0 | J22: 0 | L22: 0 | N22: 0 | P22: =SUM(N22:O22) -> 0
B23: مانده در 1399/12/30 | F23: =SUM(F17:F22) -> 7671699 | H23: =SUM(H17:H22) -> -1846470 | J23: =SUM(J17:J22) -> 4467673.4 | L23: =SUM(L17:L22) -> 10 | N23: =SUM(N17:N22) -> -3457593.4 | P23: =SUM(P17:P22) -> 6835319
S26: 3457596
B27: یادداشت های توضیحی، بخش جدایی ناپذیر صورت های مالی است.
S30: =N23+S26 -> 2.606096
B32: 4
J34: 2297389
J35: =J21-J34 -> -2267205

Sheet صورت جريان های نقدی
B1: شركت سهامي آب منطقه اي خراسان رضوي
B2: صورت جریان های نقدی
B3: سال مالی منتهی به 30 اسفند 1399
C5: يادداشت | E5: سال 1399 | I5: سال 1398
E6: میلیون ريـــال | G6: میلیون ريـــال | I6: میلیون ريـــال
B7: جریان های نقدی حاصل از فعاليت هاي عملياتي
B8: نقد حاصل از عمليات | C8: 28 | G8: ='27-28'!O66 -> 122501.18 | I8: ='27-28'!Q66 -> 46288.053
B9: کمک های دریافتی از دولت بابت جبران زیان | C9: 11 | G9: ='صورت سود و زيان'!E16 -> 15500 | I9: 13750
B11: بازده سرمایه گذاری‌ها و سود پرداختی بابت تامین مالی:
B12: جريان خالص ورود (خروج) وجه نقد ناشي از بازده سرمایه گذاری‌ها و سود پرداختی بابت تامین مالی | G12: 0 | I12: 0
B14: مالیات بر درآمد:
B15: مالیات بر درآمد پرداختی | G15: 0 | I15: 0
B17: جریان های نقدی حاصل از فعاليت هاي سرمايه گذاري
B18: پرداخت های نقدی بابت خريد دارايي هاي ثابت مشهود | C18: 12 | E18: =(-'دارایی ثابت 1'!W17) -> -123982 | I18: -55661
B19: وجوه حاصل از فروش دارایي هاي ثابت مشهود | E19: 1753 | I19: 2258
B20: پرداخت های نقدی بابت خريد دارايي هاي نامشهود | C20: 13 | E20: =-'13'!G24 -> -36 | I20: -139
B21: جريان خالص ( خروج ) نقد حاصل از فعاليت هاي سرمايه گذاري | G21: =SUM(E18:E20) -> -122265 | I21: =SUM(I18:I20) -> -53542
B22: جريان خالص ورود ( خروج ) نقد قبل از فعاليت هاي تأمين مالي | G22: =G21+G15+G12+G9+G8 -> 15736.175 | I22: =I21+I15+I12+I9+I8 -> 6496.053
B23: جریان های نقدی حاصل از فعالیت‌های تامین مالی:
B24: جريان خالص ورود ( خروج ) نقد حاصل از فعاليت هاي تامین مالی | G24: 0 | I24: 0
B25: خالص افزایش (کاهش) در موجودی نقد | G25: =SUM(G22:G24) -> 15736.175 | I25: =SUM(I22:I24) -> 6496.053
B26: مانده موجودی نقد در ابتدای سال | G26: =I27 -> 33467.053 | I26: 26971
B27: مانده موجودی نقد در پايان سال | G27: =SUM(G25:G26) -> 49203.229 | I27: =SUM(I25:I26) -> 33467.053 | L27: ='صورت وضعیت مالی'!F18 -> 49203 | M27: =G27-L27+0.4 -> 0.628527 | N27: 67242 | O27: =I27-N27 -> -33774.947
B28: معاملات غیر نقدی - دارایی های ثابت مشهود انتقال یافته از طرح های تملک دارایی های سرمایه ای | G28: 57233 | I28: 901986
B31: یادداشت های توضیحی، بخش جدایی ناپذیر صورت های مالی است .
B38: 5

Sheet تاريخچه ص6
B1: شركت سهامي آب منطقه اي خراسان رضوي
B2: يادداشت هاي توضيحي صورت هاي مالي
B3: سال مالی منتهی به 30 اسفند 1399
B5: 1 - تاريخچه و فعاليت
B7: 1 - 1- تاریخچه
B9: شركت سهـامي آب منـطقه اي خراسان رضوي به شناسه ملی 10380126119 بنا به اختيارات حاصل از مـــاده ( 2 ) قانون تاسيـس وزارت نيرو مصوب 1353/11/28 در تاريخ 1355/08/18 تاسيس شده و در تاريخ 1355/11/12 تحـت شماره 1255 در اداره ثبـت اسناد و املاك مشهد به ثبت رسيده و به استناد ماده ( 4 ) قانون برنامه سوم توسعه اقتصادي ، اجتماعي و فرهنگي جمهوري اسلامي ايران مـصوب 1379 و پيشنهاد شماره 69432/20/100 مورخ 1381/12/11 وزارت نيرو و جلـــسات مورخ 1381/12/14 و 1382/02/07 هیات مــحترم وزيران ، تمامی سهام آن به شركت مادر تخصصي مديريت منابع آب ايران واگذار گرديده است. در حال حاضر، شركت سهامي آب منطقه اي خراسان رضوي جزو شرکت های فرعی شرکت مادر تخصصی مدیریت منابع آب ایران است. مرکز اصلی شرکت، مشهد- بلوار خیام جنوبی - خيام 35 می باشد.
B11: طبق مصوبه هیئت واگذاری در سال های 1397 و 1398 شرکت در فهرست شرکت های مشمول واگذاری قرارگرفته است لیکن در اجرای مصوبه شماره 33910/ت56110هـ مورخ 1398/3/25 هیات محترم وزیران موضوع خروج نام شرکت های زیرمجموعه شرکت مادر تخصصی مدیریت منابع آب ایران از شمول واگذاری به بخش خصوصی، کلیه شرکت های زیر مجموعه شرکت مادر تخصصی مدیریت منابع آب ایران از پیوست شماره (2) آیین نامه اجرایی تشخیص، انطباق و طبقه بندی فعالیتها و بنگاه های اقتصادی با هریک از سه گروه اقتصادی مصرح در ماده (2) اصلاح موادی از قانون برنامه چهارم توسعه اقتصادی، اجتماعی و فرهنگی جمهوری اسلامی ایران و اجرای سیاست های کلی اصل44 قانون اساسی موضوع تصویب نامه شماره 115320/ت43181ک مورخ 1388/6/7 به پیوست شماره (1) آیین نامه یاد شده منتقل گردیده و موضوع واگذاری منتفی شده است.
B13: 2 - 1 - فعاليت اصلي
B15: موضوع فعالیت شرکت طبق ماده 7 اساسنامه شرکت عبارت است از: انجام وظایف عملیاتی مدیریتی منابع آب در زمینه شناخت، مطالعه، توسعه، حفاظت، بهره برداری بهینه از منابع آب و همچنین ایجاد و توسعه بهره برداری و نگهداری از تأسیسات و سازه های آبی ( به استثناء تاسيسات و ســـازه های مربوط به آب و فاضلاب ) و برق آبی در چارچوب الزامات و سیاست های مدیـــریت حوضه آبریز و مطالعات جامع و برنامه ريزي توسعه منابع آب، تکالیف مندرج در قوانین و مقررات مربوط به سیاست های وزارت نیرو است. شرکت در سال مالی مورد گزارش به انجام وظایف عملیاتی خود در راستای ماده 7 اساسنامه به شرح فوق و اجرای 12 فقره موافقت نامه مبادله شده با سازمان برنامه و بودجه بوده است.
B17: 3 -1- تعداد کارکنان
B19: تعداد كاركنان در استخدام و نیز تعداد کارکنان شرکت های خدماتی که بخشی از امور خدماتی شرکت را به عهده دارند، در پایان سال به شرح زیر بوده است :
I21: 1399 | K21: 1398
I22: نفر | K22: نفر
C23: رسمی( 4 نفر استخدام کشوری ) | I23: 164 | K23: 190
C24: قراردادی | I24: 59 | K24: 59
C25: کار معین | I25: 27 | K25: 23 | O25: نکات : بابت افزایش 2 نفر در سال جاری مجوز لازم وجود ندارد.
I26: =SUM(I23:I25) -> 250 | K26: =SUM(K23:K25) -> 272
C27: شرکت های خدماتی | I27: 351 | K27: 280
I28: =SUM(I26:I27) -> 601 | K28: =SUM(K26:K27) -> 552
B30: کاهش پرسنل رسمی به تعداد 22 نفر به دلیل بازنشستگی در پایان سال می‌باشد.
B35: 6

Sheet Sheet3
B1: شركت سهامي آب منطقه اي خراسان رضوي
B2: يادداشت هاي توضيحي صورت هاي مالي
B3: برای سال مالی منتهی به 29 اسفند 1397
B5: 1 - تاريخچه و فعاليت
B6: 1 - 1- تاریخچه
B7: شركت سهـامي آب منـطقه اي خراسان رضوي بنا به اختيارات حاصل از مـــاده ( 2 ) قانون تاسيـس وزارت نيرو مصوب 1353/11/28 در تاريخ 1355/8/18 تاسيس شده و در تاريخ 1355/11/12 تحـت شماره 1255 در اداره ثبـت اسناد و املاك مشهد به ثبت رسيده و به استناد ماده ( 4 ) قانون برنامه سوم توسعه اقتصادي ، اجتماعي و فرهنگي جمهوري اسلامي ايران مـصوب 1379 و پيشنهاد شماره 69432/20/100 به تاریخ 1381/12/11 وزارت نيرو در جلـــسات مورخ 1381/12/14 و 1382/2/7 هیات مــحترم وزيران ، تمامی سهام آن به شركت مادر تخصصي مديريت منابع آب ايران واگذار گرديده است. شرکت در حال حاضر جزو واحدهای فرعی شرکت مزبور بوده و محل اصلی آن، مشهد- بلوار خیام جنوبی - خيام 35 می باشد.
B8: شرکت در راستای اصل 44 قانون اساسی طی مصوبه مورخ 1397/2/19 هیأت وزیران مشمول واگذاری به بخش غیر دولتی قرار گرفته است لیکن متعاقباً طبق مصوبه مورخ 1398/03/22 هیأت وزیران, از فهرست بنگاه های مشمول واگذاری خارج گردیده و موضوع واگذاری کان لم یکن تلقی گردیده است. با عنایت به مصوبه شماره 33910/ت56110هـ مورخ 1398/3/25 هیات محترم وزیران، کلیه شرکت های زیر مجموعه شرکت مادر تخصصی مدیریت منابع آب ایران از پیوست شماره 2 آیین نامه اجرایی تشخیص، انطباق و طبقه بندی فعالیتها و بنگاه های اقتصادی با هریک از 3 گروه اقتصادی مصرح در ماده 2 اصلاح موادی از قانون برنامه چهارم توسعه اقتصادی، اجتماعی و فرهنگی جمهوری اسلامی ایران و اجرای سیاست های کلی اصل44 قانون اساسی موضوع تصویب نامه شماره 115320/ت43181ک مورخ 1388/6/7 به پیوست شماره یک آیین نامه یاد شده منتقل گردیده اند.
B10: 2 - 1 - فعاليت اصلي
B11: موضوع فعالیت شرکت طبق ماده 7 اساسنامه شرکت عبارت است از: انجام وظایف عملیاتی مدیریتی منابع آب در زمینه شناخت، مطالعه، توسعه، حفاظت، بهره برداری بهینه از منابع آب و همچنین ایجاد و توسعه بهره برداری و نگهداری از تأسیسات و سازه های آبی ( به استثناء تاسيسات و ســـازه های مربوط به آب و فاضلاب ) و برق آبی در چارچوب الزامات و سیاست های مدیـــریت حوضه آبریز و مطالعات جامع و برنامه ريزي توسعه منابع آب، تکالیف مندرج در قوانین و مقررات مربوط به سیاست های وزارت نیرو است. شرکت در سال مالی مورد گزارش به انجام وظایف عملیاتی خود در زمینه مدیریت بهره برداری بهینه از منابع آب ، ارائه خدمات به مشترکین و شرکت های آب و فاضلاب و نگهداری از تاسیسات و سازه های آبی اقدام نموده است.
B13: 3 -1- تعداد کارکنان
B14: میانگین تعدادكاركنان دراستخدام و نیز تعداد کارکنان شرکت های خدماتی که در بخشی از امور خدماتی شرکت را به عهده دارند، طی سال به شرح زیر بوده است :
G16: 1397 | I16: 1396
G17: نفر | I17: نفر
C18: کارکنان رسمی( 7 نفر استخدام کشوری ) | G18: 209 | I18: 224
C19: کارکنان قراردادی | G19: 59 | I19: 59
C20: جمــــع | G20: =SUM(G18:G19) -> 268 | I20: =SUM(I18:I19) -> 283
C21: کارکنان شرکت های خدماتی | G21: 280 | I21: 283
C22: کارکنان کار معین | G22: 24 | I22: 24
C23: جمــــع کل | G23: =SUM(G20:G22) -> 572 | I23: =SUM(I20:I22) -> 590
B25: کاهش پرسنل رسمی به تعداد 15 نفر و کارکنان شرکت های خدماتی به تعداد 3 نفر به دلیل بازنشستگی پرسنل مذکور در انتهای سال می‌باشد.
B29: 5
B30: 2 - اهم رويه هاي حسابداري
B31: 1- 2 - مبناي تهيه صورت هاي مالي
B32: صورت هاي مالي بر مبناي بهاي تمام شده تاريخي تهيه شده و در خصوص بخشی از دارایی های ثابت مشهود به شرح یادداشت 2-4-2 بر مبنای روش تجدید ارزیابی استفاده شده است .
B34: 2- 2 - موجودي مواد و كالا
B35: بهاي تمام شده مواد و كالا به " اقل بهاي تمام شده و خالص ارزش فروش " هر یک از اقلام اندازه گیری مي شود . در صورت فزوني بهاي تمام شده نسبت به خالص ارزش فروش ، مابه التفاوت به عنوان زیان كاهش ارزش موجودي شناسايي مي شود . بهاي تمام شده موجودي ها با بکارگیری روش ميانگين موزون تعيين مي گردد .
B37: 3- 2 - دارایی های نامشهود
B39: دارایی های نامشهود ، بر مبنای بهای تمام شده اندازه گیری و در حسابها ثبت می شود.
B41: 4 - 2 - دارایي هاي ثابت مشهود
B42: 2-4-1- دارايي هاي ثابت مشهود ( به استثناء موارد مندرج در یادداشت 2-4-2 ) بر مبناي بـهاي تمام شده درحســاب ها ثبـت مي شود. مخـارج بعدی مرتبط با دارایی های ثابت مشهود که موجب بهبود وضعیت دارایی در مقایسه با استاندارد عملکرد ارزیابی شده اولیه آن گردد و منجر به افزایش منافع اقتصادی حاصل از دارایی شود ، به مبلغ دفتری دارایی اضافه و طي عــمر مفيــد باقيمانده دارایي هاي مربوط مستهلك مي شود. مخارج روزمره تعمیر و نگهداري دارایی ها كه به منظور حفظ وضعیت دارایی در مقایسه با استــاندارد عملكرد ارزيابي شده اوليه دارايي انجام مي شود ، در زمان وقوع به عنوان هزينه شناسایی مي گردد.
B43: 2-4-2- زمین، ساختمان، تاسیسات و تجهیزات شرکت بر مبنای تجدید ارزیابی در حساب ها انعکاس یافته است. تجدید ارزیابی در اجرای آئین نامه اجرایی جزء ( ب ) بند 78 قانون بودجه سال 1390 کل کشور در سال 1391 صورت پذیرفته و مبلغ 7.404.020 میلیون ریال مازاد تجدید ارزیابی طبق مصوبه مجمع عمومی فوق العاده مورخ 1391/07/16بابت افزایش سرمایه منظور شده و طی نامه شماره 139330406185018357 مورخ 1393/12/23 در روزنامه رسمی کشور به ثبت رسیده است .
B45: 2-4-3- استهلاك دارایي هاي ثابت مشهود با توجه به الگوی مصرف منافع اقتصادی آتی مورد انتظار دارایی های مربوط و با در نظر گرفتن آیین نامه استهلاکات موضوع ماده 149 اصلاحی قانون ماليات هاي مستقيم مصوب تیر ماه 1394 و مقررات و ضوابط اجرایی آن و براساس نرخ ها و روش هاي زير محاسبه مي شود :
B47: دارايــــــــي | G47: نـــــرخ استهلاك | J47: روش استهلاك
B48: تاسيـسات - ســـدها | G48: 10، 20، 25، 30 تا 100 | H48: ساله | J48: خــــــط مستقيــــــــم
B49: جاده ها | G49: 10 و 40 | H49: ساله | J49: خــــــط مستقيــــــــم
B50: چـــــــاه ها | G50: 8 | H50: ساله | J50: خــــــط مستقيــــــــم
B51: لـولـه هـاي اصلي آب | G51: 25 ، 15 و30 | H51: ساله | J51: خــــــط مستقيــــــــم
B52: ســـاختــــــمان ها | G52: 15 و 25 | H52: ساله | J52: خــــــط مستقيــــــــم
B53: ماشین آلات و تجـهيــزات | G53: 5 ،10، 15 و 25 | H53: ساله | J53: خــــــط مستقيــــــــم
B54: وسایل نقليه | G54: 6 | H54: ساله | J54: خــــــط مستقيــــــــم
B55: اثاثه و منصوبات | G55: 10،5و 15 | H55: ساله | J55: خــــــط مستقيــــــــم
B56: ابزارآلات و لوازم فنی | G56: 10،5و 15 | H56: ساله | J56: خــــــط مستقيــــــــم
B62: 6
B63: 2-4-3-1- استهلاک تغذیه مصنوعی و شبکه های آبیاری که در جدول استهلاک موضوع ماده 149 قانون مالیات های مستقیم پیش بینی نشده است بر اساس مدت 30 سال به روش خط مستقیم محاسبه می شود. برای دارایی های ثابتی که طی ماه تحصیل می شود و مورد بهره برداری قرار می گیرد ، استهلاک از اول ماه بعد محاسبه و در حساب ها منظور می شود. در مواردی که هر یک از دارایی های استهلاک پذیر پس از آمادگی جهت بهره برداری به علت تعطیل کار یا علل دیگر برای مدتی بیش از 6 ماه متوالی در یک دوره مالی مورد استفاده قرار نگیرد، میزان استهلاک آن برای مدت یاد شده معادل 30 درصد نرخ استهلاک منعکس در جدول بالا است.
B64: 2-4-3-2-استهلاک دارایی های تجدید ارزیابی شده با توجه به مبلغ دفتری جدید ( پس از تجدید ارزیابی )، طی عمر مفید باقیمانده محاسبه و در حساب ها منظور می شود.
B66: 2-5- ذخاير
B67: ذخيره مزاياي پايان خدمت برای كارگران براساس یک ماه آخرين دستمزد و جذب ، برای کارمندان مشمول صندوق بازنشستگی معادل یک ماه حقوق و مزایای مشمول کسور بازنشستگی و برای کارمندان مشمول سازمان تأمین اجتماعی معادل یک ماه حقوق و مزایای مستمر برای هرسال خدمت آنان محاسبه و در حساب ها منظور می گردد.
B69: 6 - 2- حقوق عمومی
B71: طبق ماده واحده مصوب 1377/08/6 مجلس شورای اسلامی وجوه دریافتی از مشترکین بابت حق انشعاب یا ودیعه ( قبل از تاریخ 1381/05/29 ) به عنوان حقوق عمومی بوده ودرآمد شرکت تلقی نمی شود. این وجوه قابل تبدیل به سرمایه یا تقسیم بین سهامداران و یا قابل مصرف برای جبران زیان عملیاتی شرکت نمی باشد. این گونه وجوه تحت سرفصل حقوق عمومی در ترازنامه طبقه بندی وگزارش می گردد. شایان ذکر است به استناد مفاد ماده 63 قانون تنظیم بخشی از مقررات مالی دولت و آیین نامه اجرایی مصوب جلسه هیات وزیران به شماره 2260/ت26960/ﻫ مورخ 1381/5/29، بعد از تاریخ مذکور کلیه حق اشتراک های دریافتی به عنوان درآمد عمومی دولت تلقی گردیده و مستقیماً به حساب خزانه داری کل کشور واریز می گردد.
B73: 2-7- درآمد عملیاتی
B75: درآمد عملیاتی به ارزش منصفانه ما به ازای دریافتی یا دریافتنی و به کسر مبالغ برآوردی از بابت برگشت از فروش و تخفیفات اندازه گیری می شود .
B76: 2-7-1- درآمد عملیاتی حاصل از فروش کالا و درآمد ارائه خدمات به شرح زیر شناسایی می گردد:
B78: در آمد | J78: روش شناسایی
B80: فروش آب سطحی شرب به شرکت های آب و فاضلاب شهری و روستائی | J80: تعهدی
B81: فروش آب سطحی کشاورزی به زارعین | J81: تعهدی
B82: فروش آب سطحی صنعتی ، پرورش ماهی و غیره | J82: تعهدی
B83: حق النظاره چاه های آب شرب شهری و روستایی ، نیروهای مسلح و شهرک های صنعتی | J83: تعهدی
B84: حق النظاره چاه های آب غیر شرب | J84: نقدی
B85: در آمد خدمات کارشناسی | J85: تعهدی
B99: 7

Sheet اهم رویه ها ص8و7
B1: شركت سهامي آب منطقه اي خراسان رضوي
B2: يادداشت هاي توضيحي صورت هاي مالي
B3: سال مالی منتهی به 30 اسفند 1399
B5: 2 - استاندارهاي حسابداري جديد و تجديد نظر شده
B7: 2-1- آثار با اهمیت ناشی از بکارگیری استانداردهای حسابداری جدید و تجدید نظر شده که در سال جاری لازم الاجرا هستند، به شرح زیر است:
B9: 1-1 -2- استاندارد حسابداري 35 با عنوان ((ماليات بر درآمد))
B11: شرکت در برآورد عمر مفید و به کارگیری روش استهلاک برای اهداف گزارشگری و مالیاتی از ماده 149 قانون مالیات‌های مستقیم استفاده می‌کند و بر اساس قضاوت مدیریت شرکت با اجرای استاندارد حسابداری جدید و تجدید نظر شده که در سال جاری لازم الاجرا است, اثر با اهمیتی بر شرکت ندارد.
B13: 2-2- آثار با اهمیت ناشی از اجرای استانداردهای حسابداری جدید و تجدید نظر شده که هنوز لازم الاجرا نشده، به شرح زیر می‌باشد:
B14: 2-2-1- استاندارد حسابداری شماره 42 با عنوان " اندازه گیری ارزش منصفانه" در سال 1399 به تصویب رسیده است و الزامات آن در مورد کلیه صورتهای مالی که دوره مالی آنها از تاریخ 1400/01/01 و بعد از آن شروع می شود ، لازم الاجرا است . این استاندارد ارزش منصفانه را تعریف نموده ، چارچوب اندازه گیری ارزش منصفانه را مقرر و الزامات افشا در باره اندازه گیری ارزش منصفانه را تعیین می کند .
B15: الزامات این استاندارد در مواردی کاربرد دارد که دیگر استانداردهای حسابداری ، اندازه گیری ارزش منصفانه یا افشاء درباره اندازه گیری ارزش منصفانه (اندازه گیری مبتنی بر ارزش منصفانه پس از کسر مخارج فروش ، یا افشاء درباره اندازه گیری ها) را الزامی یا مجاز کرده باشد .
B17: بر اساس قضاوت مدیریت واحد تجاری ( شرکت سهامی آب منطقه ای خراسان رضوی) با اعمال الزامات این استاندارد از تاریخ لازم الاجرا شدن آن ، به طور کلی تاثیر قابل ملاحظه ای بر گزارشگری اقلام صورتهای مالی نخواهد داشت .
B19: 3 - اهم رويه هاي حسابداري
B21: 1- 3 - مباني اندازه گیری استفاده شده در تهیه صورت هاي مالي | O21: 3-3- مخارج تأمين مالي
B23: صورت هاي مالي اساساً بر مبناي بهاي تمام شده تاريخي تهيه شده و در خصوص بخشی از دارایی های ثابت مشهود به شرح یادداشت 2-3-3 از ارزش‌های جاری استفاده شده است. | O23: مخارج تأمين مالي در دوره وقوع به عنوان هزينه شناسايي مي­شود، به استثناي مخارجي كه مستقيماً قابل انتساب به تحصيل "دارايي­هاي واجد شرايط" است.
B25: 3-2- درآمد عملیاتی
B27: درآمد عملیاتی به ارزش منصفانه مابه ازای دریافتی یا دریافتنی اندازه گیری می شود.
B29: 3-2-1- درآمد عملیاتی حاصل از فروش آب سدها در زمان تحویل کالا به مشتری شناسایی می شود .
B31: 3-2-2- درآمد فروش آب و حق النظاره چاه های بخش صنعت و تجارت به اشخاص حقوقی در زمان تحویل شناسایی می شود .
B33: 3-2-3- درآمد فروش آب و حق النظاره چاه ها به اشخاص حقیقی و خسارت اضافه برداشت آب چاه ها در زمان ارائه خدمات شناسایی می‌شود. درآمد ارائه خدمات کارشناسی قبل از ارائه خدمات از متقاضی وصول و سپس اقدام به ارائه خدمات می شود.
B35: 3 - 3 - دارایي هاي ثابت مشهود
B37: 3-3-1- دارايي هاي ثابت مشهود ( به استثنای موارد مندرج در یادداشت 2-3-3 ) بر مبناي بـهاي تمام شده اندازه گیری مي‌شود. مخـارج بعدی مرتبط با دارایی‌های ثابت مشهود که موجب بهبود وضعیت دارایی در مقایسه با استاندارد عملکرد ارزیابی شده اولیه آن گردد و منجر به افزایش منافع اقتصادی حاصل از دارایی شود، به مبلغ دفتری دارایی اضافه و طي عــمر مفيــد باقيمانده دارایي هاي مربوط مستهلك مي شود. مخارج روزمره تعمیر و نگهداري دارایی‌ها كه به منظور حفظ وضعیت دارایی در مقایسه با استــاندارد عملكرد ارزيابي شده اوليه دارايي انجام مي شود ، در زمان وقوع به عنوان هزينه شناسایی مي‌گردد.
B39: 3-3-2- زمین، ساختمان، تاسیسات و تجهیزات شرکت بر مبنای تجدید ارزیابی در حساب ها انعکاس یافته است. تجدید ارزیابی در اجرای آئین نامه اجرایی جزء(ب) بند 78 قانون بودجه سال 1390 کل کشور در سال 1391 صورت پذیرفته و مبلغ 7.404.020 میلیون ریال مازاد تجدید ارزیابی طبق مصوبه مجمع عمومی فوق العاده مورخ 1391/07/16 بابت افزایش سرمایه منظور شده و طی نامه شماره 139330406185018357 مورخ 1393/12/23 در روزنامه رسمی کشور به ثبت رسیده است .
B41: 7
B43: 3-3-3- استهلاك دارایي هاي ثابت مشهود با توجه به الگوی مصرف منافع اقتصادی آتی مورد انتظار ( شامل عمر مفید برآوردی ) دارایی های مربوط و با در نظر گرفتن آیین نامه استهلاکات موضوع ماده 149 اصلاحیه مصوب 1394/04/31 قانون ماليات هاي مستقيم مصوب اسفند ماه 1396 و اصلاحیه‌های بعدی آن و براساس نرخ ها و روش‌هاي زير محاسبه مي شود :
B45: دارايــــــــي | G45: نـــــرخ استهلاك - سال | J45: روش استهلاك
B47: تاسيـسات (ســـدها ، جاده ها ، چاهها و خطوط انتقال) | G47: 10، 20، 25، 30 تا 100 | J47: خــــــط مستقيــــــــم | O47: ساله
B48: ســـاختــــــمان ها | G48: 15 و 25 | J48: خــــــط مستقيــــــــم | O48: ساله
B49: ماشین آلات و تجـهيــزات | G49: 5 ،10، 15 و 25 | J49: خــــــط مستقيــــــــم | O49: ساله
B50: وسایل نقليه | G50: 6 | J50: خــــــط مستقيــــــــم | O50: ساله
B51: اثاثه و منصوبات | G51: 10،5و 15 | J51: خــــــط مستقيــــــــم | O51: ساله
B52: ابزارآلات و لوازم فنی | G52: 10،5و 15 | J52: خــــــط مستقيــــــــم | O52: ساله
B54: 3-3-3-1- استهلاک تغذیه مصنوعی و شبکه های آبیاری که در جدول استهلاک موضوع ماده 149 قانون مالیات های مستقیم پیش بینی نشده است بر اساس مدت 30 سال به روش خط مستقیم محاسبه می شود. برای دارایی های ثابتی که طی ماه تحصیل می‌شود و مورد بهره برداری قرار می گیرد ، استهلاک از اول ماه بعد محاسبه و در حساب ها منظور می شود. در مواردی که هر یک از دارایی های استهلاک پذیر پس از آمادگی جهت بهره برداری به علت تعطیل کار یا علل دیگر برای مدتی بیش از 6 ماه متوالی در یک دوره مالی مورد استفاده قرار نگیرد، میزان استهلاک آن برای مدت یاد شده معادل 30 درصد نرخ استهلاک منعکس در جدول بالا محاسبه می گردد. در این صورت چنانچه محاسبه استهلاک بر اساس مدت باشد, 70 درصد مدت زمانی که دارایی مورد استفاده قرار نگرفته است به مدت باقیمانده تعیین شده برای استهلاک دارایی در این جدول اضافه خواهد شد.
B56: 3-3-3-2- استهلاک دارایی های تجدید ارزیابی شده با توجه به مبلغ دفتری جدید ( پس از تجدید ارزیابی )، طی عمر مفید باقیمانده محاسبه و در حساب ها منظور می‌شود.
B58: 4- 3 - دارایی های نامشهود
B60: دارایی های نامشهود ، بر مبنای بهای تمام شده اندازه گیری و در حسابها ثبت می شود.
B62: 5- 3 - موجودي مواد و كالا
B64: بهاي تمام شده مواد و كالا به " اقل بهاي تمام شده و خالص ارزش فروش " هر یک از اقلام اندازه گیری مي شود . در صورت فزوني بهاي تمام شده نسبت به خالص ارزش فروش ، مابه التفاوت به عنوان زیان كاهش ارزش موجودي شناسايي مي شود . بهاي تمام شده موجودي ها با بکارگیری روش ميانگين موزون تعيين مي گردد .
B66: 3-6- ذخایر
B68: ذخایر، بدهی های هستند که زمان تسویه و یا تعیین مبلغ آن توام با ابهام نسبتاً قابل توجه است. ذخایر زمانی شناسایی می‌شوند که شرکت دارای تعهد فعلی (قانونی یا عرفی) در نتیجه رویدادهای گذشته باشد، خروج منافع اقتصادی برای تسویه تعهد محتمل باشد و مبلغ تعهد به گونه ای اتکاپذیر قابل برآورد باشد.
B70: ذخایر در پایان دوره مالی بررسی و برای نشان دادن بهترین برآورد جاری تعدیل می شوند و هرگاه خروج منافع اقتصادی برای تسویه تعهد، دیگر محتمل نباشد، ذخیره برگشت داده می شود.
B72: 3-6-1- ذخیره مزایای پایان خدمت کارکنان
B74: ذخيره مزاياي پايان خدمت برای كارگران بر اساس یک ماه آخرين دستمزد و جذب ، برای کارمندان مشمول صندوق بازنشستگی معادل یک ماه حقوق و مزایای مشمول کسور بازنشستگی و برای کارمندان مشمول سازمان تأمین اجتماعی معادل یک ماه حقوق و مزایای مستمر برای هر سال خدمت آنان محاسبه و در حساب‌ها منظور می‌گردد.
B76: 7 - 3- حقوق عمومی
... B84: شرکت در رابطه با آینده ، مفروضات و برآوردهایی تعیین می کند . قضاوت ها و برآوردها مبتنی بر تجارب گذشته و سایر عوامل پیش بینی روندهای آتی به گونه ای منطقی است و به طور مستمر بازنگری می شوند . اگرچه برآوردهای حسابداری به ندرت با نتایج واقعی مربوط برابر خواهد بود ، با این حال مفروضات و برآوردهایی که دارای خطر عمده تعدیل با اهمیت در مبلغ دفتری دارایی ها و بدهی ها طی یک سال آینده باشند، مورد نداشته است .
B86: 8

Sheet 5
B1: شركت سهامي آب منطقه اي خراسان رضوي
B2: يادداشت هاي توضيحي صورت هاي مالي
B3: سال مالی منتهی به 30 اسفند 1399
B5: ‏‏5‏ - درآمدهای عملیاتی
K6: (تجدید ارائه شده)
C7: يادداشت | E7: واحد | G7: 1399 | K7: 1398
G8: مقدار | I8: مبلـــــغ | K8: مقدار | M8: مبلـــــغ
I9: میلیون ريـــال | M9: میلیون ريـــال
B10: فروش آب | C10: ‏5-2 | E10: میلیون متر مکعب | G10: ='5'!G49 -> 193 | I10: ='5'!I49 -> 197312.92 | K10: ='5'!K49 -> 175 | M10: =M49 -> 177749.85 | O10: بابت تجدید ارایه، علیرغم تغییر مبالغ احجام چرا تغییر نیافته است؟
B11: درآمد حق النظاره و آب بهاء چاه ها | C11: ‏5-3 | E11: میلیون متر مکعب | G11: ='5-1 5-2 5-3'!G30 -> 4213 | I11: ='5-1 5-2 5-3'!I30 -> 1061048.2 | K11: ='5-1 5-2 5-3'!K30 -> 5141 | M11: ='5-1 5-2 5-3'!M30 -> 690677.45
B12: درآمد ارائه خدمات كارشناسي چاه ها | C12: ‏5-4 | E12: تعداد کارشناسی | G12: ='5-1 5-2 5-3'!G47 -> 6971 | I12: ='5-1 5-2 5-3'!I47 -> 33206.639 | K12: ='5-1 5-2 5-3'!K47 -> 4889 | M12: ='5-1 5-2 5-3'!M47 -> 22850.199
I13: =SUM(I10:I12) -> 1291567.8 | M13: =SUM(M10:M12) -> 891277.5
B15: 5-1- خالص درآمدهای عملیاتی به تفکیک وابستگی اشخاص:
K16: (تجدید ارائه شده)
E17: يادداشت | G17: =G7 -> 1399 | K17: =K7 -> 1398
G18: درآمد عملیاتی | I18: نسبت به کل | K18: درآمد عملیاتی | M18: نسبت به کل
G19: میلیون ريـــال | I19: درصد | K19: ميليون ريال | M19: درصد
B20: اشخاص وابسته | E20: ‏5-1-1 | G20: ='5'!G29 -> 165119.98 | I20: =G20/G22*100 -> 12.784461 | K20: ='5'!K29 -> 116845.33 | M20: =K20/K22*100 -> 13.109871
B21: سایر مشتریان | G21: =I13-G20 -> 1126447.8 | I21: =G21/G22*100 -> 87.215539 | K21: =M13-K20 -> 774432.17 | M21: =K21/K22*100 -> 86.890129
G22: =SUM(G20:G21) -> 1291567.8 | K22: =SUM(K20:K21) -> 891277.5
B24: 5-1-1- فروش آب شرب و حق النظاره چاه ها به اشخاص وابسته به شرح زیر می باشد:
G25: ='5-5'!D8 -> 1399 | K25: 1398
G26: میلیون ريـــال | I26: درصد | K26: میلیون ريـــال | M26: درصد
B27: شرکت آب و فاضلاب مشهد | G27: 87336.259 | I27: =(G27/G29)*100 -> 52.892606 | K27: 72670.314 | M27: =(K27/K29)*100 -> 62.193598 | O27: ='5'!G27/1000000 -> 0.087336259 | P27: ='5'!K27/1000000 -> 0.072670314
B28: شرکت آب و فاضلاب استان خراسان رضوی | G28: 77783.719 | I28: =(G28/G29)*100 -> 47.107394 | K28: 44175.014 | M28: =(K28/K29)*100 -> 37.806402 | O28: ='5'!G28/1000000 -> 0.077783719 | P28: ='5'!K28/1000000 -> 0.044175014
G29: =SUM(G27:G28) -> 165119.98 | K29: =SUM(K27:K28) -> 116845.33
B31: 5-2- فروش آب های سطحی به تفكيك منابع آبي: | O31: =M36/1000000 -> 0.091064279 | Q31: =I36/1000000 -> 0.107889
K32: (تجدید ارائه شده) | O32: =M39/1000000 -> 0.0094613333 | Q32: =I39/1000000 -> 0.0083333333
E33: يادداشت | G33: =G7 -> 1399 | K33: =K7 -> 1398 | O33: =M40/1000000 -> 0.0041432952 | Q33: =I40/1000000 -> 0
G34: مقدار | I34: مبلغ | K34: مقدار | M34: مبلـــــغ | O34: =M41/1000000 -> 0.0081027755 | Q34: =I41/1000000 -> 0.027028276
G35: میلیون متر مكعب | I35: میلیون ريـــال | K35: میلیون متر مكعب | M35: میلیون ريـــال | O35: =M42/1000000 -> 0.016637922 | Q35: =I42/1000000 -> 0.010437
B36: سد دوستی ( شرب، صنعت و خدمات ) | G36: 105 | I36: 107889 | K36: 112 | M36: 91064.279 | O36: =M43/1000000 -> 0.0030220199 | Q36: =I43/1000000 -> 0.004966478
B37: تصفیه خانه ( پساب پرکند آباد و اولنگ ) | G37: 6 | I37: 7209.0051 | K37: 1 | M37: 1582.7175 | O37: =M44/1000000 -> 0.00219275 | Q37: =I44/1000000 -> 2.6562165e-05
B38: چشمه هاي آهكي ( شرب ) | G38: 4 | I38: 1147.9553 | K38: 3 | M38: 813.89042 | O38: =M45/1000000 -> 0.015087635 | Q38: =I45/1000000 -> 0.016992032
B39: سد سنگرد ( بهره برداران روستاها ) | G39: 3 | I39: 8333.3333 | K39: 5 | M39: 9461.3333 | O39: =M46/1000000 -> 0.015304818 | Q39: =I46/1000000 -> 0.00356328
B40: بند انحرافي طرق، سد سده ( بهره برداران روستاها ) | G40: 0 | I40: 0 | K40: 6 | M40: 4143.2952 | O40: =M47/1000000 -> 0.00875 | Q40: =I47/1000000 -> 0.0026
B41: سد کارده ( شرب و خدمات ) | G41: 2 | I41: 27028.276 | K41: 1 | M41: 8102.7755 | O41: =M48/1000000 -> 0.0015864172 | Q41: =I48/1000000 -> 0.00712
B42: سد طرق ( شرب و خدمات ) | G42: 19 | I42: 10437 | K42: 12 | M42: 16637.922 | Q42: =I49/1000000 -> 0.19731292
B43: سد تبارک آباد ( شرب و خدمات ) | G43: 8 | I43: 4966.478 | K43: 5 | M43: 3022.0199
B44: سد فریمان | E44: ‏5-2-4 | G44: 1 | I44: 26.562165 | K44: 9 | M44: 2192.75
B45: سد ارداک ( شرب، صنعت و خدمات ) | G45: 19 | I45: 16992.032 | K45: 13 | M45: 15087.635
B46: سد بار | G46: 1 | I46: 3563.28 | K46: 3 | M46: 15304.818
B47: سد چالی دره ( بهره برداران روستاها ) | G47: 1 | I47: 2600 | K47: 1 | M47: 8750
B48: سایر | G48: 24 | I48: 7120 | K48: 4 | M48: 1586.4172
G49: =SUM(G36:G48) -> 193 | I49: =SUM(I36:I48) -> 197312.92 | J49: =SUM(J36:J48) -> 0 | K49: =SUM(K36:K48) -> 175 | L49: =SUM(L36:L48) -> 0 | M49: =SUM(M36:M48) -> 177749.85 | O49: =#REF!/1000000 -> #REF! | P49: =#REF!/1000000 -> #REF! | Q49: =#REF!/#REF! -> #REF!
O50: =#REF!/1000000 -> #REF! | P50: =#REF!/1000000 -> #REF! | Q50: =#REF!/#REF! -> #REF!
B53: 9

Sheet 5-1  5-2  5-3
B1: شركت سهامي آب منطقه اي خراسان رضوي
B2: يادداشت هاي توضيحي صورت هاي مالي
B3: سال مالی منتهی به 30 اسفند 1399
B5: 5-2-1- فروش آب های سطحی به تفكيك نوع مصرف: | O5: ='5'!#REF!/1000000 -> #REF! | P5: ='5'!#REF!/1000000 -> #REF! | Q5: ='5'!#REF!/'5'!#REF! -> #REF!
K6: (تجدید ارائه شده)
G7: 1399 | K7: 1398
G8: مقدار | I8: مبلغ | K8: مقدار | M8: مبلغ
G9: میلیون متر مكعب | I9: میلیون ريـــال | K9: میلیون متر مكعب | M9: میلیون ريـــال
B10: آب کشاورزی | G10: 59 | I10: 129763 | K10: 65 | M10: 119283.34
B11: آب شرب | G11: 133 | I11: 62973 | K11: 104 | M11: 41105.715
B12: آب صنعتی | G12: 1 | I12: 4576.5622 | K12: 3 | M12: 17360.798
G13: =SUM(G10:G12) -> 193 | I13: =SUM(I10:I12) -> 197312.56 | K13: =SUM(K10:K12) -> 172 | M13: =SUM(M10:M12) -> 177749.85
B15: 5-2-2- نرخ فروش آب شرب از سدهای طرق، کارده، دوستی، تبارک آباد ، زاوین و سد ارداک برابر تعرفه ابلاغی 98/11067/20/100 مورخ 1398/01/21 و تعرفه ابلاغی شماره 98/10014/20/100 مورخ 1398/02/01و تعرفه ابلاغی شماره 99/14971/31/100 مورخ 1399/03/07 ( قابل اجرا از تاریخ 1399/02/01) وزارت محترم نیرو و تعرفه فروش آب به بهره برداران روستاها جهت مصارف کشاورزی و صنعت و ... طبق مصوبه شماره 755 مورخ 1394/12/16 و مصوبه شماره 774 مورخ 1395/12/28 هیات مدیره و فروش آب سطحی جهت مصارف غیرخانگی به استناد بخشنامه شماره 91/31514/31/100 مورخ 1391/07/24 وزارت محترم نیرو و طبق مصوبات هیات مدیره محاسبه گردیده است .
B17: 5-2-3- افزایش درآمد فروش آب سدها نسبت به سال قبل ناشی از افزایش نزولات جوی و افزایش ورودی آب به مخزن سدها و به تبع آن افزایش حجم آب تحویلی به شرکت‌های آب و فاضلاب مشهد و استان در سال مورد گزارش بوده است. افزایش درآمد فروش پساب تصفیه خانه ها ناشی از انعقاد قرارداد جدید با متقاضیان بالاخص شهرداری مشهد در سال جاری می باشد.
O18: این افشا مربوط به سال قبل می باشد؟
B19: 5-2-4- کاهش درآمد فروش آب از سد بار نسبت به سال قبل عمدتاٌ ناشی از ثبت درآمد فروش آب در سنوات قبل از بهره برداری به شرکت مجتمع فولاد خراسان به حساب درآمد سال قبل با توجه به بهره برداری آن بوده است. | O19: 5-2-4- کاهش درآمد فروش آب از سد بار نسبت به سال قبل عمدتاٌ ناشی از ثبت درآمد فروش آب در سنوات قبل از بهره برداری به شرکت مجتمع فولاد خراسان به حساب درآمد سال قبل که به بهره برداری رسیده می‌باشد.
B21: 5-3- درآمد حق النظاره و آب بهاء چاه ها به تفکیک نوع مصرف : | O21: 5-3- درآمد آب های زیر زمینی ( حق النظاره و آب بهاء چاه ها ) به شرح زير مي باشد :
K22: (تجدید ارائه شده)
E23: يادداشت | G23: 1399 | K23: 1398
G24: مقدار | I24: مبلغ | K24: مقدار | M24: مبلغ
G25: میلیون متر مکعب | I25: میلیون ريـــال | K25: میلیون متر مکعب | M25: میلیون ريـــال
B26: شرب | E26: 5-3-1 | G26: 406 | I26: 120278.66 | K26: 285 | M26: 64257.302 | P26: =I26/1000000 -> 0.12027866 | Q26: =J26/1000000 -> 0 | R26: =K26/1000000 -> 0.000285 | S26: =L26/1000000 -> 0 | T26: =M26/1000000 -> 0.064257302 | U26: =N26/1000000 -> 0
B27: صنعت | E27: 5-3-2 | G27: 303 | I27: 806319 | K27: 200 | M27: 498426 | P27: =I27/1000000 -> 0.806319 | Q27: =J27/1000000 -> 0 | R27: =K27/1000000 -> 0.0002 | S27: =L27/1000000 -> 0 | T27: =M27/1000000 -> 0.498426 | U27: =N27/1000000 -> 0
B28: كشاورزي | E28: 5-3-3 | G28: 3413 | I28: 5362.5812 | K28: 4580 | M28: 7195.6051 | O28: معاف می باشد؟ | P28: =I28/1000000 -> 0.0053625812 | Q28: =J28/1000000 -> 0 | R28: =K28/1000000 -> 0.00458 | S28: =L28/1000000 -> 0 | T28: =M28/1000000 -> 0.0071956051 | U28: =N28/1000000 -> 0
B29: سایر مصارف | E29: 5-3-4 | G29: 91 | I29: =93389+35699 -> 129088 | K29: 76 | M29: 120798.54 | P29: =I29/1000000 -> 0.129088 | Q29: =J29/1000000 -> 0 | R29: =K29/1000000 -> 7.6e-05 | S29: =L29/1000000 -> 0 | T29: =M29/1000000 -> 0.12079854 | U29: =N29/1000000 -> 0
G30: =SUM(G26:G29) -> 4213 | I30: =SUM(I26:I29) -> 1061048.2 | K30: =SUM(K26:K29) -> 5141 | M30: =SUM(M26:M29) -> 690677.45
B32: 5-3-1- حق النظاره هر متر مكعب برداشـت از منابع آب های زيرزميني جهت شرب به شركت هاي آب و فاضلاب استان خراسان رضوی و مشهد مطابق تعرفه ابلاغی شماره 98/10014/20/100 مورخ 1398/02/01و تعرفه ابلاغی شماره 99/14971/31/100 مورخ 1399/03/07 ( قابل اجرا از تاریخ 1399/02/01) وزیر نیرو محاسبه شده است. افزایش درآمد نسبت به سال قبل ناشی از افزایش میزان مصرف آب چاه ها جهت مصارف شرب با توجه به کاهش مصرف آب جایگزین ( فروش آب از سدها به شرح یادداشت 2-5 ) و افزایش تعرفه ها می باشد.
B34: 5-3-2- حق النظاره هر متر مكعب برداشـت از منابع آب های زيرزميني جهت مصارف صنعتی مطابق مصوبه شماره 736 مورخ 1393/12/23 هیئت مدیره محاسبه شده است. افزایش درآمد نسبت به سال قبل عمدتاً ناشی از افزایش میزان مصرف آب چاه ها جهت مصارف صنعت می باشد. طبق بند (ه) تبصره 8 قانون بودجه سال 1399 کل کشور ( دریافت حق النظاره چاه آب کشاورزی و واریز به خزانه ) مکاتبه مدیریت منابع آب ایران نیز دارد.
B36: 5-3-3- به استناد ماده 3 قانون تامين منابع مالي براي جبران خسارت ناشي از خشكسالي و سرمازدگي مورخ 14/7/1383 از ابتدای سال 1384 دريافت هرگونه وجهي از فعاليت هاي بخش كشاورزي و دامداري به عنوان حق النظاره آب ممنوع مي باشد. درآمد فوق مربوط به حق النظاره ایجاد شده در سال های قبل از سال 1384 می‌باشد.
B38: 5-3-4- افزایش درآمد سایر مصارف عمدتاٌ ناشی از شناسایی مطالبات از مشترکین خدمات و دام و طیور در سال جاری, باتوجه به رویه شناسایی درآمد ( به شرح یادداشت توضیحی 3-2-3 ) می باشد.
B40: 5-4- درآمد ارائه خدمات كارشناسي چاه ها :
G42: =G23 -> 1399 | K42: =K23 -> 1398
G43: تعداد | I43: میلیون ريـــال | K43: تعداد | M43: میلیون ريـــال
B44: كشـــــاورزي | G44: 5498 | I44: 25489.514 | K44: 3963 | M44: 18358.667 | P44: =I44/1000000 -> 0.025489514 | Q44: =J44/1000000 -> 0 | R44: =K44/1000000 -> 0.003963 | S44: =L44/1000000 -> 0 | T44: =M44/1000000 -> 0.018358667
B45: صنعتــــــــــي | G45: 732 | I45: 5607.3243 | K45: 386 | M45: 2954.1011 | P45: =I45/1000000 -> 0.0056073243 | Q45: =J45/1000000 -> 0 | R45: =K45/1000000 -> 0.000386 | S45: =L45/1000000 -> 0 | T45: =M45/1000000 -> 0.0029541011
B46: شــــــــــــرب | G46: 741 | I46: 2109.8015 | K46: 540 | M46: 1537.4303 | P46: =I46/1000000 -> 0.0021098015 | Q46: =J46/1000000 -> 0 | R46: =K46/1000000 -> 0.00054 | S46: =L46/1000000 -> 0 | T46: =M46/1000000 -> 0.0015374303
G47: =SUM(G44:G46) -> 6971 | I47: =SUM(I44:I46) -> 33206.639 | K47: =SUM(K44:K46) -> 4889 | M47: =SUM(M44:M46) -> 22850.199 | P47: =I47/1000000 -> 0.033206639 | Q47: =J47/1000000 -> 0 | R47: =K47/1000000 -> 0.004889 | S47: =L47/1000000 -> 0 | T47: =M47/1000000 -> 0.022850199
B49: 5-4-1- درآمد خدمات کارشناسی بر اساس تعرفه ابلاغی شماره 99/15535/20/100 مورخ 1399/03/20وزیر محترم نيرو در اجراي ماده 8 قانون توزيع عادلانه آب با تقاضای مشترک جهت انجام مراحل درخواست کف شکنی، تغییر محل، لایروبی، حفر چاه و .... دریافت می شود. افزایش درآمد خدمات کارشناسی بدلیل افزایش تعداد کارشناسی‌های انجام شده (بنا به درخواست مشترکین) و افزایش نعرفه نسبت به سال گذشته بوده است.
B51: 10

Sheet 5-5
B1: شركت سهامي آب منطقه اي خراسان رضوي
B2: يادداشت هاي توضيحي صورت هاي مالي
B3: سال مالی منتهی به 30 اسفند 1399
B5: 5-5- جدول مقایسه ای درآمد عملیاتی و بهای تمام شده به شرح زیر می باشد:
P7: (تجدید ارائه شده)
D8: 1399 | L8: 1398
D9: فروش | F9: بهای تمام شده | H9: سود ( زیان ) نا خالص | J9: درصد سود ( زیان ) ناخالص به بهای تمام شده | L9: فروش | N9: بهای تمام شده | P9: سود ( زیان ) نا خالص | R9: درصد سود ( زیان ) ناخالص به بهای تمام شده
D10: میلیون ريـــال | F10: میلیون ريـــال | H10: میلیون ريـــال | L10: میلیون ريـــال | N10: میلیون ريـــال | P10: میلیون ريـــال
B11: آب شرب | D11: ='5-1 5-2 5-3'!I10 -> 129763 | F11: =D11/U14*'6'!G25 -> 592514.07 | H11: =D11-F11 -> -462751.07 | J11: =(H11/F11)*100 -> -78.099592 | L11: ='5-1 5-2 5-3'!M10 -> 119283.34 | N11: 156597 | P11: =L11-N11 -> -37313.66 | R11: =(P11/N11)*100 -> -23.827826
B12: آب کشاورزی | D12: ='5-1 5-2 5-3'!I11 -> 62973 | F12: =D12/U14*'6'!G25 -> 287542.58 | H12: =D12-F12 -> -224569.58 | J12: =(H12/F12)*100 -> -78.099592 | L12: ='5-1 5-2 5-3'!M11 -> 41105.715 | N12: 454425 | P12: =L12-N12 -> -413319.29 | R12: =(P12/N12)*100 -> -90.954346
B13: آب صنعتی | D13: ='5-1 5-2 5-3'!I12 -> 4576.5622 | F13: =D13/U14*'6'!G25 -> 20897.154 | H13: =D13-F13 -> -16320.592 | J13: =(H13/F13)*100 -> -78.099592 | L13: ='5-1 5-2 5-3'!M12 -> 17360.798 | N13: 66138 | P13: =L13-N13 -> -48777.202 | R13: =(P13/N13)*100 -> -73.750646
B14: حق النظاره چاه ها | D14: ='5-1 5-2 5-3'!I30 -> 1061048.2 | F14: ='6'!I25 -> 235478.2 | H14: =D14-F14 -> 825570.03 | J14: =(H14/F14)*100 -> 350.59297 | L14: ='5-1 5-2 5-3'!M30 -> 690677.45 | N14: ='6'!Q25 -> 202410.15 | P14: =L14-N14 -> 488267.3 | R14: =(P14/N14)*100 -> 241.22669 | U14: =SUM(D11:D13) -> 197312.56
B15: خدمات کارشناسی | D15: ='5-1 5-2 5-3'!I47 -> 33206.639 | F15: ='6'!K25 -> 23289.053 | H15: =D15-F15 -> 9917.5862 | J15: =(H15/F15)*100 -> 42.584755 | L15: ='5-1 5-2 5-3'!M47 -> 22850.199 | N15: ='6'!S25 -> 6259.1696 | P15: =L15-N15 -> 16591.029 | R15: =(P15/N15)*100 -> 265.06757
D16: =SUM(D11:D15) -> 1291567.4 | F16: =SUM(F11:F15) -> 1159721.1 | H16: =SUM(H11:H15) -> 131846.38 | J16: =(H16/F16)*100 -> 11.368801 | L16: =SUM(L11:L15) -> 891277.5 | N16: =SUM(N11:N15) -> 885829.32 | P16: =SUM(P11:P15) -> 5448.1809 | R16: =(P16/N16)*100 -> 0.61503732
B29: 11

Sheet 6
B2: شركت سهامي آب منطقه اي خراسان رضوي
B3: يادداشت هاي توضيحي صورت هاي مالي
B4: سال مالی منتهی به 30 اسفند 1399
B6: 6 - بهاي تمام شده درآمدهای عملیاتی
D8: یادداشت | E8: 1395/12/30 | G8: 1399 | O8: 1398
G9: فروش آب | I9: ارائه خدمات | M9: جمع | O9: فروش آب | Q9: ارائه خدمات | U9: جمع
I10: حق النظاره | K10: خدمات کارشناسی | Q10: حق النظاره | S10: خدمات کارشناسی
G11: میلیون ريـــال | I11: میلیون ريـــال | K11: میلیون ريـــال | M11: میلیون ريـــال | O11: میلیون ريـــال | Q11: میلیون ريـــال | S11: میلیون ريـــال | U11: میلیون ريـــال
B12: دستمزد مستقیم :
B13: حقوق و مزاياي كارمندان | D13: 6-1 | G13: 189527 | I13: 83421.442 | K13: 8250.4723 | M13: =G13+I13+K13 -> 281198.91 | O13: =144224.438882 -> 144224.44 | Q13: 72940.487 | S13: 2255.8914 | U13: =O13+Q13+S13 -> 219420.82 | W13: =G13/1000000 -> 0.189527 | X13: =H13/1000000 -> 0 | Y13: =I13/1000000 -> 0.083421442 | Z13: =J13/1000000 -> 0 | AA13: =K13/1000000 -> 0.0082504723 | AB13: =L13/1000000 -> 0 | AC13: =M13/1000000 -> 0.28119891 | AD13: =N13/1000000 -> 0 | ... AI13: =S13/1000000 -> 0.0022558914
B14: دستمزد و مزاياي كارگران | D14: 6-1 | G14: 19928 | I14: 12434.407 | K14: 1229.7765 | M14: =G14+I14+K14 -> 33592.184 | O14: 19790.961 | Q14: 12821.155 | S14: =396.530552-1 -> 395.53055 | U14: =O14+Q14+S14 -> 33007.646 | W14: =G14/1000000 -> 0.019928 | X14: =H14/1000000 -> 0 | Y14: =I14/1000000 -> 0.012434407 | Z14: =J14/1000000 -> 0 | AA14: =K14/1000000 -> 0.0012297765 | AB14: =L14/1000000 -> 0 | AC14: =M14/1000000 -> 0.033592184 | AD14: =N14/1000000 -> 0 | ... AI14: =S14/1000000 -> 0.00039553055
B15: هزينه مزاياي پايان خدمت | D15: 26-1 | G15: 33352.565 | I15: 6280.6239 | K15: 621.1606 | M15: =G15+I15+K15 -> 40254.349 | O15: 39841.227 | Q15: 20317.623 | S15: 628.38009 | U15: =O15+Q15+S15 -> 60787.23 | W15: =G15/1000000 -> 0.033352565 | X15: =H15/1000000 -> 0 | Y15: =I15/1000000 -> 0.0062806239 | Z15: =J15/1000000 -> 0 | AA15: =K15/1000000 -> 0.0006211606 | AB15: =L15/1000000 -> 0 | AC15: =M15/1000000 -> 0.040254349 | AD15: =N15/1000000 -> 0 | ... AI15: =S15/1000000 -> 0.00062838009
B16: سربار : | AE16: =O16/1000000 -> 0 | AF16: =P16/1000000 -> 0 | AG16: =Q16/1000000 -> 0 | AH16: =R16/1000000 -> 0 | AI16: =S16/1000000 -> 0
B17: آب و بــرق و سوخــــت | D17: 6-2 | G17: 4294.21 | I17: 1978.3291 | K17: 195.65893 | M17: =G17+I17+K17 -> 6468.198 | O17: 6059.6115 | Q17: =1466.542075-1 -> 1465.5421 | S17: 45.356971 | U17: =O17+Q17+S17 -> 7570.5105 | W17: =G17/1000000 -> 0.00429421 | X17: =H17/1000000 -> 0 | Y17: =I17/1000000 -> 0.0019783291 | Z17: =J17/1000000 -> 0 | AA17: =K17/1000000 -> 0.00019565893 | AB17: =L17/1000000 -> 0 | AC17: =M17/1000000 -> 0.006468198 | AD17: =N17/1000000 -> 0 | ... AI17: =S17/1000000 -> 4.5356971e-05
B18: تعميــرات و نگهــــداري | D18: 6-5 | G18: 52717 | I18: 2780.1555 | K18: 274.96043 | M18: =G18+I18+K18 -> 55772.116 | O18: 23174.085 | Q18: 12888.835 | S18: 398.12377 | U18: =O18+Q18+S18+1 -> 36462.044 | W18: =G18/1000000 -> 0.052717 | X18: =H18/1000000 -> 0 | Y18: =I18/1000000 -> 0.0027801555 | Z18: =J18/1000000 -> 0 | AA18: =K18/1000000 -> 0.00027496043 | AB18: =L18/1000000 -> 0 | AC18: =M18/1000000 -> 0.055772116 | AD18: =N18/1000000 -> 0 | ... AI18: =S18/1000000 -> 0.00039812377
B19: مخــابــرات و ارتباطات | G19: 5331.4419 | I19: 273.17447 | K19: 27.017256 | M19: =G19+I19+K19 -> 5631.6336 | O19: 883.97638 | Q19: =235.340048+1 -> 236.34005 | S19: 7.309486 | U19: =O19+Q19+S19-1 -> 1126.6259 | W19: =G19/1000000 -> 0.0053314419 | X19: =H19/1000000 -> 0 | Y19: =I19/1000000 -> 0.00027317447 | Z19: =J19/1000000 -> 0 | AA19: =K19/1000000 -> 2.7017256e-05 | AB19: =L19/1000000 -> 0 | AC19: =M19/1000000 -> 0.0056316336 | AD19: =N19/1000000 -> 0 | ... AI19: =S19/1000000 -> 7.309486e-06
B20: خـــدمـــات قــــــراردادي | D20: 6-3 | G20: 355017 | I20: 120393.29 | K20: 11907.028 | M20: =G20+I20+K20 -> 487317.32 | O20: 223894.3 | Q20: 76405.339 | S20: 2363.0517 | U20: =O20+Q20+S20-1 -> 302661.69 | W20: =G20/1000000 -> 0.355017 | X20: =H20/1000000 -> 0 | Y20: =I20/1000000 -> 0.12039329 | Z20: =J20/1000000 -> 0 | AA20: =K20/1000000 -> 0.011907028 | AB20: =L20/1000000 -> 0 | AC20: =M20/1000000 -> 0.48731732 | AD20: =N20/1000000 -> 0 | ... AI20: =S20/1000000 -> 0.0023630517
B21: هزينــه هاي استـــــهلاك | D21: 6-4 | G21: 374257.59 | I21: 2432.4182 | K21: 240.56884 | M21: =G21+I21+K21 -> 376930.58 | O21: 317539.41 | Q21: 2104.8956 | S21: 65.099865 | U21: =O21+Q21+S21 -> 319709.41 | W21: =G21/1000000 -> 0.37425759 | X21: =H21/1000000 -> 0 | Y21: =I21/1000000 -> 0.0024324182 | Z21: =J21/1000000 -> 0 | AA21: =K21/1000000 -> 0.00024056884 | AB21: =L21/1000000 -> 0 | AC21: =M21/1000000 -> 0.37693058 | AD21: =N21/1000000 -> 0 | ... AI21: =S21/1000000 -> 6.5099865e-05
B22: ساير هزينه ها | D22: 6-6 | G22: 49623 | I22: 5484.3667 | K22: 542.4099 | M22: =G22+I22+K22 -> 55649.777 | O22: 42061.936 | Q22: 3229.9335 | S22: =99.425778+1 -> 100.42578 | U22: =O22+Q22+S22 -> 45392.295 | W22: =G22/1000000 -> 0.049623 | X22: =H22/1000000 -> 0 | Y22: =I22/1000000 -> 0.0054843667 | Z22: =J22/1000000 -> 0 | AA22: =K22/1000000 -> 0.0005424099 | AB22: =L22/1000000 -> 0 | AC22: =M22/1000000 -> 0.055649777 | AD22: =N22/1000000 -> 0 | ... AI22: =S22/1000000 -> 0.00010042578
B23: هزینه های جذب نشده تولید | D23: 9-1 | G23: -38351 | I23: 0 | K23: 0 | M23: =K23+I23+G23 -> -38351 | O23: -29150.597 | Q23: 0 | S23: 0 | U23: =S23+Q23+O23 -> -29150.597 | W23: =G23/1000000 -> -0.038351 | X23: =H23/1000000 -> 0 | Y23: =I23/1000000 -> 0 | Z23: =J23/1000000 -> 0 | AA23: =G23/1000000 -> -0.038351 | AB23: =L23/1000000 -> 0 | AC23: =M23/1000000 -> -0.038351 | AD23: =N23/1000000 -> 0 | AE23: =O23/1000000 -> -0.029150597 | AF23: =P23/1000000 -> 0 | AG23: =Q23/1000000 -> 0 | AH23: =R23/1000000 -> 0 | AI23: =S23/1000000 -> 0
B24: سهم هزینه های اداری از مراکز خدماتی | D24: 7-4 | G24: -144743 | I24: 0 | K24: 0 | M24: =K24+I24+G24 -> -144743 | O24: -111159.33 | Q24: 0 | S24: 0 | U24: =S24+Q24+O24 -> -111159.33 | W24: =G24/1000000 -> -0.144743 | X24: =H24/1000000 -> 0 | Y24: =I24/1000000 -> 0 | Z24: =J24/1000000 -> 0 | AA24: =G24/1000000 -> -0.144743 | AB24: =L24/1000000 -> 0 | AC24: =M24/1000000 -> -0.144743 | AD24: =N24/1000000 -> 0 | AE24: =O24/1000000 -> -0.11115933 | AF24: =P24/1000000 -> 0 | AG24: =Q24/1000000 -> 0 | AH24: =R24/1000000 -> 0 | AI24: =S24/1000000 -> 0
G25: =SUM(G13:G24) -> 900953.8 | I25: =SUM(I13:I24) -> 235478.2 | K25: =SUM(K13:K24) -> 23289.053 | M25: =G25+I25+K25 -> 1159721.1 | O25: =SUM(O13:O24) -> 677160.02 | Q25: =SUM(Q13:Q24) -> 202410.15 | S25: =SUM(S13:S24) -> 6259.1696 | U25: =O25+Q25+S25 -> 885829.34
B27: 6-1- افزایش مبلغ حقوق و مزاياي كارمندان نسبت به سال قبل عمدتاً ناشی از افزایش ضریب حقوقی سالیانه برای مشمولین قانون مديريت خدمات كشوري و سایر کارمندان و همچنین اعمال فوق العاده بند 10 ماده 68 قانون مذکور می باشد؛ همچنین افزایش دستمزد و مزایای کارگران ناشی از افزایش ضریب حقوقی سالیانه و افزایش 2 نفر به کارکنان کارمعین می باشد. | Y27: =O25*'5'!Q49 -> #REF!
Y28: =O25*'5'!Q50 -> #REF!
B29: 6-2- کاهش مبلغ مذکور عمدتاً بابت کاهش برق مصرفی شهری توسط شرکت و استفاده از برق جایگزین از محل ژنراتور شرکت در سال جاری می باشد. | Y29: =O25*'5-1 5-2 5-3'!Q5 -> #REF!
B31: 6-3- افزایش مبالغ خدمات قراردادی، ناشی از افزایش حقوق و مزایای پرسنل امور خدماتی در سطح استان در راستای برون سپاری وظایف به پیمانکاران می باشد.
B33: 6-4- افزایش هزینه های استهلاک ناشی از محاسبه استهلاک در سال 1399 مربوط به طرح های به بهره برداری رسیده انتقالی از دفاتر طرح های تملک دارایی های سرمایه ای مي باشد.
B35: 4-6- مقایسه مقدار تولید شرکت در سال مالی مورد گزارش با ظرفیت اسمی و ظرفیت معمولی (عملی)، نتایج زیر را نشان می دهد.
M36: واحد اندازه گیری | O36: ظرفیت اسمی | Q36: ظرفیت معمولی(عملی) | S36: تولید واقعی مغایرت تراز سال قبل | U36: تولید واقعی
A37: یهره برداری آب | M37: میلیون متر مکعب | O37: 120 | Q37: .... | S37: .... | U37: ....
B38: 6-5- افزایش هزینه تعميــرات و نگهــــداري عمدتاً بابت افزایش سطح عمومی قیمت ها مي باشد .
B41: 6-6- سایر هزینه ها عمدتاً بابت هزینه های سهم راهبردی ، قرائت اشل ، آزمایشگاه ، هزینه تایپ و تکثیر و آبدارخانه مي باشد .
B44: 12

Sheet 7-8
B1: شركت سهامي آب منطقه اي خراسان رضوي
B2: يادداشت هاي توضيحي صورت هاي مالي
B3: سال مالی منتهی به 30 اسفند 1399
B5: 7- هزينه هاي فروش ، اداري و عمومي
D7: يادداشت | F7: 1399 | H7: 1398
F8: میلیون ريـــال | H8: میلیون ريـــال | P8: 406200000
B9: حقوق و مزاياي كارمنـدان | D9: 7-1 | F9: 88222.521 | H9: 92281.089 | J9: =F9/1000000 -> 0.088222521 | L9: =H9/1000000 -> 0.092281089
B10: دستمزد و مزاياي كارگران | D10: 7-2 | F10: 17117.953 | H10: 14423.023 | J10: =F10/1000000 -> 0.017117953 | L10: =H10/1000000 -> 0.014423023
B11: هزينه مزاياي پايان خدمت | D11: 26-1 | F11: 17495.408 | H11: 26922.742 | J11: =F11/1000000 -> 0.017495408 | L11: =H11/1000000 -> 0.026922742 | P11: 373556250
B12: آب و بــــرق و ســـوخـت | D12: 6-2 | F12: 4081.4976 | H12: 6415.1547 | J12: =F12/1000000 -> 0.0040814976 | L12: =H12/1000000 -> 0.0064151547 | N12: =F18-F16 -> 191120.36 | P12: 16603091303
B13: تعميــرات و نگـــــــهداري | F13: 2121.5746 | H13: 2506.7617 | J13: =F13/1000000 -> 0.0021215746 | L13: =H13/1000000 -> 0.0025067617 | P13: =SUM(P11:P12) -> 16976647553
B14: خــــــدمــات قــــــراردادي | D14: 7-3 | F14: 42333.137 | H14: 40555.688 | J14: =F14/1000000 -> 0.042333137 | L14: =H14/1000000 -> 0.040555688 | P14: 16570447553
B15: هزينـــــه هاي استــــــهلاك | F15: 2771.62 | H15: 2245.5635 | J15: =F15/1000000 -> 0.00277162 | L15: =H15/1000000 -> 0.0022455635 | N15: =F15+'6'!M21 -> 379702.2 | P15: =P13-P14 -> 406200000
B16: سهم از هزینه های مراکز خدماتی | D16: 7-4 | F16: 144743 | H16: 111159.33 | J16: =F16/1000000 -> 0.144743 | L16: =H16/1000000 -> 0.11115933 | N16: 335286673756 | P16: =N15-N16 -> -3.3528629e+11
B17: ســـاير | D17: 6-6 | F17: 16976.648 | H17: 22659.062 | J17: =F17/1000000 -> 0.016976648 | L17: =H17/1000000 -> 0.022659062 | N17: 16603091303 | P17: =P15-P16 -> 3.3569249e+11
F18: =SUM(F9:F17) -> 335863.36 | H18: =SUM(H9:H17) -> 319168.42 | N18: ='صورت سود و زيان'!P13 -> 1.5812468e+12
N19: =N17+N18 -> 1.5978499e+12
B20: 7-1- علیرغم افزایش حقوق و مزایا به شرح یادداشت 1-6 ، کاهش مبلغ مذکور نسبت به سال قبل ناشی از بازنشستگی 4 نفر کارمندان اداری در شش ماهه اول سال جاری می‌باشد. | J20: 7-1- افزایش مبلغ مذکور نسبت به سال قبل ناشی از افزایش دستمزد سالیانه می باشد.
B22: 7-2- افزایش مبلغ مذکور نسبت به سال قبل ناشی از افزایش دستمزد سالیانه می باشد. | J22: 7-1- افزایش مبلغ مذکور نسبت به سال قبل ناشی از افزایش دستمزد سالیانه می باشد.
B24: 7-3- افزایش هزینه خدمات قراردادی عمدتاً ناشی از قراردادهای جدید منعقده در آخر سال قبل و سال جاری و افزایش سطح عمومی قیمت ها در سال جاری نسبت به سال قبل می باشد.
B26: 7-4- هزینه های مشترک و قابل تقسیم مراکز خدماتی بر اساس درصدهای تعیین شده در سیستم بهای تمام شده (نسبت به سال قبل تغییر عمده ای نداشته ) تسهیم گردیده است. افزایش هزینه های مذکور نسبت به سال قبل عمدتاً ناشی از افزایش سطح عمومی قیمت ها در سال جاری می باشد.
B28: 8- سایر درآمدها
D30: يادداشت | F30: =F7 -> 1399 | H30: =H7 -> 1398
F31: میلیون ريـــال | H31: میلیون ريـــال
B32: خسارت وارده به منابع آب های زیرزمینی | D32: 8-1 | F32: 317936.49 | H32: 267607.83 | L32: =F32/1000000 -> 0.31793649 | N32: =H32/1000000 -> 0.26760783
B33: درآمد اجاره بستر رودخانه ها | D33: 8-2 | F33: 15231.96 | H33: 3940.0278 | L33: =F33/1000000 -> 0.01523196 | N33: =H33/1000000 -> 0.0039400278
B34: درآمد اجاره حق استفاده از دریاچه سدها جهت پرورش ماهی | F34: 1695.5096 | H34: 3134.691 | L34: =F34/1000000 -> 0.0016955096 | N34: =H34/1000000 -> 0.003134691
B35: سایر (عمدتاً اجاره مخزن سدها و چاه و جمع آوری منصوبات چاهها) | F35: 5509 | H35: 10629.581 | L35: =F35/1000000 -> 0.005509 | N35: =H35/1000000 -> 0.010629581
F36: =SUM(F32:F35) -> 340372.96 | H36: =SUM(H32:H35) -> 285312.13
B38: 8-1- مبلغ مذکور در رعایت ماده 45 قانون توزیع عادلانه آب، خسارت برداشت غیر مجاز ( اعم از چاه های غیر مجاز و مازاد بر پروانه بهره برداری ) مطابق روند اجرایی مربوطه تعیین، دریافت و در حساب ها منظور شده است. افزایش درآمد نسبت به سال قبل عمدتاٌ ناشی از افزایش آن بابت کنترل بیشتر بر چاه ها در راستای جلوگیری از برداشت غیر مجاز از چاه های آب سطح استان و نظارت مستمر و بیشتر از منابع آب های زیرزمینی در قالب طرح احیاء و تعادل بخشی بوده است.
B40: 8-2- مبلغ مذکور بابت حق استفاده و بهره برداری از منافع اراضی واقع در رودخانه های سطح شهرستان های تابعه (اجاره اراضی بستر و حریم رودخانه ها و فروش شن و ماسه ) می‌باشد.
B43: 13

Sheet 9-11
B1: شركت سهامي آب منطقه اي خراسان رضوي
B2: يادداشت هاي توضيحي صورت هاي مالي
B3: سال مالی منتهی به 30 اسفند 1399
B5: 9- سایر هزینه ها
E7: يادداشت | G7: ='7-8'!F7 -> 1399 | I7: 1398
G8: میلیون ريـــال | I8: میلیون ريـــال
B9: هزینه های جذب نشده تولید | E9: 9-1 | G9: ='6'!G23 -> -38351 | I9: ='6'!O23 -> -29150.597 | L9: =F9/1000000 -> 0
B10: هزینه آرای قضایی علیه شرکت | E10: 9-2 | G10: -13347.733 | I10: 0 | L10: =G10/1000000 -> -0.013347733
G11: =SUM(G9:G10) -> -51698.732 | I11: =SUM(I9:I10) -> -29150.597
B13: 9-1- مبلغ مذکور بابت تفکیک هزینه عدم استفاده موثر از نیروی کار و هزینه های ثابت سربار تولیدی از هزینه های بهای تمام شده آب در خصوص سدهایی است که فاقد تولید آب می باشد. افزایش هزینه فوق ناشی از سدهای شهید دهقان، اسجیل و شهید مدرس می‌باشد که در سال جاری فاقد آب بوده اند,
B15: 9-2- بر اساس آرای صادره بر علیه شرکت توسط دادگستری استان خراسان رضوی در خصوص پرداخت خسارت قطع درختان و تخریب تاسیسات و زراعت و آسیب به باغ خواهان (آقای سید حسن کریمی) به مبلغ 6،259 میلیون ریال و همچنین پرداخت خسارت ناشی از تخریب زراعت و آسیب به مزارع خواهان (آقای علی جعفری و سایرین ) به مبلغ 6،028 میلیون ریال و سایر اشخاص به مبلغ 1،061 میلیون ریال ( جمعاً به مبلغ 13،348 میلیون ریال) به عنوان ذخیره (یادداشت23) در حساب ها انعکاس یافته و با توجه به اعتراض شرکت موضوع در دست بررسی می باشد.
B17: 10 - سـايـر درآمـدهـا و هزینه های غيرعملياتي
E19: يادداشت | G19: =G7 -> 1399 | I19: 1398
G20: میلیون ريـــال | I20: میلیون ريـــال
B21: درآمد مجموعه فرهنگي و ورزشي | E21: 10-1 | G21: 3308 | H21: 0 | I21: 19373.435 | L21: =G21/1000000 -> 0.003308 | M21: =H21/1000000 -> 0 | N21: =I21/1000000 -> 0.019373435 | O21: =J21/1000000 -> 0
B22: هزینه مالیات بر ارزش افزوده | E22: 10-2 | G22: -253677 | I22: 0 | L22: =G22/1000000 -> -0.253677
B23: سود ( زیان ) ناشی از فروش یا برکناری دارایی های ثابت | E23: 12-7 | G23: 1753 | H23: 0 | I23: 2257.7794 | L23: =G23/1000000 -> 0.001753 | M23: =H23/1000000 -> 0 | N23: =I23/1000000 -> 0.0022577794 | O23: =J23/1000000 -> 0
B24: ســـــايـــــــــر | G24: 2967 | H24: 0 | I24: 926.12806 | L24: =G24/1000000 -> 0.002967 | M24: =H24/1000000 -> 0 | N24: =I24/1000000 -> 0.00092612806 | O24: =J24/1000000 -> 0
G25: =SUM(G21:G24) -> -245649 | I25: =SUM(I21:I24) -> 22557.342 | L25: -5.416355 | M25: 24-2- بر اساس برگه های قطعی و مطالبه دریافتی از سازمان امورمالیاتی از ابتدای اجرای قانون مالیات بر ارزش افزوده تا پایان سال 1395 به ترتیب مبلغ 3.451 میلیون ریال به هزینه قطعی و 42.515 میلیون ریال به عنوان ذخیره ( یادداشت 11 ) در حساب ها انعکاس یافته و با توجه به اعتراض شرکت موضوع در دست بررسی می باشد.
M26: 24-1-3-2- مانده فوق شامل مبلغ 193.339 میلیون ریال اصل مبلغ عوارض و مالیات بر ارزش افزوده از ابتدای سه ماهه دوم سال 1389 تا پایان سال 1397 و تامین ذخیره به مبلغ 42،515 میلیون ریال در سال 1397 بر اساس برگه‌های قطعی ابلاغی توسط سازمان امور مالیاتی تا پایان سال 1395 می باشد. در راستای اعتراض شرکت، هیئت حل اختلاف مالیاتی در تاریخ 1400/01/18 اقدام به صدور رای نموده و ماخذ مشمول مالیات و اعتبارات رسیدگی شده طبق رای های قطعی برای دوره های مذکور را عیناً تایید نموده است. که شرکت به دلیل معترض بودن به رای صادره ، ضمن ارجاع شکایت به شورای عالی مالیاتی که در دست بررسی می‌باشد، معادل مبالغ جرایم مطالبه شده طیق برگه های قطعی ابلاغی، ذخیره در سال جاری شناسایی و ثبت نموده است. همچنین بابت سال های 1396 و 1397 بر اساس برگه های قطعی و مطالبه ابلاغی که نسبت به آن اعتراض شده معادل اصل و جرایم مبالغ عوارض و مالیات بر ارزش افزوده بالغ بر 65،452 میلیون ریال و در مجموع 104،414 میلیون ریال بابت دوره های مذکور در سال جاری ذخیره در دفاتر انعکاس یافته است. توضیحات کاملتر در یادداشت 2-10 ارائه شده است.
B27: 10-1- مبلغ مذكور عمدتاً درآمد استخر و اجاره سالن ورزشی است كه مورد استفاده پرسنل و برخي شركت ها مي باشد که کاهش مبلغ مذکور ناشی از عدم انعقاد قراردادهای جدید می باشد.
B29: 10-2- بر اساس برگه های قطعی و اجرایی ابلاغی از سازمان امور مالیاتی مربوط به دوره های سه ماهه دوم سال 1389 تا پایان سال 1397 جمعاً مبلغ 296،192 میلیون ریال بابت اصل و جرایم عوارض و مالیات بر ارزش افزوده مطالبه شده که باتوجه به انعکاس مبلغ 42،515 میلیون ریال بابت اصل عوارض و مالیات بر ارزش افزوده مطالبه شده در دفاتر سال 1397 ، در سال جاری نیز مبلغ 253،677 میلیون ریال بابت جرایم مطالبه شده به عنوان ذخیره (به شرح یادداشت 2-3-1-23) در حساب ها انعکاس یافته است. | L29: 10-2- در سال جاری بر اساس برگه های قطعی و مطالبه قطعی دریافتی از سازمان امور مالیاتی مربوط به سال های 1389 الی 1396 مبلغ 53.664 میلیون ریال بابت جرایم مطالبه شده به عنوان ذخیره (به شرح یادداشت 24) در حساب ها انعکاس یافته و با توجه به اعتراض شرکت موضوع در دست بررسی می باشد. شایان ذکر است بابت سال های مذکور در دفاتر سال 1397 مبلغ 42،515 میلیون ریال بابت اصل عوارض و مالیات بر ارزش افزوده مطالبه شده در سرفصل ذخیره انعکاس یافته بوده است.
B31: 11- کمک های دریافتی از دولت بابت جبران زیان | L31: 26- تعدیلات سنواتی
O32: يادداشت | Q32: 1397 | S32: 1396
B33: براساس موافقتنامه مبادله شده بین سازمان برنامه و بودجه با وزارت نیرو و شرکت مادر تخصصی مدیریت منابع آب ایران ( موضوع جزء 9 ردیف 520000 جدول شماره 4 قانون بودجه سال 1399 كشور )، مبلغ 15،500 میلیون ریال به شرکت مادر تخصصی مدیریت منابع آب ایران ابلاغ گردیده که تا پایان سال مالی مبلغ 15،500 میلیون ریال (سال قبل 13،750 میلیون ریال) معادل 100 درصد تخصیص داده شده و معادل کل مبلغ فوق به عنوان سهم راهبردی آن شرکت طبق نامه شماره 1400/112/802 مورخ 1400/01/25 در نظر گرفته شده است. | Q33: میلیون ريـــال | S33: میلیون ريـــال
O34: 26-1 | Q34: 290308 | R34: 0 | S34: 0
B35: 14
L38: 27

Sheet دارایی ثابت 1
B1: شركت سهامي آب منطقه اي خراسان رضوي
B2: يادداشت هاي توضيحي صورت هاي مالي
B3: سال مالي منتهي به 30 اسفند 1399
B5: 12- | C5: داریی های ثابت مشهود
E7: زمین | G7: ساختمان | I7: تاسیسات | K7: ماشین آلات و تجهیزات | M7: وسایل نقلیه | O7: اثاثه و منصوبات | Q7: ابزار و لوازم فنی | S7: جمع | U7: دارایی های در جریان تکمیل | W7: جمع
E8: میلیون ريـــال | G8: میلیون ريـــال | I8: میلیون ريـــال | K8: میلیون ريـــال | M8: میلیون ريـــال | O8: میلیون ريـــال | Q8: میلیون ريـــال | S8: میلیون ريـــال | U8: میلیون ريـــال | W8: میلیون ريـــال
B10: بهای تمام شده یا مبلغ تجدید ارزیابی
B11: مانده در ابتدای سال 1398 | E11: 132089 | F11: 0 | G11: 119232 | H11: 0 | I11: 8957403 | J11: 0 | K11: 5648 | L11: 0 | M11: 6452 | N11: 0 | O11: 22930 | P11: 0 | Q11: 13706 | S11: =SUM(E11:Q11)-99 -> 9257361 | U11: 116493 | W11: =SUM(S11:U11) -> 9373854 | AA11: =E11/1000000 -> 0.132089 | AB11: =F11/1000000 -> 0 | AC11: =G11/1000000 -> 0.119232 | AD11: =H11/1000000 -> 0 | AE11: =I11/1000000 -> 8.957403 | AF11: =J11/1000000 -> 0 | AG11: =K11/1000000 -> 0.005648 | AH11: =L11/1000000 -> 0 | ... AV11: =Z11/1000000 -> 0
B12: افزایش | C12: افزایش | E12: 0 | F12: 0 | G12: 7622 | H12: 0 | I12: 29688 | J12: 0 | K12: 0 | L12: 0 | M12: 2152 | N12: 0 | O12: 6887 | P12: 0 | Q12: 3762 | S12: =SUM(E12:Q12) -> 50111 | U12: 5550 | W12: =SUM(S12:U12) -> 55661 | AA12: =E12/1000000 -> 0 | AB12: =F12/1000000 -> 0 | AC12: =G12/1000000 -> 0.007622 | AD12: =H12/1000000 -> 0 | AE12: =I12/1000000 -> 0.029688 | AF12: =J12/1000000 -> 0 | AG12: =K12/1000000 -> 0 | AH12: =L12/1000000 -> 0 | ... AV12: =Z12/1000000 -> 0
B13: دارایی های فروخته شده و برکنار شده | C13: کاهش ناشی از تجدید ارزیابی | E13: 0 | F13: 0 | G13: 0 | H13: 0 | I13: 0 | J13: 0 | K13: =-570-85 -> -655 | L13: 0 | M13: =-265+85 -> -180 | N13: 0 | O13: -28.921994 | P13: 0 | Q13: -1.3 | S13: =SUM(E13:Q13) -> -865.22199 | U13: 0 | W13: =SUM(S13:U13) -> -865.22199 | AA13: =E13/1000000 -> 0 | AB13: =F13/1000000 -> 0 | AC13: =G13/1000000 -> 0 | AD13: =H13/1000000 -> 0 | AE13: =I13/1000000 -> 0 | AF13: =J13/1000000 -> 0 | AG13: =K13/1000000 -> -0.000655 | AH13: =L13/1000000 -> 0 | ... AV13: =Z13/1000000 -> 0
B14: انتقالی از طرح های تملک دارایی های سرمایه ای | C14: سایر نقل و انتقالات و تغییرات | E14: 0 | F14: 0 | G14: 12032 | H14: 0 | I14: =889953+1 -> 889954 | J14: 0 | K14: 0 | L14: 0 | M14: 0 | N14: 0 | O14: 0 | P14: 0 | Q14: 0 | S14: =SUM(E14:Q14) -> 901986 | U14: 0 | W14: =SUM(S14:U14) -> 901986 | AA14: =E14/1000000 -> 0 | AB14: =F14/1000000 -> 0 | AC14: =G14/1000000 -> 0.012032 | AD14: =H14/1000000 -> 0 | AE14: =I14/1000000 -> 0.889954 | AF14: =J14/1000000 -> 0 | AG14: =K14/1000000 -> 0 | AH14: =L14/1000000 -> 0 | ... AV14: =Z14/1000000 -> 0
B15: نقل و انتقالات | E15: 0 | F15: 0 | G15: =112+1 -> 113 | H15: 0 | I15: 99412 | J15: 0 | K15: 0 | L15: 0 | M15: 0 | N15: 0 | O15: 0 | P15: 0 | Q15: 0 | S15: =SUM(E15:Q15) -> 99525 | U15: -99525 | W15: =SUM(S15:U15) -> 0 | AA15: =E15/1000000 -> 0 | AB15: =F15/1000000 -> 0 | AC15: =G15/1000000 -> 0.000113 | AD15: =H15/1000000 -> 0 | AE15: =I15/1000000 -> 0.099412 | AF15: =J15/1000000 -> 0 | AG15: =K15/1000000 -> 0 | AH15: =L15/1000000 -> 0 | ... AV15: =Z15/1000000 -> 0
B16: مانده در پایان سال 1398 | E16: =SUM(E11:E15) -> 132089 | G16: =SUM(G11:G15) -> 138999 | I16: =SUM(I11:I15) -> 9976457 | K16: =SUM(K11:K15) -> 4993 | L16: 0 | M16: =SUM(M11:M15) -> 8424 | O16: =SUM(O11:O15)-1 -> 29787.078 | Q16: =SUM(Q11:Q15) -> 17466.7 | S16: =SUM(S11:S15) -> 10308118 | U16: =SUM(U11:U15) -> 22518 | W16: =SUM(W11:W15) -> 10330636 | AA16: =E16/1000000 -> 0.132089 | AB16: =F16/1000000 -> 0 | AC16: =G16/1000000 -> 0.138999 | AD16: =H16/1000000 -> 0 | AE16: =I16/1000000 -> 9.976457 | AF16: =J16/1000000 -> 0 | AG16: =K16/1000000 -> 0.004993 | AH16: =L16/1000000 -> 0 | ... AV16: =Z16/1000000 -> 0
B17: افزایش | C17: افزایش | E17: =7242 -> 7242 | F17: 0 | G17: =3405+8461 -> 11866 | H17: 0 | I17: =75024-8461 -> 66563 | J17: 0 | K17: 0 | L17: 0 | M17: 9219 | N17: 0 | O17: =9707 -> 9707 | Q17: =9913 -> 9913 | S17: =SUM(E17:R17) -> 114510 | T17: 0 | U17: =9472 -> 9472 | V17: 0 | W17: =SUM(S17:U17) -> 123982 | AA17: =E17/1000000 -> 0.007242 | AB17: =F17/1000000 -> 0 | AC17: =G17/1000000 -> 0.011866 | AD17: =H17/1000000 -> 0 | AE17: =I17/1000000 -> 0.066563 | AF17: =J17/1000000 -> 0 | AG17: =K17/1000000 -> 0 | AH17: =L17/1000000 -> 0 | ... AV17: =Z17/1000000 -> 0
B18: دارایی های فروخته شده و برکنار شده | E18: 0 | F18: 0 | G18: 0 | H18: 0 | I18: 0 | J18: 0 | K18: 0 | L18: 0 | M18: -120 | N18: 0 | O18: 0 | Q18: -82 | S18: =SUM(E18:Q18) -> -202 | T18: 0 | U18: 0 | V18: 0 | W18: =SUM(S18:U18) -> -202 | AA18: =E18/1000000 -> 0 | AB18: =F18/1000000 -> 0 | AC18: =G18/1000000 -> 0 | AD18: =H18/1000000 -> 0 | AE18: =I18/1000000 -> 0 | AF18: =J18/1000000 -> 0 | AG18: =K18/1000000 -> 0 | AH18: =L18/1000000 -> 0 | ... AV18: =Z18/1000000 -> 0
B19: انتقالی از طرح های تملک دارایی های سرمایه ای | E19: 0 | F19: 0 | G19: 0 | H19: 0 | I19: 57232.627 | J19: 0 | K19: 0 | L19: 0 | M19: 0 | N19: 0 | O19: 0 | Q19: 0 | S19: =SUM(E19:R19) -> 57232.627 | T19: 0 | U19: 0 | V19: 0 | W19: =SUM(S19:U19) -> 57232.627 | AA19: =E19/1000000 -> 0 | AB19: =F19/1000000 -> 0 | AC19: =G19/1000000 -> 0 | AD19: =H19/1000000 -> 0 | AE19: =I19/1000000 -> 0.057232627 | AF19: =J19/1000000 -> 0 | AG19: =K19/1000000 -> 0 | AH19: =L19/1000000 -> 0 | ... AV19: =Z19/1000000 -> 0
B20: نقل و انتقالات | E20: 0 | F20: 0 | G20: 0 | H20: 0 | I20: 8460 | J20: 0 | K20: 0 | L20: 0 | M20: 0 | N20: 0 | O20: 0 | Q20: 0 | S20: =SUM(E20:R20) -> 8460 | T20: 0 | U20: -8460 | V20: 0 | W20: =SUM(S20:U20) -> 0 | AA20: =E20/1000000 -> 0 | AB20: =F20/1000000 -> 0 | AC20: =G20/1000000 -> 0 | AD20: =H20/1000000 -> 0 | AE20: =I20/1000000 -> 0.00846 | AF20: =J20/1000000 -> 0 | AG20: =K20/1000000 -> 0 | AH20: =L20/1000000 -> 0 | ... AV20: =Z20/1000000 -> 0
B21: مانده در پایان سال 1399 | E21: =SUM(E16:E20) -> 139331 | F21: 0 | G21: =SUM(G16:G20) -> 150865 | H21: 0 | I21: =SUM(I16:I20) -> 10108713 | J21: 0 | K21: =SUM(K16:K20) -> 4993 | L21: 0 | M21: =SUM(M16:M20) -> 17523 | N21: 0 | O21: =SUM(O16:O20) -> 39494.078 | Q21: =SUM(Q16:Q20) -> 27297.7 | S21: =SUM(S16:S20) -> 10488118 | T21: 0 | U21: =SUM(U16:U20) -> 23530 | V21: 0 | W21: =SUM(W16:W20) -> 10511648 | AA21: =E21/1000000 -> 0.139331 | AB21: =F21/1000000 -> 0 | AC21: =G21/1000000 -> 0.150865 | AD21: =H21/1000000 -> 0 | AE21: =I21/1000000 -> 10.108713 | AF21: =J21/1000000 -> 0 | AG21: =K21/1000000 -> 0.004993 | AH21: =L21/1000000 -> 0 | ... AV21: =Z21/1000000 -> 0
L22: 0 | AA22: =E22/1000000 -> 0 | AB22: =F22/1000000 -> 0 | AC22: =G22/1000000 -> 0 | AD22: =H22/1000000 -> 0 | AE22: =I22/1000000 -> 0 | AF22: =J22/1000000 -> 0 | AG22: =K22/1000000 -> 0 | AH22: =L22/1000000 -> 0 | ... AV22: =Z22/1000000 -> 0
B23: استهلاك انياشته | L23: 0 | AA23: =E23/1000000 -> 0 | AB23: =F23/1000000 -> 0 | AC23: =G23/1000000 -> 0 | AD23: =H23/1000000 -> 0 | AE23: =I23/1000000 -> 0 | AF23: =J23/1000000 -> 0 | AG23: =K23/1000000 -> 0 | AH23: =L23/1000000 -> 0 | ... AV23: =Z23/1000000 -> 0
B24: مانده در ابتدای سال 1398 | E24: 0 | G24: 38727 | H24: 0 | I24: 1434526 | J24: 0 | K24: 2803 | L24: 0 | M24: 4940 | N24: 0 | O24: 10818 | P24: 0 | Q24: 5907 | S24: =SUM(G24:R24) -> 1497721 | U24: 0 | W24: =SUM(S24:U24) -> 1497721 | Y24: =SUM(U24:W24) -> 1497721 | AA24: =E24/1000000 -> 0 | AB24: =F24/1000000 -> 0 | AC24: =G24/1000000 -> 0.038727 | AD24: =H24/1000000 -> 0 | AE24: =I24/1000000 -> 1.434526 | AF24: =J24/1000000 -> 0 | AG24: =K24/1000000 -> 0.002803 | AH24: =L24/1000000 -> 0 | ... AV24: =Z24/1000000 -> 0
B25: استهلاک | E25: 0 | G25: 8152 | H25: 0 | I25: 309206 | J25: 0 | K25: 578 | L25: 0 | M25: 545 | N25: 0 | O25: 2296 | P25: 0 | Q25: 1177 | S25: =SUM(E25:Q25) -> 321954 | U25: 0 | W25: =SUM(S25:U25) -> 321954 | Y25: =SUM(U25:W25) -> 321954 | AA25: =E25/1000000 -> 0 | AB25: =F25/1000000 -> 0 | AC25: =G25/1000000 -> 0.008152 | AD25: =H25/1000000 -> 0 | AE25: =I25/1000000 -> 0.309206 | AF25: =J25/1000000 -> 0 | AG25: =K25/1000000 -> 0.000578 | AH25: =L25/1000000 -> 0 | ... AV25: =Z25/1000000 -> 0
B26: دارایی های فروخته شده و برکنار شده | E26: 0 | G26: 0 | H26: 0 | I26: 0 | J26: 0 | K26: -570 | L26: 0 | M26: -265 | N26: 0 | O26: -29 | P26: 0 | Q26: -1 | S26: =SUM(E26:Q26) -> -865 | U26: 0 | W26: =SUM(S26:U26) -> -865 | Y26: =SUM(U26:W26) -> -865 | AA26: =E26/1000000 -> 0 | AB26: =F26/1000000 -> 0 | AC26: =G26/1000000 -> 0 | AD26: =H26/1000000 -> 0 | AE26: =I26/1000000 -> 0 | AF26: =J26/1000000 -> 0 | AG26: =K26/1000000 -> -0.00057 | AH26: =L26/1000000 -> 0 | ... AV26: =Z26/1000000 -> 0
B27: مانده در پایان سال 1398 | E27: 0 | G27: =SUM(G24:G26) -> 46879 | I27: =SUM(I24:I26) -> 1743732 | K27: =SUM(K24:K26) -> 2811 | M27: =SUM(M24:M26) -> 5220 | O27: =SUM(O24:O26) -> 13085 | Q27: =SUM(Q24:Q26) -> 7083 | S27: =SUM(S24:S26) -> 1818810 | U27: =SUM(U24:U26) -> 0 | W27: =SUM(W24:W26) -> 1818810 | AA27: =E27/1000000 -> 0 | AB27: =F27/1000000 -> 0 | AC27: =G27/1000000 -> 0.046879 | AD27: =H27/1000000 -> 0 | AE27: =I27/1000000 -> 1.743732 | AF27: =J27/1000000 -> 0 | AG27: =K27/1000000 -> 0.002811 | AH27: =L27/1000000 -> 0 | ... AV27: =Z27/1000000 -> 0
B28: استهلاک | E28: 0 | G28: 8657 | H28: 0 | I28: 365169 | J28: 0 | K28: 578 | L28: 0 | M28: 876 | N28: 0 | O28: 2898 | P28: 0 | Q28: 1523 | R28: 0 | S28: =SUM(E28:Q28) -> 379701 | U28: 0 | W28: =SUM(S28:U28) -> 379701 | AA28: =E28/1000000 -> 0 | AB28: =F28/1000000 -> 0 | AC28: =G28/1000000 -> 0.008657 | AD28: =H28/1000000 -> 0 | AE28: =I28/1000000 -> 0.365169 | AF28: =J28/1000000 -> 0 | AG28: =K28/1000000 -> 0.000578 | AH28: =L28/1000000 -> 0 | ... AV28: =Z28/1000000 -> 0
B29: دارایی های فروخته شده و برکنار شده | E29: 0 | G29: 0 | I29: 0 | K29: 0 | M29: -120 | O29: 0 | Q29: -82 | S29: =SUM(E29:Q29) -> -202 | U29: 0 | W29: =SUM(S29:U29) -> -202 | AA29: =E29/1000000 -> 0 | AB29: =F29/1000000 -> 0 | AC29: =G29/1000000 -> 0 | AD29: =H29/1000000 -> 0 | AE29: =I29/1000000 -> 0 | AF29: =J29/1000000 -> 0 | AG29: =K29/1000000 -> 0 | AH29: =L29/1000000 -> 0 | ... AV29: =Z29/1000000 -> 0
B30: مانده در پایان سال 1399 | E30: =SUM(E27:E29) -> 0 | G30: =SUM(G27:G29) -> 55536 | I30: =SUM(I27:I29) -> 2108901 | K30: =SUM(K27:K29) -> 3389 | M30: =SUM(M27:M29) -> 5976 | O30: =SUM(O27:O29) -> 15983 | Q30: =SUM(Q27:Q29) -> 8524 | S30: =SUM(S27:S29) -> 2198309 | U30: =SUM(U27:U29) -> 0 | W30: =SUM(W27:W29) -> 2198309 | AA30: =E30/1000000 -> 0 | AB30: =F30/1000000 -> 0 | AC30: =G30/1000000 -> 0.055536 | AD30: =H30/1000000 -> 0 | AE30: =I30/1000000 -> 2.108901 | AF30: =J30/1000000 -> 0 | AG30: =K30/1000000 -> 0.003389 | AH30: =L30/1000000 -> 0 | ... AV30: =Z30/1000000 -> 0
B31: مبلغ دفتری در پایان سال 1399 | E31: =E21-E30 -> 139331 | G31: =G21-G30 -> 95329 | I31: =I21-I30 -> 7999811.6 | K31: =K21-K30 -> 1604 | M31: =M21-M30 -> 11547 | O31: =O21-O30 -> 23511.078 | Q31: =Q21-Q30 -> 18773.7 | S31: =S21-S30 -> 8289809.4 | U31: =U21-U30 -> 23530 | W31: =W21-W30 -> 8313339.4 | AA31: =E31/1000000 -> 0.139331 | AB31: =F31/1000000 -> 0 | AC31: =G31/1000000 -> 0.095329 | AD31: =H31/1000000 -> 0 | AE31: =I31/1000000 -> 7.9998116 | AF31: =J31/1000000 -> 0 | AG31: =K31/1000000 -> 0.001604 | AH31: =L31/1000000 -> 0 | ... AV31: =Z31/1000000 -> 0
B32: مبلغ دفتری در پایان سال 1398 | E32: =E16-E27 -> 132089 | G32: =G16-G27 -> 92120 | I32: =I16-I27 -> 8232725 | K32: =K16-K27 -> 2182 | M32: =M16-M27 -> 3204 | O32: =O16-O27 -> 16702.078 | Q32: =Q16-Q27 -> 10383.7 | S32: =S16-S27 -> 8489307.8 | U32: =U16-U27 -> 22518 | W32: =W16-W27 -> 8511825.8 | AA32: =E32/1000000 -> 0.132089 | AB32: =F32/1000000 -> 0 | AC32: =G32/1000000 -> 0.09212 | AD32: =H32/1000000 -> 0 | AE32: =I32/1000000 -> 8.232725 | AF32: =J32/1000000 -> 0 | AG32: =K32/1000000 -> 0.002182 | AH32: =L32/1000000 -> 0 | ... AV32: =Z32/1000000 -> 0
AA33: =E33/1000000 -> 0 | AB33: =F33/1000000 -> 0 | AC33: =G33/1000000 -> 0 | AD33: =H33/1000000 -> 0 | AE33: =I33/1000000 -> 0 | AF33: =J33/1000000 -> 0 | AG33: =K33/1000000 -> 0 | AH33: =L33/1000000 -> 0 | ... AV33: =Z33/1000000 -> 0
B40: 15 | AA40: =E40/1000000 -> 0 | AB40: =F40/1000000 -> 0 | AC40: =B40/1000000 -> 1.5e-05 | AD40: =H40/1000000 -> 0 | AE40: =I40/1000000 -> 0 | AF40: =J40/1000000 -> 0 | AG40: =K40/1000000 -> 0 | AH40: =L40/1000000 -> 0 | AI40: =M40/1000000 -> 0 | AJ40: =N40/1000000 -> 0 | AK40: =O40/1000000 -> 0 | ... AV40: =Z40/1000000 -> 0
AA41: =E41/1000000 -> 0 | AB41: =F41/1000000 -> 0 | AC41: =G41/1000000 -> 0 | AD41: =H41/1000000 -> 0 | AE41: =I41/1000000 -> 0 | AF41: =J41/1000000 -> 0 | AG41: =K41/1000000 -> 0 | AH41: =L41/1000000 -> 0 | ... AV41: =Z41/1000000 -> 0
AA42: =E42/1000000 -> 0 | AB42: =F42/1000000 -> 0 | AC42: =G42/1000000 -> 0 | AD42: =H42/1000000 -> 0 | AE42: =I42/1000000 -> 0 | AF42: =J42/1000000 -> 0 | AG42: =K42/1000000 -> 0 | AH42: =L42/1000000 -> 0 | ... AV42: =Z42/1000000 -> 0
AA43: =E43/1000000 -> 0 | AB43: =F43/1000000 -> 0 | AC43: =G43/1000000 -> 0 | AD43: =H43/1000000 -> 0 | AE43: =I43/1000000 -> 0 | AF43: =J43/1000000 -> 0 | AG43: =K43/1000000 -> 0 | AH43: =L43/1000000 -> 0 | ... AV43: =Z43/1000000 -> 0
AA44: =E44/1000000 -> 0 | AB44: =F44/1000000 -> 0 | AC44: =G44/1000000 -> 0 | AD44: =H44/1000000 -> 0 | AE44: =I44/1000000 -> 0 | AF44: =J44/1000000 -> 0 | AG44: =K44/1000000 -> 0 | AH44: =L44/1000000 -> 0 | ... AV44: =Z44/1000000 -> 0
AA45: =E45/1000000 -> 0 | AB45: =F45/1000000 -> 0 | AC45: =G45/1000000 -> 0 | AD45: =H45/1000000 -> 0 | AE45: =I45/1000000 -> 0 | AF45: =J45/1000000 -> 0 | AG45: =K45/1000000 -> 0 | AH45: =L45/1000000 -> 0 | ... AV45: =Z45/1000000 -> 0
AA46: =E46/1000000 -> 0 | AB46: =F46/1000000 -> 0 | AC46: =G46/1000000 -> 0 | AD46: =H46/1000000 -> 0 | AE46: =I46/1000000 -> 0 | AF46: =J46/1000000 -> 0 | AG46: =K46/1000000 -> 0 | AH46: =L46/1000000 -> 0 | ... AV46: =Z46/1000000 -> 0
AA47: =E47/1000000 -> 0 | AB47: =F47/1000000 -> 0 | AC47: =G47/1000000 -> 0 | AD47: =H47/1000000 -> 0 | AE47: =I47/1000000 -> 0 | AF47: =J47/1000000 -> 0 | AG47: =K47/1000000 -> 0 | AH47: =L47/1000000 -> 0 | ... AV47: =Z47/1000000 -> 0
AA48: =E48/1000000 -> 0 | AB48: =F48/1000000 -> 0 | AC48: =G48/1000000 -> 0 | AD48: =H48/1000000 -> 0 | AE48: =I48/1000000 -> 0 | AF48: =J48/1000000 -> 0 | AG48: =K48/1000000 -> 0 | AH48: =L48/1000000 -> 0 | ... AV48: =Z48/1000000 -> 0
AA49: =E49/1000000 -> 0 | AB49: =F49/1000000 -> 0 | AC49: =G49/1000000 -> 0 | AD49: =H49/1000000 -> 0 | AE49: =I49/1000000 -> 0 | AF49: =J49/1000000 -> 0 | AG49: =K49/1000000 -> 0 | AH49: =L49/1000000 -> 0 | ... AV49: =Z49/1000000 -> 0
AA50: =E50/1000000 -> 0 | AB50: =F50/1000000 -> 0 | AC50: =G50/1000000 -> 0 | AD50: =H50/1000000 -> 0 | AE50: =I50/1000000 -> 0 | AF50: =J50/1000000 -> 0 | AG50: =K50/1000000 -> 0 | AH50: =L50/1000000 -> 0 | ... AV50: =Z50/1000000 -> 0
AB51: =F51/1000000 -> 0 | AC51: =G51/1000000 -> 0 | AD51: =H51/1000000 -> 0 | AE51: =I51/1000000 -> 0 | AF51: =J51/1000000 -> 0 | AG51: =K51/1000000 -> 0 | AH51: =L51/1000000 -> 0 | AI51: =M51/1000000 -> 0 | ... AV51: =Z51/1000000 -> 0
AB52: =F52/1000000 -> 0 | AC52: =G52/1000000 -> 0 | AD52: =H52/1000000 -> 0 | AE52: =I52/1000000 -> 0 | AF52: =J52/1000000 -> 0 | AG52: =K52/1000000 -> 0 | AH52: =L52/1000000 -> 0 | AI52: =M52/1000000 -> 0 | ... AV52: =Z52/1000000 -> 0

Sheet 12
B1: شركت سهامي آب منطقه اي خراسان رضوي
B2: يادداشت هاي توضيحي صورت هاي مالي
B3: سال مالی منتهی به 30 اسفند 1399
B5: 12-1 - دارایی های ثابت مشهود شركت تا ارزش 259.225 میلیون ريـــال در مقابل خطرات احتمالي ناشي از حريق ، سيل و زلزله از پوشش بيمه اي برخوردار است. همچنین وسایل نقلیه شرکت تا مبلغ 33،265 میلیون ریال تحت پوشش بیمه بدنه قراردارد.
B6: 12-2- سرفصل زمین شامل 236.171 متر مربع و ساختمان و محوطه سازی 34.220 متر مربع عمدتاً واحدهای اداری ، ورزشی ، واحدهای سازمانی و انبارها مي باشد.
B7: 12-3 - افزایش زمین بابت خريد یک قطعه زمین واقع در سایت چالی دره به مساحت 241/4 مترمربع و ساختمان بابت بازسازی امور آب مشهد ، سرخس ، کلات و تربت حیدریه و تاسیسات بابت سدهای کارده ، سراب ، ارداک ، شهید یعقوبی ، سنگرد و تبارک آباد و وسایل نقلیه بابت خرید 1 دستگاه ون و اثاثه و منصوبات عمدتاً بابت خريد كامپيوتر و لوازم اداري و ابزار و لوازم فني بابت خريد سیستم ذخیره ساز اطلاعات و دوربین مداربسته می‌باشد.
B8: 12-4- دارایی های انتقالی از طرح تملک دارایی های سرمایه ای در سرفصل تاسيسات مربوط به دارایی های طرح های انتفاعی و غیر انتفاعی خاتمه یافته به ترتیب به مبالغ 666.592 و 235.394 میلیون ریال (به شرح یادداشت های 1-2-24 و 21 ) و عمدتا بابت سد چهچهه ، بندهای گلار صالح آباد و استریدر مهر سبزوار می‌باشد.
B9: 12-4-نقل و انتقالات طی سال عمدتاً مربوط به تکمیل تاسیسات سد بار ، سد ارداک ، سد چهچهه ، کانال انتقال آب گلار صالح آباد و کانال انتقال آب استریدر مهر سبزوار می باشد .
B10: 12-5 - دارايي هاي انتقالی از طرح های تملک دارایی های سرمایه ای غیر انتفاعی به مبلغ 28،800 میلیون ریال و به طرفیت سرفصل سرمایه گذاری دولت (یادداشت توضیحی 2-1-21) و بابت طرح های تملک دارایی های سرمایه ای انتفاعی به مبلغ 28،433 میلیون ریال و به طرفیت سرفصل پرداختنی های بلند مدت (یادداشت توضیحی 1-2-23) مي باشد. | R10: 12-5 - دارايي هاي انتقالی از طرح های تملک دارایی های سرمایه ای غیر انتفاعی به مبلغ 126،784 میلیون ریال و به طرفیت سرفصل سرمایه گذاری دولت (یادداشت توضیحی 1-21) و بابت طرح های تملک دارایی های سرمایه ای انتفاعی به مبلغ 57،233 میلیون ریال و به طرفیت سرفصل پرداختنی های بلند مدت (یادداشت توضیحی 2-24) مي باشد.
B11: 12-6 - بهای تمام شده دارايي هاي 100 درصد مستـهـلک شده در سرفصل ماشین آلات و تجهیزات مبلغ 3.877 میلیون ریال ، وسایل نقلیه مبلغ 3.953 میلیون ریال ، اثاثه و منصوبات مبلغ 2.778 میلیون ریال و ابزار و لوازم فني مبلغ 939 میلیون ریال مي باشد.
B12: 12-7- دارايي هاي فروخته شده و برکنار شده به شرح زير است:
M13: ارقام به ریال
B14: عنوان | C14: بهاي تمام شده | G14: استهلاك انباشته | M14: بهای فروش | O14: سود ( زیان ) حاصل از فروش و برکناری دارایی ها
C15: دارایی های فروش رفته | D15: دارایی های برکنار شده | E15: جمــع | G15: دارایی های فروش رفته | I15: دارایی های برکنار شده | K15: جمع
B16: اثاثه و منصوبات | C16: 0 | D16: 28921994 | E16: =SUM(C16:D16) -> 28921994 | G16: 0 | I16: 28761410 | K16: =G16+I16 -> 28761410 | M16: 0 | O16: =K16-E16+M16 -> -160584
B17: ماشين آلات و تجهيزات | C17: 570000000 | D17: 0 | E17: =C17+D17 -> 570000000 | G17: 570000000 | I17: 0 | K17: =G17+I17 -> 570000000 | M17: 725400000 | O17: =K17-E17+M17 -> 725400000
B18: وسایل نقلیه | C18: 248499000 | D18: 16700000 | E18: =C18+D18 -> 265199000 | G18: 248499000 | I18: 16700000 | K18: =G18+I18 -> 265199000 | M18: 1532540000 | O18: =K18-E18+M18 -> 1532540000
B19: ابزار آلات | C19: 0 | D19: 1300000 | E19: =C19+D19 -> 1300000 | G19: 0 | I19: 1300000 | K19: =G19+I19 -> 1300000 | M19: 0 | O19: =K19-E19+M19 -> 0
B20: جمع | C20: =SUM(C16:C19) -> 818499000 | D20: =SUM(D16:D19) -> 46921994 | E20: =SUM(E16:E19) -> 865420994 | G20: =SUM(G16:G19) -> 818499000 | I20: =SUM(I16:I19) -> 46761410 | K20: =G20+I20 -> 865260410 | M20: =SUM(M16:M19) -> 2257940000 | O20: =SUM(O16:O19) -> 2257779416
B22: 12-7-1 - فروش وسایل نقلیه از طریق مزایده عمومی و پس از اخذ مجوز از وزارت امور اقتصادی و دارایی صورت پذیرفته و بخشی از اثاثیه و ابزار آلات با توجه به عدم قابلیت استفاده از آنها برکنار شده است .
B24: 12-7- دارايي هاي در جریان تکمیل به شرح زير است:
E26: درصد تکمیل | I26: برآورد تاریخ بهره‌برداری | K26: برآورد مخارج تکمیل | M26: مخارج انباشته
E27: =M27 -> 1399 | G27: 1398 | M27: 1399 | O27: 1398
E28: درصد | G28: درصد | K28: میلیون ريـــال | M28: میلیون ريـــال | O28: میلیون ريـــال
B29: ساختمان اداری | E29: 99 | G29: 98 | I29: 1400/12/29 | K29: 53 | M29: 763 | O29: 3155 | R29: =K29/1000000 -> 5.3e-05
B30: تاسیسات | E30: 98 | G30: 93 | I30: 1400/12/29 | K30: 342 | M30: 20109 | O30: 18807 | R30: =K30/1000000 -> 0.000342
B31: تاسیسات - محوطه سازي ساختمان امور آب مشهد و سبزوار | E31: 99 | G31: 0 | I31: 1400/12/29 | K31: 0 | M31: 2658 | O31: 556 | R31: =K31/1000000 -> 0 | S31: ='دارایی ثابت 1'!U21-'12'!M32 -> 0
K32: =SUM(K29:K31) -> 395 | M32: =SUM(M29:M31) -> 23530 | O32: =SUM(O29:O31) -> 22518
B34: 12-7-1 - دارایی های در جریان تکمیل عمدتاً بابت اجراي كارهاي باقيمانده محوطه سازي ساختمان امور آب مشهد و شبکه آب و فاضلاب مجموعه ورزشی و محوطه امور آب سبزوار و امور آب کلات می‌باشد.
B36: 12-7-2 - کاهش دارایی های در جریان تکمیل مربوط به تکمیل بازسازی ساختمان امور آب تربت حیدریه ، سبزوار و کلات و انتقال آن به سرفصل ساختمان به شرح یادداشت 4-12 می باشد.
B38: 12-8 - طبق قانون تشکیل شرکت های آب و فاضلاب شهری، بهره برداری از تاسیسات تصفیه خانه و خطوط انتقال آب شرب شهری به عهده شرکت های آب و فاضلاب واگذار گردیده است. در راستای تصمیمات ابلاغی طبق نامه شماره 95/23926/100 مورخ 1395/05/18 معاون وزیر در امور آب و آبفا , در تاریخ 1395/10/06 تاسیسات خط انتقال آب از سد دوستی و ارداک به مشهد در سال 1396 به شرکت آب و فاضلاب مشهد تحویل گردیده و اعمال حساب لازم نیز در سال 1397 در دفاتر شرکت انعکاس یافته است. صورتجلسه تحویل و تحول ریالی نهایی آن که منوط به اخذ گزارش داور مرضی الطرفین بوده , تاکنون تنظیم نگردیده است. | S38: 12-9 - با توجه به اینکه طبق قانون تشکیل شرکت های آب و فاضلاب شهری، بهره برداری از تاسیسات تصفیه خانه و خطوط انتقال آب شرب شهری به عهده شرکت های آب و فاضلاب می باشد. در راستای تصمیمات ابلاغی طبق نامه شماره 95/23926/100 مورخ 1395/05/18 معاون وزیر در امور آب و آبفا , در تاریخ 1395/10/06 تاسیسات خط انتقال آب از سد دوستی به مشهد , به شرکت آب و فاضلاب مشهد تحویل گردید. طبق موافقت نامه های مبادله شده در سال 1396 اجرا و بهره برداری از خط انتقال سد دوستی به شرکت آب و فاضلاب مشهد واگذار شده که موضوع واگذاری تاسیسات و ماشین آلات مربوط به شرکت های آب و فاضلاب از طریق شرکت مادر تخصصی مدیریت منابع آب ایران پیگیری و به موجب بند 2 مصوبه مجمع عمومی فوق‌العاده صاحبان سهام مورخ 1397/12/21 با توجه به تغییر نام دستگاه اجرایی در پیوست های قانون بودجه سال 1396، انتقال مالکیت خط انتقال آب به مشهد از سد دوستی به شرکت آب و فاضلاب مشهد قطعی شده تلقی و باتوجه به آن در سال قبل پس از طی مراحل قانونی و اخذ مجوزهای لازم به ارزش دفتری به مبلغ 5.655 میلیارد ریال به شرکت آب و فاضلاب مشهد انتقال یافته است. ضمنا صورتجلسه تحویل و تحول ریالی نهایی تاکنون تنظیم نگردیده است.
B47: 16

Sheet 13
B1: شركت سهامي آب منطقه اي خراسان رضوي
B2: يادداشت هاي توضيحي صورت هاي مالي
B3: سال مالی منتهی به 30 اسفند 1399
B5: 12-9- هزینه استهلاک مازاد تجدید ارزیابی به شرح زیر می باشد:
C7: قیمت کارشناسی دارایی‌های تجدید ارزیابی شده | E7: بهای تمام شده دارایی‌های تجدید ارزیابی شده | G7: هزینه استهلاک بر‌مبنای بهای تمام شده | I7: هزینه استهلاک بر‌مبنای تجدید ارزیابی | K7: هزینه استهلاک مازاد تجدید ارزیابی
C8: میلیون ريـــال | E8: میلیون ريـــال | G8: میلیون ريـــال | I8: میلیون ريـــال | K8: میلیون ريـــال
B9: زمین | C9: 131517 | D9: 0 | E9: 14945 | F9: 0 | G9: 0 | H9: 0 | I9: 0 | K9: 0 | N9: =C9/10000000 -> 0.0131517 | O9: =D9/10000000 -> 0 | P9: =E9/10000000 -> 0.0014945 | Q9: =F9/10000000 -> 0 | R9: =G9/10000000 -> 0 | S9: =H9/10000000 -> 0 | T9: =I9/10000000 -> 0 | U9: =J9/10000000 -> 0 | ... AH9: =W9/10000000 -> 0
B10: ساختمان | C10: 89759 | D10: 0 | E10: 68031 | F10: 0 | G10: 3882 | H10: 0 | I10: 5332 | K10: =I10-G10 -> 1450 | N10: =C10/10000000 -> 0.0089759 | O10: =D10/10000000 -> 0 | P10: =E10/10000000 -> 0.0068031 | Q10: =F10/10000000 -> 0 | R10: =G10/10000000 -> 0.0003882 | S10: =H10/10000000 -> 0 | T10: =I10/10000000 -> 0.0005332 | U10: =J10/10000000 -> 0 | ... AH10: =W10/10000000 -> 0
B11: تاسیسات | C11: 5620085 | D11: 0 | E11: 2809703 | F11: 0 | G11: 80580 | H11: 0 | I11: 155239 | K11: =I11-G11 -> 74659 | N11: =C11/10000000 -> 0.5620085 | O11: =D11/10000000 -> 0 | P11: =E11/10000000 -> 0.2809703 | Q11: =F11/10000000 -> 0 | R11: =G11/10000000 -> 0.008058 | S11: =H11/10000000 -> 0 | T11: =I11/10000000 -> 0.0155239 | U11: =J11/10000000 -> 0 | ... AH11: =W11/10000000 -> 0
C12: =SUM(C9:C11) -> 5841361 | E12: =SUM(E9:E11) -> 2892679 | G12: =SUM(G9:G11) -> 84462 | I12: =SUM(I9:I11) -> 160571 | K12: =SUM(K9:K11) -> 76109
B14: در اجرای بند 39 قانون بودجه سال 1391 کل کشور و آیین نامه اجرایی مصوب هیات وزیران به شماره 154028/ ت 48319 ه مورخ 1391/8/16 و دستورالعمل تجدید ارزیابی دارایی های شرکت های آب و فاضلاب ، دارایی های شرکت در سال مالی 1390 با استفاده از 3 نفر از ارزیابان منتخب مجمع عمومی فوق العاده صاحبان سهام مورد تجدید ارزیابی قرار گرفته است و مازاد تجدید ارزیابی برابر مصوبه مجمع عمومی فوق العاده صاحبان سهام در سال 1391 به حساب سرمایه شرکت منظور گردیده است.
B16: ‏‏13 - دارايي هاي نامشهود
G18: حق امتیاز خدمات عمومی | I18: ساير دارايي هاي نامشهود | K18: جمع
G19: میلیون ريـــال | I19: میلیون ريـــال | K19: میلیون ريـــال
B20: بهای تمام شده
B21: مانده در ابتدای سال 1398 | G21: 2646 | I21: =I41 -> 15892.546 | K21: =G21+I21 -> 18538.546 | N21: =G21/1000000 -> 0.002646
B22: افزایش | G22: 139 | I22: 0 | K22: =G22+I22 -> 139
B23: مانده در پایان سال 1398 | G23: =SUM(G21:G22) -> 2785 | I23: =SUM(I21:I22) -> 15892.546 | K23: =SUM(K21:K22) -> 18677.546
B24: افزایش | G24: 36 | I24: 0 | K24: =G24+I24 -> 36
B25: مانده در پایان سال 1399 | G25: =SUM(G23:G24) -> 2821 | I25: =SUM(I23:I24) -> 15892.546 | K25: =SUM(K23:K24) -> 18713.546
B27: 13-1- حق امتياز خدمات عمومي مربوط به وديعه آب ، برق ، گاز و تلفن ثابت و اضافات طی سال آن بابت حق امتیاز کنتور آب امور آب سرخس و حق امتیاز کنتور برق امور آب کاشمر می باشد .
B29: ‏‏13-2‏ - سایر دارايي هاي نامشهود بابت حق تقدیمی زمين هاي موقوفه و آستان قدس به شرح زير قابل تفكيك است:
G31: مساحت | I31: 1399 | K31: 1398
G32: متر مربع | I32: میلیون ريـــال | K32: میلیون ريـــال
B33: زمين انبار ملک آباد | G33: 65226 | I33: 1955 | K33: 1955.2552 | P33: =I33/1000000 -> 0.001955
B34: زمين اداره مركزي قدیم | G34: 5608 | I34: 1174 | K34: 1174.1 | P34: =I34/1000000 -> 0.001174
B35: زمین اداره جدید | G35: 2033 | I35: 9600 | K35: 9600 | P35: =I35/1000000 -> 0.0096
B36: زمين كمپ سرخس | G36: 40408 | I36: 2417.46 | K36: 2417.46 | P36: =I36/1000000 -> 0.00241746
B37: زمین اداره سرخس | G37: 3061 | I37: 175 | K37: 175 | P37: =I37/1000000 -> 0.000175
B38: زمين تربت جام | G38: 2000 | I38: 544.3 | K38: 544.3 | P38: =I38/1000000 -> 0.0005443
B39: زمين اداره درگز | G39: 5108 | I39: 14.285795 | K39: 14.285795 | P39: =I39/1000000 -> 1.4285795e-05
B40: زمين طرق | G40: 25000 | I40: 12.5 | K40: 12.5 | P40: =I40/1000000 -> 1.25e-05
G41: =SUM(G33:G40) -> 148444 | I41: =SUM(I33:I40) -> 15892.546 | K41: =SUM(K33:K40) -> 15892.901
B48: 17

Sheet 14
B1: شركت سهامي آب منطقه اي خراسان رضوي
B2: يادداشت هاي توضيحي صورت هاي مالي
B3: سال مالی منتهی به 30 اسفند 1399
B5: 14‏ - دريافتني های تجاری و سایر دریافتنی ها
B7: 14-1‏ - دريافتني های کوتاه مدت
K9: (تجدید ارائه شده)
C10: يادداشت | E10: 1399 | K10: 1398
E11: مبلغ | G11: کاهش ارزش | I11: خالص | K11: خالص
E12: میلیون ريـــال | G12: میلیون ريـــال | I12: میلیون ريـــال | K12: میلیون ريـــال
B13: تجاری
B14: اسناد دريافتني | C14: ‏14-1-1 | E14: 420530 | G14: 0 | I14: =E14-G14 -> 420530 | K14: 219493.57 | N14: =E14/1000000 -> 0.42053 | O14: =F14/1000000 -> 0 | P14: =G14/1000000 -> 0 | R14: =K14/1000000 -> 0.21949357
B15: اسناد دریافتنی سررسید گذشته | C15: ‏14-1-2 | E15: 147866 | G15: 8709 | I15: =E15-G15 -> 139157 | K15: 144678 | N15: =E15/1000000 -> 0.147866 | O15: =F15/1000000 -> 0 | P15: =G15/1000000 -> 0.008709 | R15: =K15/1000000 -> 0.144678
B16: کسر می شود: | N16: =E16/1000000 -> 0 | O16: =F16/1000000 -> 0 | P16: =G16/1000000 -> 0 | R16: =K16/1000000 -> 0
B17: پيش دريافت ها | C17: 24 | E17: -84588 | G17: 0 | I17: =E17-G17 -> -84588 | K17: -19654.496 | N17: =E17/1000000 -> -0.084588 | O17: =F17/1000000 -> 0 | P17: =G17/1000000 -> 0 | R17: =K17/1000000 -> -0.019654496
E18: =SUM(E13:E17) -> 483808 | G18: =SUM(G13:G17) -> 8709 | I18: =SUM(I13:I17) -> 475099 | K18: =SUM(K13:K17) -> 344517.07
B19: سایر دريافتني ها
B20: اشخاص وابسته | C20: ‏14-1-3 | E20: ='14'!I46 -> 769002 | G20: 0 | I20: =E20-G20 -> 769002 | K20: ='14'!K46 -> 735750.07
B21: ساير اشخاص | C21: ‏14-1-4 | E21: ='14-1-3'!H28 -> 1232693 | G21: 0 | I21: =E21-G21 -> 1232693 | K21: ='14-1-3'!J28 -> 846012.44
E22: =SUM(E20:E21) -> 2001695 | G22: =SUM(G20:G21) -> 0 | I22: =SUM(I20:I21) -> 2001695 | K22: =SUM(K20:K21) -> 1581762.5
E23: =E22+E18 -> 2485503 | G23: =G22+G18 -> 8709 | I23: =I22+I18 -> 2476794 | K23: =K22+K18 -> 1926279.6
B24: غیرتجاری
B25: بدهي كاركنان - وام | C25: 14-1-5 | E25: 8996 | G25: 0 | I25: =E25-G25 -> 8996 | K25: 17750.492 | N25: =E25/1000000 -> 0.008996 | R25: =K25/1000000 -> 0.017750492
B26: حصه جاری مطالبات از پرسنل | C26: ‏14-2-1 | E26: 9642 | G26: 0 | I26: =E26-G26 -> 9642 | K26: 0
B27: کسر می شود : کارمزد تقسیط وام پرسنل | E27: -2710 | G27: 0 | I27: =E27-G27 -> -2710 | K27: 0
B28: سپرده هاي پيمانكاران نزد خزانه | C28: 14-1-6 | E28: 31862 | G28: 0 | I28: =E28-G28 -> 31862 | K28: 23132.431 | N28: =E28/1000000 -> 0.031862 | R28: =K28/1000000 -> 0.023132431
B29: شرکت سهامی آب منطقه ای خراسان جنوبی - شرکت گروه | E29: 611 | G29: 0 | I29: =E29-G29 -> 611 | K29: 611.35643 | N29: =E29/1000000 -> 0.000611 | R29: =K29/1000000 -> 0.00061135643
B30: شرکت سهامی آب منطقه ای خراسان شمالی - شرکت گروه | E30: 983 | G30: 0 | I30: =E30-G30 -> 983 | K30: 983.36115 | N30: =E30/1000000 -> 0.000983 | R30: =K30/1000000 -> 0.00098336115
B31: ذیحسابی طرح های تملک دارایی های سرمایه ای | C31: 14-1-7 | E31: 219701 | G31: 0 | I31: =E31-G31 -> 219701 | K31: 104543.9 | N31: =E31/1000000 -> 0.219701 | R31: =K31/1000000 -> 0.1045439
B32: ساير | C32: 14-1-8 | E32: 8020 | G32: 0 | I32: =E32-G32 -> 8020 | K32: 10800.324 | R32: =K32/1000000 -> 0.010800324
E33: =SUM(E25:E32) -> 277105 | G33: =SUM(G25:G32) -> 0 | I33: =SUM(I25:I32) -> 277105 | K33: =SUM(K25:K32) -> 157821.86
E34: =E23+E33 -> 2762608 | G34: =G23+G33 -> 8709 | I34: =I23+I33 -> 2753899 | K34: =K23+K33 -> 2084101.4
B36: 14-1-1- اسناد دريافتني تجاري عمدتاً بابت فروش آب و اجاره بستر رودخانه ها با سررسيد سال 1400 مي باشد که جهت وصول نزد بانک ملی شعبه بلوار سازمان آب به عنوان کارگزار بانک مرکزی جمهوری اسلامی ایران نگهداری می‌شود. تا تاریخ تایید صورت های مالی مبلغ 161،108 میلیون ریال وصول شده است.
B38: 14-1-2‏ - اسناد دريافتني سررسید گذشته ، عمدتاً بابت فروش آب و اجاره بستر رودخانه ها مي باشد که جهت وصول نزد امور آب شهرستان ها و اداره حقوقی شرکت نگهداری می‌شود. تا تاریخ تایید صورت های مالی مبلغ 17،463 میلیون ریال وصول شده است.
B40: ‏‏14-1-3‏ - طلب از اشخاص وابسته به شرح زیر می باشد:
I42: 1399 | K42: 1398 | O42: يادداشت
I43: میلیون ريـــال | K43: میلیون ريـــال
B44: شركت آب و فاضلاب مشهد | I44: =430817 -> 430817 | K44: =475350 -> 475350 | L44: =I44/1000000 -> 0.430817 | M44: =#REF!/1000000 -> #REF! | N44: =I44/1000000 -> 0.430817 | O44: ‏14-1-3-1 | P44: =K44/1000000 -> 0.47535
B45: شركت آب و فاضلاب استان خراسان رضوي | I45: =267681+70504 -> 338185 | K45: =189897.072226+70503 -> 260400.07 | L45: =I45/1000000 -> 0.338185 | M45: =#REF!/1000000 -> #REF! | N45: =I45/1000000 -> 0.338185 | O45: ‏14-1-3-1 | P45: =K45/1000000 -> 0.26040007
I46: =SUM(I44:I45) -> 769002 | K46: =SUM(K44:K45) -> 735750.07
B54: 18

Sheet 14-1-3
B1: شركت سهامي آب منطقه اي خراسان رضوي
B2: يادداشت هاي توضيحي صورت هاي مالي
B3: سال مالی منتهی به 30 اسفند 1399
B5: 14-1-3-1- طلب های مذکور بابت فروش آب سدهای دوستی، ارداک، طرق، کارده و تبارک آباد و حق النظاره چاه های آب شرب شهری می‌باشد که براساس قراردادهای فی مابین و تعرفه های ابلاغی وزارت نیرو (به شرح یادداشت های 1-2-3 و 2-2-3) محاسبه و در حسابها منظور گردیده است.
B7: 14-1-3-2- مبلغ 70،503 میلیون ریال از مطالبات فوق بابت شرکت آب و فاضلاب روستایی بابت حق النظاره چاه های آب مورد استفاده شرکت مذکور در سال های قبل از سال 1397 می باشد. در اجرای ابلاغیه شماره 98/11067/20/100 مورخ 1398/01/21 وزیر محترم نیرو ، حق النظاره مصارف آب شرب روستایی در سال 1397 معاف گردیده است. وضعیت مطالبات از شرکت مذکور تا پایان سال 1396 منوط به تعیین تکلیف نهایی توسط وزارت نیرو می‌باشد. توضیح اینکه شرکت آب و فاضلاب روستایی در سال 1399 با شرکت های آب و فاضلاب استان و مشهد ادغام شده و پس از نهایی شدن ادغام , مانده مطالبات فوق حسب مورد از حساب شرکت های مذکور پیگیری خواهد شد.
B9: ‏‏14-1-4‏ - طلب از سایر اشخاص به شرح زیر می باشد:
J11: (تجدید ارائه شده)
F12: يادداشت | H12: ='14'!I42 -> 1399 | J12: ='14'!K42 -> 1398
H13: میلیون ريـــال | J13: میلیون ريـــال
B14: مشترکین چاهها ( آب بها ) | F14: ‏14-1-4-1 | H14: 541372 | I14: 0 | J14: 490755.49 | M14: =H14/1000000 -> 0.541372 | N14: =I14/1000000 -> 0 | O14: =J14/1000000 -> 0.49075549
B15: سازمان پارکها و فضای سبز شهرداری مشهد ( فروش آب ) | F15: ‏14-1-4-2 | H15: =179985+38912 -> 218897 | I15: 0 | J15: 95706.902 | M15: =H15/1000000 -> 0.218897 | N15: =I15/1000000 -> 0 | O15: =J15/1000000 -> 0.095706902 | Q15: 95706901594
B16: نیروهای مسلح ( حق النظاره چاه هاي آب ) | F16: ‏14-1-4-3 | H16: 88998 | I16: 0 | J16: 75203.454 | M16: =H16/1000000 -> 0.088998 | N16: =I16/1000000 -> 0 | O16: =J16/1000000 -> 0.075203454
B17: شرکت شهرک های صنعتی خراسان رضوی ( حق النظاره و آب بها ) | H17: 24661 | I17: 0 | J17: 22662.039 | M17: =H17/1000000 -> 0.024661 | N17: =I17/1000000 -> 0 | O17: =J17/1000000 -> 0.022662039
B18: صنایع معدنی فولاد سنگان خواف ( فروش آب ) | F18: ‏14-1-4-4 | H18: 127455 | I18: 0 | J18: 13023.294 | M18: =H18/1000000 -> 0.127455 | N18: =I18/1000000 -> 0 | O18: =J18/1000000 -> 0.013023294 | Q18: 5295970423
B19: شرکت سنگ و آهن فولاد سنگان ( فروش آب ) | H19: 41747 | I19: 0 | J19: 15177.804 | M19: =H19/1000000 -> 0.041747 | N19: =I19/1000000 -> 0 | O19: =J19/1000000 -> 0.015177804 | Q19: =J15+Q18 -> 5.2960661e+09
B20: مجتمع فولاد خراسان ( فروش آب ) | H20: 33412 | I20: 0 | J20: 37390.318 | M20: =H20/1000000 -> 0.033412 | N20: =I20/1000000 -> 0 | O20: =J20/1000000 -> 0.037390318
B21: شرکت پارس فولاد سبزوار ( فروش آب ) | H21: 36837 | I21: 0 | J21: 19919.408 | M21: =H21/1000000 -> 0.036837 | N21: =I21/1000000 -> 0 | O21: =J21/1000000 -> 0.019919408
B22: شرکت معادن سنگ آهن احیای سپاهان ( فروش آب ) | H22: 2950 | I22: 0 | J22: 2354 | M22: =H22/1000000 -> 0.00295 | N22: =I22/1000000 -> 0 | O22: =J22/1000000 -> 0.002354
B23: شرکت صنعتی ماشین سازی مشهد ( فروش آب) | H23: 14845 | I23: 0 | J23: 4479.8417 | M23: =H23/1000000 -> 0.014845 | N23: =I23/1000000 -> 0 | O23: =J23/1000000 -> 0.0044798417
B24: سازمان فردوس ها ( فروش آب) | H24: 9553 | I24: 0 | J24: 5465.168 | M24: =H24/1000000 -> 0.009553 | N24: =I24/1000000 -> 0 | O24: =J24/1000000 -> 0.005465168
B25: شرکت گردشگری نمونه چالی دره طرقبه ( فروش آب ) | H25: 6047 | I25: 0 | J25: 8047.0969 | M25: =H25/1000000 -> 0.006047 | N25: =I25/1000000 -> 0 | O25: =J25/1000000 -> 0.0080470969 | Q25: =H15+H17+H18+H19+H20+#REF!+H25+H26+#REF!+H22+H21+H23+H24 -> #REF!
B26: شرکت گردشگری توسعه عمران هفت حوض ( فروش آب ) | H26: 10464 | I26: 0 | J26: 1539.6228 | M26: =H26/1000000 -> 0.010464 | N26: =I26/1000000 -> 0 | O26: =J26/1000000 -> 0.0015396228 | Q26: ='14'!I29+'14'!I30+'14'!I31 -> 221295
B27: سایر ( عمدتاً بابت شرکت داروپخش ، موسسه سازندگی نصر ، شرکت فولاد مبارکه اصفهان و ... ) | H27: 75455 | I27: 0 | J27: 54288 | M27: =H27/1000000 -> 0.075455 | N27: =I27/1000000 -> 0 | O27: =J27/1000000 -> 0.054288
H28: =SUM(H14:H27) -> 1232693 | J28: =SUM(J14:J27) -> 846012.44
B30: 14-1-4-1- مبلغ فوق شامل بدهی 3.768 مشترک ( اشخاص حقوقی ) بابت آب بهاء و حق النظاره بخش صنعت عمدتاً مربوط به نیروگاه‌های تولید برق، آستان قدس رضوی، تعدادی از شرکت ها و کارخانجات تولیدی, تعدادی از شهرداری های استان ( به جزء شهرداری مشهد)، سازمان میراث فرهنگی، اداره کل فرودگاه ها، مرکز تحقیقات کشاورزی، اداره منابع طبیعی و اداره کل گمرکات استان می باشد.
B36: 19

Sheet 14-2
B1: شركت سهامي آب منطقه اي خراسان رضوي
B2: يادداشت هاي توضيحي صورت هاي مالي
B3: سال مالی منتهی به 30 اسفند 1399
B5: 14-1-4-2- مبلغ فوق مربوط به قراردادهای اجاره بستر و حریم بستر کال های سطح شهر به شهرداری مشهد و فروش و تحویل آب به سازمان پارکها و فضای سبز شهرداری مشهد می‌باشد.
B7: 14-1-4-3- بدهی نیروهای مسلح بابت حق النظاره و آب بهاي چاه های آب مورد بهره برداری می باشد. مراتب به شرکت مدیریت منابع آب ایران جهت وصول یا تهاتر با مطالبات خزانه داری کل کشور منعکس شده ، لیکن تا تاریخ تایید صورت های مالی به نتیجه نهایی نرسیده و وصولی نداشته است. | I7: 14-1-4-3- بدهی نیروهای مسلح بابت حق النظاره و آب بهاي چاه های آب مورد بهره برداری می باشد. حسب مفاد قوانین بودجه سنواتی کل کشور مقرر گردیده مانده بدهی نیروهای مسلح به صورت جمعی - خرجی بابت بدهی طرح های انتفاعی موضوع ماده 32 قانون برنامه و بودجه اعمال حساب گردد که مراتب به شرکت مدیریت منابع آب ایران و خزانه داری کل کشور منعکس شده ، لیکن تا تاریخ تایید صورت های مالی به نتیجه نهایی نرسیده و وصولی نداشته است.
B9: 14-1-4-4- مانده مطالبات از شرکت فوق بابت فروش آب از چاه طبق قراردادهای منعقده بوده که تا تاریخ تایید صورت های مالی کلاً وصول گردیده است.
B11: 14-1-5‏ - مطالبات از کارکنان مربوط به مانده وام پرداختی در سال های قبل در قالب وام ضروری هیات مدیره و وام ایثارگران بوده که به صورت ماهیانه از حقوق پرسنل کسر می‌گردد.
B13: 14-1-6- سپرده هاي پيمانكاران نزد خزانه مربوط به سپرده هاي دريافتي از پيمانكاران طرف قرارداد شركت مي باشد که در اجراي مفاد ماده 41 قانون محاسبات عمومی کشور به خزانه تمرکز وجوه سپرده منتقل گرديده است و پس از اتمام قرارداد و ارائه مفاصا حساب از سازمان تامین اجتماعی به پیمانکاران عودت داده می شود. شایان ذکر است مبلغ 9،531 میلیون ریال از سپرده های مکسوره مربوط به اسفند ماه می باشد که در ابتدای سال 1400 به حساب خزانه واریز گردیده است .
B15: 14-1-7- مطالبات از ذیحسابی طرح های تملک دارایی های سرمایه ای بابت پرداخت قسمتی از مطالبات پیمانکاران و حقوق و مزایای پایان سال پرسنل شاغل در طرح تملک دارایی های سرمایه ای می باشد که پس از تخصیص نقدینگی توسط سازمان برنامه و بودجه به طرح های تملک دارایی‌های سرمایه ای، مبلغ مذکور تسویه خواهد شد.
B17: 14-1-8- طلب از سایر اشخاص عمدتاً مربوط به شرکت سازه های آبی ، شرکت گسترش و نوسازی صنایع ایران ، شهرداری تربت حیدریه و ... به ترتیب به مبالغ 3.815 ، 507 و 720 میلیون ریال می باشد.
B19: 14-1-9- علاوه بر موارد مندرج در یادداشت های 1-1-14 ، 2-1-14 و 4-4-1-14 تا تاریخ تایید صورت های مالی مبلغ 84.139 میلیون ریال از مطالبات وصول شده است.
B21: 14-2‏ - دريافتني های بلند مدت
C23: يادداشت | E23: 1399 | G23: 1398
E24: میلیون ريـــال | G24: میلیون ريـــال
B25: تجاری
B26: اسناد دريافتني ( فروش آب و اجاره بستر رودخانه ها با سررسيد سال هاي 1401 الی 1404 ) | E26: 13845 | G26: 6187.65 | L26: =E26/1000000 -> 0.013845 | N26: =G26/1000000 -> 0.00618765
B27: کسر می شود : | L27: =E27/1000000 -> 0
B28: پيش دريافت ها | C28: 24 | E28: -7748 | G28: -180 | L28: =E28/1000000 -> -0.007748 | N28: =G28/1000000 -> -0.00018
E29: =E26+E28 -> 6097 | G29: =G26+G28 -> 6007.65 | L29: =E29/1000000 -> 0.006097
B30: غیرتجاری | L30: =E30/1000000 -> 0
B31: حصه بلند مدت مطالبات از پرسنل | C31: ‏14-2-1 | E31: 57690 | G31: 0 | L31: =E31/1000000 -> 0.05769
B32: کسر می شود : کارمزد تقسیط وام پرسنل | E32: -17137 | G32: 0
E33: =E29+E31+E32 -> 46650 | G33: =G29+G31 -> 6007.65 | L33: =E33/1000000 -> 0.04665
B35: 14-2-1‏ - مطالبات از کارکنان مربوط به وام پرداختی به پرسنل در اواخر سال جاری می باشد که از محل منابع داخلی و وصولی های جاری طبق بند 6 دستور العمل اجرایی اعطای تسهیلات به مدیر عامل ، اعضای هیات مدیره و کارکنان شرکت های دولتی موضوع تبصره 4 ماده 11 ضوابط اجرایی بودجه سال 1399 کل کشور به شماره 60/37659 مورخ 1399/03/27 معاون امور بانکی ، بیمه و شرکت های دولتی وزارت امور اقتصادی و دارایی با نرخ کارمزد 10 درصد و طی حداکثر اقساط 96 ماهه به اعضای هیات مدیره و کارکنان پرداخت گردیده است .
B39: 20
B42: 12- ساير دارایی ها
C44: يادداشت | E44: ='13'!I31 -> 1399 | G44: ='13'!K31 -> 1398
E45: ريـــال | G45: ريـــال
B46: سرمایه گذاری در تحقیقات و پژوهش | C46: 12-1 | E46: 0 | G46: 2402000000
B47: سپرده پس انداز كاركنان نزد بانک صادرات | C47: 12-3 | E47: 8242597703 | G47: 8691027369
B48: کسر می شود :
B49: سپرده پس انداز كاركنان | C49: 10 | E49: -8242597703 | G49: -8691027369
E50: =SUM(E46:E49) -> 0 | G50: =SUM(G46:G49) -> 2402000000
B52: 12-1‏ - مبلغ فوق مربوط به قراردادهای پژوهشی که در راستای ماده 56 قانون الحاق موادی به قانون تنظیم بخشی از مقررات مالی دولت (2) منعقد گردیده است .
B54: 12-2‏ - مبلغ فوق مربوط به 10 درصد ارزش اوراق مشارکت فروخته شده به منظور بازخرید قبل از سررسید اوراق مشارکت بابت دارایی های تکمیل شده خط انتقال دوستی نزد بانک صادرات ایران می باشد که به شرح یادداشت 8-9 به شرکت آب و فاضلاب مشهد منتقل شده است .
B56: 12-2- مبلغ فوق به استناد قانون تشكيل حساب پس انداز كاركنان دولت ، مصوب 1376/11/26 مجلس شوراي اسلامي ، مربوط به پس انداز سهم كارمند و كارفرما بوده كه نزد بانك صادرات شعبه مشهد به تفكيك و در حساب جداگانه اي نگهداري و برداشت از حساب مذكور فقط در زمان قطع همكاري امكان پذير است.

Sheet 15-19
B1: شركت سهامي آب منطقه اي خراسان رضوي
B2: يادداشت هاي توضيحي صورت هاي مالي
B3: سال مالی منتهی به 30 اسفند 1399
B5: ‏‏15‏ - پیش پرداخت ها
E7: ='14-2'!E23 -> 1399 | G7: 1398
E8: میلیون ريـــال | G8: میلیون ريـــال
B9: شرکت سامان گستر بارثاوا ( تعمیرات و نگهداری ) | E9: 569 | G9: 1089.0675 | J9: =E9/1000000 -> 0.000569 | K9: =F9/1000000 -> 0 | L9: =G9/1000000 -> 0.0010890675
B10: شرکت ایمن سازوکار شرق ( تعمیرات و نگهداری ) | E10: 4493 | G10: 0 | J10: =E10/1000000 -> 0.004493 | K10: =F10/1000000 -> 0 | L10: =G10/1000000 -> 0
B11: شرکت مهارآب عمران گستر | E11: 3477 | G11: 0 | J11: =E11/1000000 -> 0.003477 | K11: =F11/1000000 -> 0 | L11: =G11/1000000 -> 0
B12: شرکت هیدروتک توس | E12: 2593 | G12: 0 | J12: =E12/1000000 -> 0.002593 | K12: =F12/1000000 -> 0 | L12: =G12/1000000 -> 0
B13: شرکت عمران ابرار بیهق | E13: 1258 | G13: 0 | J13: =E13/1000000 -> 0.001258 | K13: =F13/1000000 -> 0 | L13: =G13/1000000 -> 0
B14: شرکت نقش پژوهان اترک | E14: 1202 | G14: 0 | J14: =E14/1000000 -> 0.001202 | K14: =F14/1000000 -> 0 | L14: =G14/1000000 -> 0
B15: شرکت مهاب ثامن | E15: 1690 | G15: 4537.7725 | J15: =E15/1000000 -> 0.00169 | K15: =F15/1000000 -> 0 | L15: =G15/1000000 -> 0.0045377725
B16: سایر | E16: 3812 | G16: =3266.208107+1974.2625 -> 5240.4706 | J16: =E16/1000000 -> 0.003812 | K16: =F16/1000000 -> 0 | L16: =G16/1000000 -> 0.0052404706
E17: =SUM(E9:E16) -> 19094 | G17: =SUM(G9:G16) -> 10867.311
B19: 15-1‏ - تا تاریخ تایید صورت های مالی مبلغ 7.992 میلیون ریال از مبالغ فوق تسویه شده است.
B21: ‏‏16‏ - موجودي مواد و کالا
B23: مانده سرفصل فوق به مبلغ 10.135 میلیون ریال ( سال قبل 4.369 میلیون ريـــال ) شامل مبلغ 2.346 میلیون ریال به شرح یادداشت 1-21 و 23-2-1 موجودی کالای انتقالی از محل طرح های خاتمه یافته و همچنین موجودی قطعات و لوازم و ملزومات می باشد و از پوشش بیمه ای کافی برخوردار است.
B25: ‏‏17‏ - موجودي نقد
E27: =E7 -> 1399 | G27: 1398
E28: میلیون ريـــال | G28: میلیون ريـــال
B29: بانك پرداخت ( بانک مرکزی ) | E29: 11804 | G29: 34465.761 | J29: =E29/1000000 -> 0.011804 | K29: =F29/1000000 -> 0 | L29: =G29/1000000 -> 0.034465761
B30: بانك دريافت ( بانک مرکزی ) | E30: 29873 | G30: 24718.874 | J30: =E30/1000000 -> 0.029873 | K30: =F30/1000000 -> 0 | L30: =G30/1000000 -> 0.024718874
B31: بانك تمركز وجوه سپرده | E31: 215 | G31: 128.40004 | J31: =E31/1000000 -> 0.000215 | K31: =F31/1000000 -> 0 | L31: =G31/1000000 -> 0.00012840004
B32: بانك رد وجوه سپرده | E32: 7311 | G32: 7928.6199 | J32: =E32/1000000 -> 0.007311 | K32: =F32/1000000 -> 0 | L32: =G32/1000000 -> 0.0079286199
E33: =SUM(E29:E32) -> 49203 | G33: =SUM(G29:G32) -> 67241.655
B35: 18‏ - حقوق عمومي
B37: حقوق عمومي به مبلغ 18,333 میلیون ریال مربوط به حق اشتراک دريافتي از مشتركين چاه ها ( قبل از تاریخ 1381/05/29 ) در مناطق ممنوعه ای كه با افت منابع آب هاي زيرزميني مواجه هستند، می باشد. شایان ذکر است وجوه دریافتی از این بابت بعد از تاریخ مذکور (به شرح یادداشت 7-3) درآمد عمومی دولت تلقی و ثبت وجوه دریافتی از این بابت در حساب های شرکت مورد نداشته و به حساب خزانه داری کل واریز می‌گردد.
B39: ‏‏19‏ - سرمایه
B41: سرمايه شركت در تاریخ 1399/12/30 شامل مبلغ 7.671.699 میلیون ریال شامل 767.169.939 سهم ده هزار ريالی با نام تماماً پرداخت شده می باشد که تماماً متعلق به شرکت مادر تخصصی مدیریت منابع آب ایران ( وابسته به وزارت نیرو ) می باشد.
B43: 21

Sheet 20-22
B1: شركت سهامي آب منطقه اي خراسان رضوي
B2: يادداشت هاي توضيحي صورت هاي مالي
B3: سال مالی منتهی به 30 اسفند 1399
B5: 20 - کاهش سرمایه در جریان
B7: با توجه به تغییر دستگاه بهره بردار خط انتقال آب از سد دوستی به مشهد ( بر اساس موافقت نامه های مبادله با سازمان مدیریت و برنامه ریزی استان خراسان رضوی ) به شرکت آب و فاضلاب مشهد، در سال مالی قبل دارایی های مذکور به ارزش دفتری 3.725.701 میلیون ریال از دفاتر شرکت حذف گردیده است. با توجه به اینکه مبلغ 1.846.470 میلیون ریال از دارایی های مذکور ناشی از مابه التفاوت تجدید ارزیابی بوده، مبلغ مذکور به حساب کاهش سرمایه در جریان منظور شده تا پس از طی تشریفات قانونی، حساب سرمایه ثبت شده تعدیل گردد. | O7: با توجه به تغییر دستگاه بهره بردار خطوط انتقال آب به مشهد ( بر اساس موافقت نامه های متبادله با سازمان مدیریت و برنامه ریزی استان خراسان رضوی ) از سدهای دوستی و ارداک, بهای تمام شده و استهلاک انباشته ( ارزش دفتری ) دارایی های انتقالی مشمول از دفاتر شرکت حذف گردیده است. باتوجه به اینکه کل منابع ایجاد دارایی های مذکور از منابع طرح ها بوده و بخشی از بهای آن در سنوات قبل به سرمایه منظور شده بوده هنگام حذف از حسابها مبلغ 1.846.470 میلیون ریال به سرفصل مذکور منظور گردیده است.
B9: ‏‏21 - وجوه قابل انتقال به سرمایه
K10: (تجدید ارائه شده)
G11: يادداشت | I11: ='15-19'!E27 -> 1399 | K11: 1398
I12: میلیون ريـــال | K12: میلیون ريـــال
B13: وجوه مصرف شده در طرح ها و پروژه های خاتمه یافته غیر انتفاعی | G13: 21-1 | I13: 676990 | J13: 0 | K13: =550206.047419+96600 -> 646806.05 | M13: =I13-K13 -> 30183.953 | O13: =I13/1000000 -> 0.67699 | P13: =J13/1000000 -> 0 | Q13: =K13/1000000 -> 0.64680605
B14: بند "د" تبصره 7 قانون بودجه سال های 1397 و 1399 | G14: 21-2 | I14: 3789751 | J14: 0 | K14: 1383751 | O14: =I14/1000000 -> 3.789751 | P14: =J14/1000000 -> 0 | Q14: =K14/1000000 -> 1.383751
B15: دارایی های اهدایی | G15: 21-3 | I15: 932 | K15: =M15/1000000 -> 932.37546 | M15: 932375456
I16: =SUM(I13:I15) -> 4467673 | K16: =SUM(K13:K15) -> 2031489.4
B18: 21-1‏ - گردش وجوه دریافتی از خزانه بابت طرح ها و پروژه های خاتمه یافته غیر انتفاعی به شرح زیر می باشد:
K19: (تجدید ارائه شده)
G20: يادداشت | I20: =I11 -> 1399 | K20: 1398
I21: میلیون ريـــال | K21: میلیون ريـــال
B22: مانده ابتدای سال | G22: ‏21-1-1 | I22: =K26 -> 646806 | J22: 0 | K22: 314812
B23: اصلاح مانده بدهی به خزانه - بابت انتقال مانده طرح غیر انتفاعی | I23: 0 | K23: 96600 | M23: ‏23-2-1
B24: افزایش طی سال - طرح غیر انتفاعی خاتمه یافته به بهره برداری رسیده | G24: ‏21-1-2 | I24: 28800 | K24: 235394
B25: افزایش طی سال - بابت موجودی کالای انتقالی طرح غیر انتفاعی خاتمه یافته و به بهره برداری رسیده | G25: ‏21-1-2 | I25: =I13-I23-I22-I24 -> 1384 | K25: 0
I26: =SUM(I22:I25) -> 676990 | K26: =SUM(K22:K25) -> 646806
B28: 21-1-1- گزارش توجیهی افزایش سرمایه به مبلغ 200.728 میلیون ریال به انضمام گزارش بازرس قانونی طی نامه شماره 96/1644/61/3 مورخ 1396/02/16 به دفتر امور مجامع و بودجه شرکت مدیریت منابع آب ایران جهت جلسه مجمع عمومی فوق العاده ارسال گردیده ولی تاکنون مجمع عمومی فوق العاده جهت تصویب افزایش سرمایه تشکیل نشده است. | O28: =I13-K13 -> 30183.953
B30: 21-1-2- افزایش طی سال بابت هزینه های تکمیلی سد چالی دره، شبکه سد ارداک و آبرسانی به شهرک‌های صنعتی موضوع موافقتنامه های 055 خ 1307002 و 40201665 و 18خ4030 طرح های غیر انتفاعی انتقالی از محل طرح های تملک دارایی های سرمایه ای (به شرح یادداشت توضیحی 5-12) به مبلغ 28.800 میلیون ریال و موجودی کالای انتقالی طرح های خاتمه یافته غیر انتفاعی می باشد.
B32: 21-2- با توجه به بند "د" تبصرۀ 7 قانون بودجه سال های 1397 و 1399 کل کشور که به دولت اجازه داده شده از محل ما به ‌التفاوت قيمت تكليفي و قيمت تمام ‌شده فروش هر متر مكعب آب, پس از تأييد سازمان حمايت از مصرف‌كنندگان و توليدكنندگان و سازمان حسابرسي به عنوان بازرس قانوني, بدهي طرح‌هاي تملك دارايي‌هاي سرمايه‌اي به بهره‌برداري رسيده بخش آب وزارت نيرو را به‌ صورت جمعي- خرجي تسويه نمايد. هیات محترم وزیران طبق مصوبات شماره 176669/ت56394ه مورخ 1397/12/27 و شماره 144340/ت58532ه مورخ 1399/12/10 با اشاره به تاییدیه سازمان حسابرسی به ترتیب در خصوص تسویه مبالغ 1.383.751 میلیون ریال و 2.406.000 میلیون ریال( جمعاً 3.789.751 میلیون ریال ) از بدهی شرکت به خزانه بابت وجوه دریافتی جهت اجرای طرح‌‌های تملک دارایی‌های سرمایه ای انتفاعی خاتمه یافته و به بهره برداری رسیده (یادداشت توضیحی 1-1-2-23 ) موافقت نموده است. پس از تصویب صورت‌های مالی در مجمع عمومی عادی سالانه شرکت, گزارش توجیهی افزایش سرمایه جهت اخذ گزارش بازرس قانونی و مصوبه مجمع عمومی فوق العاده، جهت افزایش سرمایه اقدام می‌گردد. | M32: به استناد بند "د" تبصرۀ 7 قانون بودجه سال 1397 کل کشور به دولت اجازه داده مي‌شود ما به ‌التفاوت قيمت تكليفي و قيمت تمام ‌شده فروش هر متر مكعب آب را ( پس از تأييد سازمان حمايت از مصرف‌كنندگان و توليدكنندگان و سازمان حسابرسي به عنوان بازرس قانوني ) با بدهي طرح هاي تملك دارايي‌هاي سرمايه‌اي به بهره‌برداري رسيده بخش آب وزارت نيرو موضوع ماده ( ۳۲ ) قانون برنامه و بودجه كشور مصوب ۱۳۵۱/۱۲/۱۰ را از محل رديف درآمدي ۳۱۰۴۰۴ و رديف هزينه‌اي ۵۳-۵۳۰۰۰۰ به‌ صورت جمعي- خرجي تسويه نمايد. | N32: 19-2- با توجه به بند "د" تبصرۀ 7 قانون بودجه سال 1397 کل کشور که به دولت اجازه داده شده از محل ما به ‌التفاوت قيمت تكليفي و قيمت تمام ‌شده فروش هر متر مكعب آب, پس از تأييد سازمان حمايت از مصرف‌كنندگان و توليدكنندگان و سازمان حسابرسي به عنوان بازرس قانوني, بدهي طرح هاي تملك دارايي‌هاي سرمايه‌اي به بهره‌برداري رسيده بخش آب وزارت نيرو را به‌ صورت جمعي- خرجي تسويه نمايد. هیات محترم وزیران طبق مصوبه شماره 176669/ت56394ه مورخ 1397/12/27 با اشاره به تاییدیه سازمان حسابرسی در خصوص تسویه مبلغ 1.383.751 میلیون ریال از بدهی شرکت به خزانه بابت وجوه دریافتی جهت اجرای طرح های تملک دارایی های سرمایه ای انتفاعی خاتمه یافته و به بهره برداری رسیده موافقت نموده است. پس از تصویب این صورت های مالی در مجمع عمومی عادی سالانه شرکت, گزارش توجیهی افزایش سرمایه جهت اخذ گزارش بازرس قانونی و مصوبه مجمع عمومی فوق العاده جهت افزایش سرمایه اقدام می گردد.
B34: 21-3 - مبلغ مذکور در ارتباط با دارايي هاي اهدایي توسط اشخاص حقيقي و حقوقي ثالث به شركت مي باشد که می بایست پس از انجام تشریفات قانونی به سرمایه شرکت منظور گردد.
B36: 22 - اندوخته قانونی
B38: در اجرای مفـاد مواد 140 و 238 اصلاحيه قانون تجارت مصوب سال 1347 ، مبلغ 10 میلیون ريـــال از سود قابل تخصيص در سال های قبل به اندوخته قانوني منتقل شده است. به موجب مفاد مواد ياد شده تا رسيدن مانده اندوخته قانوني به 10 درصد سرمايه شركت ، انتقال یک بیستم از سود خالص شرکت به اندوخته فوق الذكر الزامي است. اندوخته قانوني قابل انتقال به سرمايه نيست و جز در هنگام انحلال شركت، قابل تقسيم بين سهامداران نمي باشد.
B40: 22
B42: متن سال 1397
B43: 17-2- با توجه به بند "د" تبصرۀ 7 قانون بودجه سال 1397 کل کشور که به دولت اجازه داده شده از محل ما به ‌التفاوت قيمت تكليفي و قيمت تمام ‌شده فروش هر متر مكعب آب, پس از تأييد سازمان حمايت از مصرف‌كنندگان و توليدكنندگان و سازمان حسابرسي به عنوان بازرس قانوني, بدهي طرح هاي تملك دارايي‌هاي سرمايه‌اي به بهره‌برداري رسيده بخش آب وزارت نيرو را به‌ صورت جمعي- خرجي تسويه نمايد. هیات محترم وزیران طبق مصوبه شماره 176669/ت56394ه مورخ 1397/12/27 با اشاره به تاییدیه سازمان حسابرسی در خصوص تسویه مبلغ 1.383.751 میلیون ریال از بدهی شرکت به خزانه بابت وجوه دریافتی جهت اجرای طرح های تملک دارایی های سرمایه ای انتفاعی خاتمه یافته و به بهره برداری رسیده موافقت نموده است. پس از تصویب این صورت های مالی در مجمع عمومی عادی سالانه شرکت, گزارش توجیهی افزایش سرمایه جهت اخذ گزارش بازرس قانونی و مصوبه مجمع عمومی فوق العاده جهت افزایش سرمایه اقدام می گردد.

Sheet 23
B1: شركت سهامي آب منطقه اي خراسان رضوي
B2: يادداشت هاي توضيحي صورت هاي مالي
B3: سال مالی منتهی به 30 اسفند 1399
B5: 23 - پرداختني های تجاری و سایر پرداختنی ها
B6: 23-1‏ - پرداختنی های کوتاه مدت
J7: (تجدید ارائه شده)
F8: يادداشت | H8: ='20-22'!I11 -> 1399 | J8: 1398
H9: میلیون ريـــال | J9: میلیون ريـــال
B10: تجاری
B11: حساب های پرداختنی
B12: اشخاص وابسته - شرکت برق منطقه ای خراسان | F12: 23-1-1 | H12: 630290 | J12: 630290.14 | M12: =H12/1000000 -> 0.63029 | N12: =I12/1000000 -> 0 | O12: =J12/1000000 -> 0.63029014
B13: اشخاص وابسته - شرکت توزیع نیروی برق شهرستان مشهد | H13: 8614 | J13: 14620.276 | M13: =H13/1000000 -> 0.008614 | N13: =I13/1000000 -> 0 | O13: =J13/1000000 -> 0.014620276
B14: سایر اشخاص | F14: 23-1-2 | H14: ='23'!H45 -> 472390 | J14: ='23'!J45 -> 359643.09
H15: =SUM(H12:H14) -> 1111294 | J15: =SUM(J12:J14) -> 1004553.5
B16: سایر پرداختنی ها
B17: عوارض و ماليات بر ارزش افزوده | F17: 23-1-3 | H17: ='23-1-2'!G22 -> 628301 | J17: ='23-1-2'!I22 -> 284822 | N17: =H17/1000000 -> 0.628301 | O17: =I17/1000000 -> 0 | P17: =J17/1000000 -> 0.284822
B18: شرکت سهامی نیسان شرق | H18: 35865 | J18: 0 | K18: =J18/1000000 -> 0 | M18: =H18/1000000 -> 0.035865 | N18: =I18/1000000 -> 0 | O18: =J18/1000000 -> 0
B19: مطالبات کارکنان ( سنوات خدمت و مرخصی بازنشستگان ) | H19: 19848 | I19: 0 | J19: 30764.873 | M19: =H14+H17 -> 1100691 | N19: =H19/1000000 -> 0.019848 | O19: =I19/1000000 -> 0 | P19: =J19/1000000 -> 0.030764873
B20: مالیات هاي پرداختني ( حقوق ) | H20: 20354 | I20: 0 | J20: 7096.7363 | N20: =H20/1000000 -> 0.020354 | O20: =I20/1000000 -> 0 | P20: =J20/1000000 -> 0.0070967363
B21: حق بيمه هاي پرداختني | H21: 164 | I21: 0 | J21: 4556.1864 | N21: =H21/1000000 -> 0.000164 | O21: =I21/1000000 -> 0 | P21: =J21/1000000 -> 0.0045561864
B22: سپرده هاي پرداختني | F22: 14-1-6 | H22: 48918 | I22: 0 | J22: 19062.864 | N22: =H22/1000000 -> 0.048918 | O22: =I22/1000000 -> 0 | P22: =J22/1000000 -> 0.019062864
B23: ذخیره مرخصی استفاده نشده کارکنان | F23: 23-1-4 | H23: =74076 -> 74076 | J23: =65835 -> 65835
B24: سایر | F24: 23-1-5 | H24: 100313 | I24: 0 | J24: =16692.4742+42515.172159+3667.755505+2166 -> 65041.402 | N24: =H24/1000000 -> 0.100313 | O24: =I24/1000000 -> 0 | P24: =J24/1000000 -> 0.065041402
H25: =SUM(H17:H24) -> 927839 | J25: =SUM(J17:J24) -> 477179.06
B26: سپرده پس انداز كاركنان نزد بانک صادرات | E26: 8242597703 | F26: 23-1-6 | G26: 8691027369 | H26: 7739 | I26: 0 | J26: 8242.5977 | N26: =H26/1000000 -> 0.007739 | O26: =I26/1000000 -> 0 | P26: =J26/1000000 -> 0.0082425977
B27: کسر می شود : | N27: =H27/1000000 -> 0 | O27: =I27/1000000 -> 0 | P27: =J27/1000000 -> 0
B28: سپرده پس انداز كاركنان | E28: -8242597703 | F28: 23-1-6 | G28: -8691027369 | H28: -7739 | I28: 0 | J28: -8242.5977 | N28: =H28/1000000 -> -0.007739 | O28: =I28/1000000 -> 0 | P28: =J28/1000000 -> -0.0082425977
H29: =SUM(H25:H28) -> 927839 | J29: =SUM(J25:J28) -> 477179.06
H30: =H15+H29 -> 2039133 | I30: =I15+I25 -> 0 | J30: 1481732
B32: 23-1-1- مبلغ فوق مربوط به بدهی به شرکت برق منطقه ای خراسان بابت هزینه برق مصرفی خط انتقال آب از سد دوستی به مشهد می باشد که به علت عدم وصول مطالبات شركت از شرکت آب و فاضلاب مشهد و کمبود نقدینگی تاکنون پرداخت نشده است.
B34: 23-1-2‏ - بدهي به ساير اشخاص به شرح زير است :
F36: يادداشت | H36: =H8 -> 1399 | J36: 1398
H37: میلیون ريـــال | J37: میلیون ريـــال
B38: تعهدات اراضی کال چهل بازه | F38: 23-1-2-1‏ | H38: 274181 | J38: 274181.11 | K38: =J38/1000000 -> 0.27418111 | M38: =H38/1000000 -> 0.274181 | N38: =I38/1000000 -> 0 | O38: =J38/1000000 -> 0.27418111
B39: مجتمع فولاد خراسان | F39: 23-1-2-2‏ | H39: 8770 | J39: 8770.3757 | K39: =J39/1000000 -> 0.0087703757 | M39: =H39/1000000 -> 0.00877 | N39: =I39/1000000 -> 0 | O39: =J39/1000000 -> 0.0087703757
B40: شرکت فیروز گل خراسان | H40: 24155 | J40: 1335.6645 | M40: =H40/1000000 -> 0.024155 | N40: =I40/1000000 -> 0 | O40: =J40/1000000 -> 0.0013356645
B41: شرکت ایمن ساز و کار شرق ( تعمیرات و نگهداری ) | H41: 24209 | J41: 0 | M41: =H41/1000000 -> 0.024209 | N41: =I41/1000000 -> 0 | O41: =J41/1000000 -> 0
B42: خزانه تمرکز درآمد صدور مجوز برداشت آب | F42: 23-1-2-3 | H42: 3497 | J42: 6206.5492 | K42: =J42/1000000 -> 0.0062065492 | M42: =H42/1000000 -> 0.003497 | N42: =I42/1000000 -> 0 | O42: =J42/1000000 -> 0.0062065492
B43: مشترکین چاه های صنعتی | H43: 0 | J43: 1752.0784 | K43: =J43/1000000 -> 0.0017520784 | M43: =H43/1000000 -> 0 | N43: =I43/1000000 -> 0 | O43: =J43/1000000 -> 0.0017520784
B44: ساير | F44: 23-1-2-4 | H44: 137578 | J44: =57378.907369+10018.4 -> 67397.307 | K44: =J44/1000000 -> 0.067397307 | M44: =H44/1000000 -> 0.137578 | N44: =I44/1000000 -> 0 | O44: =J44/1000000 -> 0.067397307
H45: =SUM(H38:H44) -> 472390 | J45: =SUM(J38:J44) -> 359643.09
B52: 23
B55: سایر اشخاص وابسته( مرکز آموزش علمی کاربردی صنعت آب و برق) | H55: 1013 | J55: 2166 | N55: =H55/1000000 -> 0.001013 | O55: =I55/1000000 -> 0 | P55: =J55/1000000 -> 0.002166
B56: بيمه تعاون ( حق بيمه درمان كاركنان ) | H56: 1151.1944 | I56: 0 | J56: 3667.7555 | N56: =H56/1000000 -> 0.0011511944 | O56: =I56/1000000 -> 0 | P56: =J56/1000000 -> 0.0036677555
B59: شرکت لرزه ساخت ساوالان ( تهیه، نصب و راه اندازی دو دستگاه شتاب نگار ) | H59: 3052 | J59: 10018.4 | M59: =H59/1000000 -> 0.003052 | N59: =I59/1000000 -> 0 | O59: =J59/1000000 -> 0.0100184
B60: شرکت پیروز ترابران خراسان | H60: 4752.3199 | J60: 0 | M60: =H60/1000000 -> 0.0047523199 | N60: =I60/1000000 -> 0 | O60: =J60/1000000 -> 0
B61: شرکت نیک سازان هستی | H61: 6199.6835 | J61: 0 | M61: =H61/1000000 -> 0.0061996835 | N61: =I61/1000000 -> 0 | O61: =J61/1000000 -> 0

Sheet 23-1-2
B1: شركت سهامي آب منطقه اي خراسان رضوي
B2: يادداشت هاي توضيحي صورت هاي مالي
B3: سال مالی منتهی به 30 اسفند 1399
B5: 23-1-2-1 - مجمع عمومي عادي بطور فوق العاده مورخ 1390/12/15 شركت با تامين و واگذاري زمين معوض ، معادل ارزش ريـــالي زمين هاي پرسنل از اراضي كال چهل بازه طبق مجوز شماره 49584/230 مورخ 1374/5/10 وزير محترم وقت نيرو ( پرداخت قيمت زمين توسط كاركنان در سال 1374 به عنوان حق تقديمي) بر اساس گزارش كارشناس رسمي دادگستري موافقت نموده است. لذا اراضي كاركنان در كال چهل بازه به مساحت 105,240 متر مربع طبق گزارش هيات كارشناسان رسمي دادگستري مورخ 1389/4/10 به مبلغ 447,909 میلیون ريـــال ارزيابي و در سال‌های 1390 و 1391 تعداد 24 قطعه زمين به مساحت 64.058 مترمربع به مبلغ 231.269 میلیون ريـــال و 3 باب ساختمان به متراژ 1.614 متر مربع به مبلغ 12.551 میلیون ریال ( جمعاً به میزان 65،672 متر مربع و به مبلغ 243،820 میلیون ریال و به 575 نفر از پرسنل ) به تعاونی مسکن آب منطقه ای خراسان واگذارشده و بابت مابقی تعهدات به مبلغ 274.181 میلیون ریال ( بابت 261 نفر ) به شرح فوق ذخیره در حسابها منظور شده است. پیرو طرح دعوی از طرف شعبه هفتم دادسرای دیوان محاسبات در سال 1396 و برگزاری جلسه در هیات مستشاری دیوان محاسبات در مورخ 1396/05/31 ، رای صادره به شماره 1143/29 مورخ 1397/10/25 مبنی بر انتساب تخلف به اعضای مجمع عمومی وقت شرکت در واگذاری اولیه زمین‌های مذکور، شرکت را مستوجب مجازات ندانسته و متذکر به رعایت قوانین و مقررات مربوطه نموده است. | K5: =L9 -> 0 | L5: 723860309156
B7: 23-1-2-2- مبلغ فوق مربوط به تحویل میلگرد به پیمانکاران معرفی شده از طرف شرکت توسط مجتمع فولاد خراسان مي باشد که به علت کمبود نقدينگي تاکنون پرداخت نشده و به دلیل عدم وجود توافق مبنی بر تهاتر، مطالبات با بدهی های فی مابین تهاتر نگردیده است.
B9: 23-1-2-3- مبلغ فوق بابت وجوه دریافتی مربوط به هزینه های جبران افت آب های زیرزمینی می باشد که طبق مفاد ماده 57 قانون الحاق موادی به قانون تنظیم بخشی از مقررات مالی دولت و قوانین الحاق ( 1 ) و ( 2 ) درآمد دولت تلقی و باید به حساب خزانه واریز گردد.
B11: 23-1-2-4- سایر اقلام عمدتاً مربوط به بدهی به آستان قدس رضوی ( اجاره املاک ) ، شهرداری مشهد، شهرداری سرخس، شهرداری تربت حیدریه، شهرداری گناباد، دانشگاه فردوسی ، شرکت آب پوی و شرکت بیمه آسیا می باشد.
B13: 23-1-3- گردش حساب عوارض و ماليات بر ارزش افزوده به شرح زیر است:
I15: (تجدید ارائه شده)
E16: يادداشت | G16: ='23'!H36 -> 1399 | I16: 1398
G17: میلیون ريـــال | I17: میلیون ريـــال
B18: مانده در ابتدای سال | E18: 23-1-3-2‏ | G18: =I22 -> 284822 | I18: 231901 | O18: =I18/1000000 -> 0.231901
B19: مالیات و عوارض پرداختنی فروش و ارائه خدمات | G19: 145494 | I19: 71090 | M19: 5295970423 | N19: =G19/1000000 -> 0.145494 | O19: =I19/1000000 -> 0.07109
B20: مالیات و عوارض دریافتنی خرید و ارائه خدمات | G20: -55692 | I20: -18169 | M20: =I19+M19 -> 5296041513 | N20: =G20/1000000 -> -0.055692 | O20: =I20/1000000 -> -0.018169
B21: تامین ذخیره مالیات بر ارزش افزوده طبق برگه های مطالبه و قطعی ابلاغی بابت سال های 1389 الی 1397 | E21: 23-1-3-2‏ | G21: 253677 | I21: 0 | L21: مالیات و عوارض پرداختی سال 1396 - تهاتر مطالبات از مرکز تحقیقات کشاورزی با بدهی دولت
G22: =SUM(G18:G21) -> 628301 | I22: =SUM(I18:I21) -> 284822
B24: 23-1-3-1- به استناد بند ( و ) قانون الحاق بخشی از مقررات مالی دولت و قوانین الحاق ( 2 ) مالیات بر ارزش افزوده و عوارض آب مندرج در صورتحساب‌ها فقط باید یکبار در انتهای زنجیره تولید و توزیع آب توسط شرکت های توزیع آب ( آب و فاضلاب استان و مشهد ) ، لذا بابت فروش آب شرب به شرکت های مذکور، عوارض و مالیات بر ارزش افزوده محاسبه و اخذ نمی گردد. افزایش مالیات و عوارض فروش نسبت به سال قبل ناشی از شناسایی درآمدهای مشمول مالیات و عوارض در سال جاری می باشد. | L24: =G19-M19 -> -5295824929
B26: 23-1-3-2- مانده فوق شامل مبلغ 193.339 میلیون ریال اصل مبلغ عوارض و مالیات بر ارزش افزوده سه ماهه دوم سال 1389 تا پایان سال 1397 می باشد. در راستای اعتراض شرکت، هیئت حل اختلاف مالیاتی در تاریخ 1400/01/18 اقدام به صدور رای نموده و ماخذ مشمول مالیات و اعتبارات رسیدگی شده طبق رای های قطعی برای دوره های مذکور را عیناً تایید نموده است. که شرکت به دلیل معترض بودن به رای صادره ، ضمن ارجاع شکایت به شورای عالی مالیاتی که در دست بررسی می‌باشد، معادل مبالغ جرایم مطالبه شده طیق برگه های قطعی ابلاغی، ذخیره در سال جاری شناسایی و ثبت نموده است. | L26: 24-1-3-2- مانده فوق شامل مبلغ 95.309 میلیون ریال اصل مبلغ عوارض و مالیات بر ارزش افزوده از ابتدای اجرای قانون مالیات بر ارزش افزوده تا پایان سال 1395 که طبق برگه‌های قطعی توسط سازمان امور مالیاتی مطالبه شده می باشد ( مبلغ تامین کسر ذخیره 42.515 میلیون ریال می باشد) که نسبت به آن اعتراض شده و موضوع در دست بررسی می‌باشد. علاوه بر آن مبلغ 35.897 میلیون ریال نیز بابت جرایم مربوطه مطالبه شده که باتوجه به اعتراض شرکت , ذخیره از این بابت در دفاتر انعکاس نیافته است.
L27: 24-1-3-3- ارزش افزوده سال1396 توسط سازمان امور مالیاتی بررسی و برگ قطعی صادر شده و مبلغ 58،906 میلیون ریال بابت اصل و جرایم مورد مطالبه قرارگرفته که مورد اعتراض شرکت قرارگرفته و در جریان رسیدگی می باشد.
B28: 23-1-4- ذخیره مرخصی استفاده نشده کارکنان بابت 164 نفر رسمی و 98 نفر کار معین و قراردادی می باشد.
B30: 23-1-5- سایر اقلام عمدتاً مربوط به بدهی به دادگستری مشهد ، مشارکت کاوش پی و مهارآب، روزنامه خراسان و شرکت مخابرات ایران به ترتیب به مبالغ 13،494 ، 920 ، 483 و 261 میلیون ریال می باشد. | L30: 24-1-3-4- ارزش افزوده سال1397 توسط سازمان امور مالیاتی بررسی و برگ مطالبه ابلاغ شده و مبلغ 53،184 میلیون ریال بابت اصل و جرایم مورد مطالبه قرارگرفته که مورد اعتراض شرکت قرارگرفته و در جریان رسیدگی می باشد.
B32: 23-1-6- مبلغ فوق به استناد قانون تشكيل حساب پس انداز كاركنان دولت ، مصوب 1376/11/26 مجلس شوراي اسلامي ، مربوط به پس انداز سهم كارمند و كارفرما بوده كه نزد بانك صادرات شعبه مشهد به تفكيك و در حساب جداگانه اي نگهداري و برداشت از حساب مذكور فقط در زمان قطع همكاري امكان پذير است.
B35: 23-1-7‏ - تا تاریخ تایید صورت های مالی مبلغ 96.299 میلیون ریال از بدهی های فوق پرداخت گردیده است.
B43: 24
B47: شرکت عمران آب بارثاوا | G47: 4960 | I47: 0
B48: شرکت نهرآب لوله مشهد | G48: 2768 | I48: 0
B49: شرکت کیمیا کلر کبودان ( خرید کلر ) | G49: 2033 | I49: 2533 | L49: =G49/1000000 -> 0.002033 | M49: =H49/1000000 -> 0 | N49: =I49/1000000 -> 0.002533
B50: شرکت راه سازه بارثاوا | G50: 2290 | I50: 0 | L50: =G50/1000000 -> 0.00229 | M50: =H50/1000000 -> 0 | N50: =I50/1000000 -> 0
B51: شرکت پیروزترابران خراسان | G51: 1784 | I51: 0 | L51: =G51/1000000 -> 0.001784 | M51: =H51/1000000 -> 0 | N51: =I51/1000000 -> 0
B52: شرکت سروآب | G52: 1114 | I52: 618
B53: شرکت مهارآب | G53: 581 | I53: 354
B54: شرکت کماس راه | G54: 290 | I54: 290

Sheet 23.2
B1: شركت سهامي آب منطقه اي خراسان رضوي
B2: يادداشت هاي توضيحي صورت هاي مالي
B3: سال مالی منتهی به 30 اسفند 1399
B5: 23-2 - پرداختني های بلند مدت
K6: (تجدید ارائه شده)
G7: يادداشت | I7: ='23-1-2'!G16 -> 1399 | K7: ='23-1-2'!I16 -> 1398
I8: میلیون ریال | K8: میلیون ریال
B9: وجوه دریافتی از خزانه - طرح های انتفاعی خاتمه یافته تملک دارایی های سرمایه ای | G9: 23-2-1 | I9: =I24 -> 1253880 | K9: =3725701.022376-96600 -> 3629101 | M9: =I9-K9 -> -2375221 | O9: =K9/1000000 -> 3.629101 | P9: =I10/1000000 -> 0.61726566
B10: جزء 3-1 بند ( ل ) تبصره 29 قانون بودجه سال 1380 - اعتبارات ارزي | G10: 23-2-2 | I10: 617265.66 | K10: 617265.66 | M10: =I10-K10 -> 0 | O10: =K10/1000000 -> 0.61726566 | P10: =I11/1000000 -> 0.052387
B11: سایر منابع - تسهيلات بند ( ب ) تبصره 40 قانون بودجه سال 1380 | G11: 23-2-3 | I11: 52387 | K11: 52387.032 | M11: =I11-K11 -> -0.032496 | O11: =K11/1000000 -> 0.052387032 | P11: =I12/1000000 -> 0.064868
B12: سایر منابع - اوراق مشاركت | G12: 23-2-3 | I12: 64868 | K12: 64867.797 | M12: =I12-K12 -> 0.202913 | O12: =K12/1000000 -> 0.064867797
I13: =SUM(I9:I12) -> 1988400.7 | K13: =SUM(K9:K12) -> 4363621.5 | M13: =I13-K13 -> -2375220.8
N14: =4098483+751108+#REF! -> #REF! | P14: =1046796+751108-#REF! -> #REF!
B15: 23-2-1- گردش وجوه دریافتی از خزانه - طرح های انتفاعی خاتمه یافته تملک دارایی های سرمایه ای به شرح زیر می باشد: | M15: =I13-1988401 -> -0.3171
K16: (تجدید ارائه شده)
G17: يادداشت | I17: =I7 -> 1399 | K17: =K7 -> 1398
I18: میلیون ریال | K18: میلیون ریال
B19: مانده ابتدای سال | I19: =K24 -> 3629101 | K19: 3056048.3 | O19: =K19/1000000 -> 3.0560483
B20: تعدیل - بابت انتقال مانده طرح غیر انتفاعی به کاهش سرمایه در جریان | I20: 0 | K20: -96600 | M20: 21
B21: افزایش سال - طرح خاتمه یافته به بهره برداری رسیده | G21: 12-5 | I21: 28433 | K21: =K10+K11 -> 669652.69
B22: افزایش سال - موجودی کالای انتقالی از طرح خاتمه یافته به بهره برداری رسیده | G22: 16 | I22: 2346 | K22: 0
B23: وجوه قابل انتقال به سرمایه | G23: 21-2 | I23: -2406000 | K23: 0
I24: =SUM(I19:I23) -> 1253880 | K24: =SUM(K19:K23) -> 3629101
B26: 23-2-1-1- پرداختني های بلند مدت به مبلغ 1،253،880 میلیون ریال (سال قبل 3،725،701 میلیون ریال ) مربوط به وجوه دریافتی طرح های تملک دارایی‌های سرمایه ای انتفاعی خاتمه یافته می باشد که مبلغ 2،406،000 میلیون ریال در سال مورد گزارش و مبلغ 1،383،751 میلیون ریال طبق مصوبه هیات وزیران در سال 1397 به شرح یادداشت توضیحی 2-21 در سرفصل وجوه قابل انتقال به سرمایه انعکاس یافته است. طبق بند 5 تصویب نامه 144340/ ت 58532 مورخ 1399/12/10 هیئت وزیران ، شرکت مکلف به تعیین باقی مانده بدهی و انعقاد قرارداد با وزارت امور اقتصادی و دارایی شده و باتوجه به درج مبلغ سال 1397 در تصویب نامه سال 1399 ، مصوبه سال 1397 لغو گردیده است. در خصوص اضافات نیز باید در اجرای مواد 32 و 33 قانون برنامه و بودجه و ماده 7 آیین نامه اصول و سیاستها و ضوابط پس از عقد قرارداد با وزارت امور اقتصاد و دارایی نسبت به بازپرداخت آن به خزانه‌داری کل کشور اقدام ‌شود. لذا شرکت ملزم به تهیه مستندات از قبیل اخذ تاییدیه وجوه دریافتی از خزانه به تفکیک هر طرح خاتمه یافته و به بهره‌برداری رسیده، دریافت تاییدیه سازمان حسابرسی می باشد . | N26: 10-2-1-1- مبالغ مذکور مربوط به وجوه دریافتی بابت طرح های تملک دارایی های سرمایه ای انتفاعی بوده که با توجه به خاتمه طرح های مذکور، بهای تمام شده آنها از دفاتر طرح های تملک دارایی های سرمایه ای به سرفصل دارایی های ثابت شرکت منتقل گردیده و باید در اجرای مواد 32 و33 قانون برنامه و بودجه پس از عقد قرارداد با وزارت امور اقتصادی و دارایی نسبت به بازپرداخت آن به خزانه داری کل اقدام شود. به استناد مصوبات ششمین جلسه شورای عالی آب مورخ 1390/02/24 با حضور ریاست محترم جمهور مقرر گردیده با اعمال مواد 32 و 33 قانون بودجه کشور برای طرح های بخش آب ، 50 درصد سرمایه گذاری طرح ها با تایید گزارش توجیهی وزارت نیرو توسط معاونت برنامه ریزی و نظارت راهبردی ریاست جمهور و شورای اقتصاد مورد بخشودگی قرار گیرد و50 درصد مابقی از محل اختلاف قیمت تکلیفی و بهای تمام شده طرح های تملک دارایی های سرمایه ای تهاتر شود لذا به منظور عملیاتی نمودن فرایند پیگیری و تعیین تکلیف وجوه دریافتی از خزانه ، شرکت ملزم به تهیه مستندات از قبیل اخذ تاییدیه وجوه دریافتی از خزانه به تفکیک هر طرح خاتمه یافته و به بهره برداری رسیده ، دریافت تاییدیه سازمان حمایت از مصرف کنندگان و تولید کنندگان مبنی بر زیانده بودن ، درخواست بخشودگی به معاونت توسعه امور مجامع شرکت مدیریت منابع آب ایران جهت طرح در شورای اقتصاد و پیگیری بخشودگی مذکور از معاونت برنامه ریزی و نظارت راهبردی رییس جمهور شده که مکاتبات 91/34352/11 و 91/37826/11 سال1391 و92/29993/11 و 92/30473/11 مهر ماه 1392 و 93/10976 و 93/10030/61/3 و 93/19968 سال 1393 و 94/10913 و 94/17563 سال 1394 در این خصوص با سازمان حمایت از مصرف کنندگان و تولیدکنندگان انجام شده و تاییدیه آن طبق نامه شماره 370/95/54553 مورخ 1395/12/27 از سازمان حمایت از مصرف کنندگان و تولیدکنندگان دریافت گردیده است و جهت طرح موضوع بخشودگی 50 درصدی تسهیلات اعطایی به طرح های انتفاعی توسط سازمان برنامه و بودجه کشور طبق نامه شماره 1178121 مورخ 1396/02/31 به شورای اقتصاد ارسال گردیده است و وزیر نیرو طی نامه شماره 96/31216/31/100 مورخ 1396/06/21 مراتب را ضمن تایید به منظور درخواست بخشودگی و پرداخت مابه التفاوت بهای تمام شده آب با قیمت تکلیفی مصوب را نموده است . سازمان برنامه و بودجه طی نامه شماره 1506518 مورخ 1396/08/20 به معاون وزیر نیرو در امور آب و آبفا درخواست تکمیل اطلاعات و مستندات را نموده که در این راستا شرکت طی نامه 96/11062/62/3 مورخ 1396/08/08 از خزانه معین استان درخواست اعلام و تاییدیه وجوه دریافتی تا آخر سال 1395 را کرده تا متعاقب آن نسبت به عقد قرارداد مطابق ماده 32 و 33 قانون برنامه و بودجه کل کشور اقدام نماید. اضافات طی سال بابت وجوه دریافتی از خزانه بابت طرح های تملک دارایی های سرمایه ای اانتقالی و هزينه هاي قطعي مربوط به طرح های سد بار ، سد چالی دره ، شبکه سد ارداک و پساب به مبلغ 1.161.059 میلیون ریال مربوط به طرح های انتفاعی خاتمه یافته ( یادداشت 4-8 ) می باشد.
O27: لازم به ذکر است اضافات طی سال بابت وجوه دریافتی از خزانه بابت طرح های تملک دارایی های سرمایه ای اانتقالی و هزينه هاي قطعي مربوط به طرح های سد بار ، سد چالی دره ، شبکه سد ارداک و پساب به مبلغ 1.161.059 میلیون ریال مربوط به طرح های انتفاعی خاتمه یافته ( یادداشت 4-8 ) می باشد.
B28: 23-2-2- مبلغ مذکور وجوه دریافتی سایر منابع از محل اعتبارات ارزی جزء 3-1 بند ( ل ) تبصره 29 قانون بودجه سال 1380 کل کشور بابت تامین تجهیزات طرح‌های آبرسانی سد های دوستی، سنگرد و تبارک آباد می باشد که توسط پیمانکاران در بانک ملی ایران گشایش شده و پس از خرید تجهیزات ، وجه آن به پیمانکاران توسط بانک پرداخت شده است. توضیح اینکه سازمان مدیریت و برنامه ریزی کشور پرداخت اصل اقساط و هزینه‌های مترتبه در سررسیدهای مربوط در چارچوب ارقام مصوب در قانون بودجه سال مربوط تضمین نموده است. پس از خاتمه طرح و انتقال دارایی‌های مربوطه به دستگاه بهره‌بردار در حساب ها به شرح فوق انعکاس یافته است. | N28: لازم به ذکر است مبلغ 666.592 میلیون ریال از اضافات طی سال مربوط به طرح ها و پروژه های خاتمه یافته عمدتاً بابت سد چهچهه ، بندهای گلار صالح آباد و استریدر مهر سبزوار انتقالی از طرح های تملک دارایی‌های سرمایه ای( یادداشت 4-12 ) می باشد.
B30: 23-2-3- مبالغ مذکور مربوط به سایر منابع دریافتی بابت طرح خط انتقال آب از سد دوستی به مشهد از محل اوراق مشارکت منتشر شده توسط شرکت مهندسی آب و فاضلاب کشور و تسهیلات بند ( ب ) تبصره 40 قانون بودجه سال 1380 می باشد که می بایست با آن شرکت تسویه حساب شود.
B35: 25

Sheet 24
B1: شركت سهامي آب منطقه اي خراسان رضوي
B2: يادداشت هاي توضيحي صورت هاي مالي
B3: سال مالی منتهی به 30 اسفند 1399 | P3: =E21+I21 -> 0
B5: 24 - پيش دريافت ها | N5: =E18+I18 -> 285662 | P5: =K10+G10 -> 89155.949
N6: =E20+I20 -> -92336 | P6: =I10+E10 -> 85017
C7: يادداشت | E7: كـــــوتـــــاه مـــدت | I7: بــلــنــد مــــدت | N7: =E21+I21 -> 0 | P7: =P6-P5 -> -4138.949
E8: 1399 | G8: 1398 | I8: 1399 | K8: 1398 | N8: =E22+I22 -> 193326
E9: میلیون ريـــال | G9: میلیون ريـــال | I9: میلیون ريـــال | K9: میلیون ريـــال
B10: مجتمع فولاد خراسان | C10: 24-1 | E10: 3220 | G10: =6621.452509-0.5 -> 6620.9525 | H10: 0 | I10: 81797 | J10: 0 | K10: =82535.996491-1 -> 82534.996 | N10: =E10/1000000 -> 0.00322 | O10: =F10/1000000 -> 0 | P10: =G10/1000000 -> 0.0066209525 | Q10: =H10/1000000 -> 0 | R10: =I10/1000000 -> 0.081797 | S10: =J10/1000000 -> 0 | T10: =K10/1000000 -> 0.082534996 | U10: =L10/1000000 -> 0
B11: مهدي كاوه | C11: 24-2 | E11: 38880 | G11: 0 | H11: 0 | I11: 0 | J11: 0 | K11: 38880 | N11: =E11/1000000 -> 0.03888 | O11: =F11/1000000 -> 0 | P11: =G11/1000000 -> 0 | Q11: =H11/1000000 -> 0 | R11: =I11/1000000 -> 0 | S11: =J11/1000000 -> 0 | T11: =K11/1000000 -> 0.03888 | U11: =L11/1000000 -> 0
B12: مجتمع سنگ آهن فولاد سنگان | C12: 24-3 | E12: 24375 | G12: 5466.4892 | H12: 0 | I12: 0 | J12: 0 | K12: 0 | N12: =E12/1000000 -> 0.024375 | O12: =F12/1000000 -> 0 | P12: =G12/1000000 -> 0.0054664892 | Q12: =H12/1000000 -> 0 | R12: =I12/1000000 -> 0 | S12: =J12/1000000 -> 0 | T12: =K12/1000000 -> 0 | U12: =L12/1000000 -> 0
B13: سازمان پارک ها و فضای سبز شهرداری مشهد | C13: 24-4 | E13: 333 | G13: 4333.3333 | H13: 0 | I13: 0 | J13: 0 | K13: 0 | N13: =E13/1000000 -> 0.000333 | O13: =F13/1000000 -> 0 | P13: =G13/1000000 -> 0.0043333333 | Q13: =H13/1000000 -> 0 | R13: =I13/1000000 -> 0 | S13: =J13/1000000 -> 0 | T13: =K13/1000000 -> 0 | U13: =L13/1000000 -> 0
B14: شرکت پردیس کاغذ پارسیان | E14: 18512 | G14: 0 | H14: 0 | I14: 0 | J14: 0 | K14: 0 | N14: =E14/1000000 -> 0.018512 | O14: =F14/1000000 -> 0 | P14: =G14/1000000 -> 0 | Q14: =H14/1000000 -> 0 | R14: =I14/1000000 -> 0 | S14: =J14/1000000 -> 0 | T14: =K14/1000000 -> 0 | U14: =L14/1000000 -> 0
B15: صنایع معدنی فولاد سنگان خراسان | E15: 36786 | G15: 1941.3117 | H15: 0 | I15: 0 | J15: 0 | K15: 0 | N15: =E15/1000000 -> 0.036786 | O15: =F15/1000000 -> 0 | P15: =G15/1000000 -> 0.0019413117 | Q15: =H15/1000000 -> 0 | R15: =I15/1000000 -> 0 | S15: =J15/1000000 -> 0 | T15: =K15/1000000 -> 0 | U15: =L15/1000000 -> 0
B16: شرکت زراعی سنگرد | E16: 4167 | G16: 4166.6667 | H16: 0 | I16: 0 | J16: 0 | K16: 0 | N16: =E16/1000000 -> 0.004167 | O16: =F16/1000000 -> 0 | P16: =G16/1000000 -> 0.0041666667 | Q16: =H16/1000000 -> 0 | R16: =I16/1000000 -> 0 | S16: =J16/1000000 -> 0 | T16: =K16/1000000 -> 0 | U16: =L16/1000000 -> 0
B17: سایر اقلام | E17: 52693 | G17: 3150.5463 | H17: 0 | I17: 24899 | J17: 0 | K17: 37486.91 | N17: =E17/1000000 -> 0.052693 | O17: =F17/1000000 -> 0 | P17: =G17/1000000 -> 0.0031505463 | Q17: =H17/1000000 -> 0 | R17: =I17/1000000 -> 0.024899 | S17: =J17/1000000 -> 0 | T17: =K17/1000000 -> 0.03748691 | U17: =L17/1000000 -> 0
E18: =SUM(E10:E17) -> 178966 | G18: =SUM(G10:G17) -> 25679.3 | I18: =SUM(I10:I17) -> 106696 | K18: =SUM(K10:K17) -> 158901.91 | N18: =E18/1000000 -> 0.178966 | O18: =F18/1000000 -> 0 | P18: =G18/1000000 -> 0.0256793 | Q18: =H18/1000000 -> 0 | R18: =I18/1000000 -> 0.106696 | S18: =J18/1000000 -> 0 | T18: =K18/1000000 -> 0.15890191 | U18: =L18/1000000 -> 0
B19: کسر می شود : | N19: =E19/1000000 -> 0 | O19: =F19/1000000 -> 0 | P19: =G19/1000000 -> 0 | Q19: =H19/1000000 -> 0 | R19: =I19/1000000 -> 0 | S19: =J19/1000000 -> 0 | T19: =K19/1000000 -> 0 | U19: =L19/1000000 -> 0
B20: اسناد دریافتنی تجاری | C20: 24-5 | E20: -84588 | G20: -19654.496 | H20: 0 | I20: -7748 | J20: 0 | K20: -180 | N20: =E20/1000000 -> -0.084588 | O20: =F20/1000000 -> 0 | P20: =G20/1000000 -> -0.019654496 | Q20: =H20/1000000 -> 0 | R20: =I20/1000000 -> -0.007748 | S20: =J20/1000000 -> 0 | T20: =K20/1000000 -> -0.00018 | U20: =L20/1000000 -> 0
B21: حساب های دریافتنی غیر تجاری | E21: 0 | G21: 0 | I21: 0 | K21: 0
E22: =SUM(E18:E21) -> 94378 | G22: =SUM(G18:G21) -> 6024.8035 | I22: =SUM(I18:I21) -> 98948 | K22: =SUM(K18:K21) -> 158721.91 | N22: =E22/1000000 -> 0.094378 | O22: =F22/1000000 -> 0 | P22: =G22/1000000 -> 0.0060248035 | Q22: =H22/1000000 -> 0 | R22: =I22/1000000 -> 0.098948 | S22: =J22/1000000 -> 0 | T22: =K22/1000000 -> 0.15872191 | U22: =L22/1000000 -> 0
B24: 24-1- قرارداد شماره 7555/11 مورخ 1388/07/06 مبنی بر پیش فروش آب از محل سد بار نیشابور به میزان سالیانه 5 میلیون متر مکعب ( به مدت 50 سال از سال 1390 تا سال 1439 ) و به مبلغ 40,000 میلیون ریال با شرکت مجتمع فولاد خراسان منعقد گردیده و از این بابت جمعاٌ مبلغ 40.755 میلیون ریال ( 755 میلیون ریال بیش از مبلغ قرارداد ) از شرکت مذکور وجه نقد و کالا دریافت گردیده است. با توجه به عدم شمول دریافت حق اشتراک جهت مصارف صنعتی طبق ماده 2 آئین نامه اجرایی ماده 63 قانون تنظیم بخشی از مقررات مالی دولت، مبلغ 40.000 میلیون ریال حق انشعاب دریافتی در سال های قبل نیز به عنوان پیش دریافت فروش آب تلقی شده است. مانده پیش دریافت فروش آب از آن شرکت بالغ بر مبلغ 85.017 میلیون ریال می باشد که با توجه به پیش‌بینی فروش آب در سال 1399، مبلغ 3.220 میلیون ریال (معادل مبلغ سال قبل ) آن به عنوان حصه جاری طبقه بندی گردیده است. | N24: =E20+I20 -> -92336
B26: 24-2- در اجراي ماده ( 10) آيين نامه مربوط به بستر و حريم رودخانه ها ( مصـوب جلسـه مورخ 1379/08/11 هيأت محترم وزيران ) طی قرارداد شماره 6104/1562/11/3 مورخ 1394/02/15 حق بهره‌برداری از منافع اراضی مازاد بستر رودخانه فاروب رومان نیشابور به مساحت تقریبی ششصد هزار متر مربع به مدت 10 سال به آقای مهدی کاوه واگذار شده است. باتوجه به مصوبه 764 مورخ 1396/08/28 هیات مدیره مقرر گردید زمان شروع قرارداد اجاره پس از تصویب طرح در کارگروه تخصصی امور زیربنایی و شهرسازی ذیل شورای برنامه ریزی و توسعه استان حداکثر یکسال تمدید گردد. اجاره سال اول بهره برداری مبلغ 3.880 میلیون ریال و هر ساله 20 درصد به مبلغ اجاره اضافه شود. درآمد حاصله در هر سال در سرفصل سایر درآمدهای عملیاتی انعکاس می یابد. اجرای قرارداد منوط به اخذ مجوزهای لازم توسط مستاجر بوده و طرح پیشنهادی مستاجر برای کار گروه تخصصی امور زیر بنایی و شهر سازی استان جهت اخذ موافقت آن کار گروه ارسال لیکن طبق جلسه 1398/03/12 بدلیل عدم تامین نظرات و تصمیمات کار گروه با درخواست طرح مذکور مخالفت شده است. طرف قرارداد تقاضای مهلت جهت پیگیری مجدد با ارائه طرحی جدید نموده که در جریان می باشد. شایان ذکر است که 2 فقره چک دریافتی از ایشان جمعاً به مبلغ 34،992 میلیون ریال بدلیل عدم تامین موجودی حساب در پایان سال جاری برگشت شده است. | M26: 12-2- دراجراي ماده (10) آيين نامه مربوط به بستر و حريم رودخانه ها ، انهار ، مـــــسيلها ، مردابها ، بركه هاي طبيعي و شبکه آبرسانی آبـياري و زهكـشي مصـوب جلسـه مورخ 1379/8/11هيأت محترم وزيران بنا براختيارات حاصله ازاين آيين نامه طی قرارداد شماره 6104/1562/11/3 مورخ 1394/02/15 حق بهر برداری از منافع اراضی مازاد بستر رودخانه فاروب رومان نیشابور به مساحت تقریبی ششصد هزار مترمربع به مدت ده سال به آقای مهدی کاوه واگذار شده است . باتوجه به مصوبه 764 مورخ96/8/28 هیات مدیره مقرر گردید زمن شروع قرارداد اجاره پس از تصویب طرح در کارگروه تخصصی امور زیربنایی و شهرسازی ذیل شورای برنامه ریزی و توسعه استان حداکثر یکسال تمدید و موضوع در قرارداد مربوطه نیز اعمال گردد.مبلغ اجاره سال اول بهره برداری مبلغ 3.880 میلیون ریال است و هرساله 20 درصد به مبلغ اجاره اضافه خواهد شد .درآمد حاصله درهرسال درسرفصل سایردرآمدهای عملیاتی انعکاس می یابد.
B28: 24-3- مبلغ مذکور بابت تحویل آب از دو حلقه چاه جهت مصارف صنعت برای مصرف دوران ساخت می باشد.
B30: 24-4- مبلغ مذکور بابت تحویل آب از ده حلقه چاه جهت مصارف خدماتی و فضای سبز می باشد.
B32: 24-5- مبالغ تهاتر شده با اسناد دریافتنی ( یادداشت های 1-14 و 2-14 ) عمدتاً شامل مطالبات ایجادی از محل قراردادهای منعقده با شهرداری مشهد ، مهدی کاوه ، شرکت سنگ آهن فولاد سنگان و شرکت فرادژ امين شرق بينالود بابت فروش آب های زیرزمینی و سطحی و ... می باشد.
B36: 26

Sheet 25-26
B1: شركت سهامي آب منطقه اي خراسان رضوي
B2: يادداشت هاي توضيحي صورت هاي مالي | Z2: =AB6 -> 195865.46 | AB2: =91158+53759 -> 144917
B3: سال مالی منتهی به 30 اسفند 1399 | X3: 25-1 | Z3: =27808.738103+7568.575218+1 -> 35378.313 | AB3: 61640.464
Z4: 8241 | AB4: 23311
B5: 25 - ذخيره مزاياي پايان خدمت كاركنان | W5: 0 | X5: 25-2 | Z5: =-21317.569268-7568.575218 -> -28886.144 | AB5: =-22767-11235 -> -34002
Z6: =SUM(Z2:Z5) -> 210598.63 | AB6: =SUM(AB2:AB5)-1 -> 195865.46
Q7: یادداشت | S7: ='24'!E8 -> 1399 | U7: ='24'!G8 -> 1398
S8: میلیون ريـــال | U8: میلیون ريـــال
B9: مانده در ابتدای سال | S9: =U12 -> 130031.46 | U9: =91158 -> 91158 | W9: 130031940929 | X9: =S9/1000000 -> 0.13003146 | Z9: =U9/1000000 -> 0.091158
B10: ذخيره تامين شده طی سال | Q10: 25-1 | S10: 35377 | U10: 61640.464 | W10: =27808738103+7568575218 -> 35377313321 | X10: =S10/1000000 -> 0.035377 | Z10: =U10/1000000 -> 0.061640464
B11: پرداخت شده طی سال | Q11: 25-2 | S11: =-21317.569268-7568.575218 -> -28886.144 | U11: =-22767 -> -22767 | W11: =-21317569268-7568575218 -> -28886144486 | X11: =S11/1000000 -> -0.028886144 | Z11: =U11/1000000 -> -0.022767
S12: =SUM(S9:S11) -> 136522.32 | U12: =SUM(U9:U11) -> 130031.46 | W12: =SUM(W9:W11) -> 136523109764
W13: 7568575218
B14: 25-1- کاهش ذخیره تامین شده نسبت به سال قبل ناشی از افزایش 50 درصد امتیازات احکام کارمندان و همچنین اجرای رای دیوان عدالت اداری در خصوص افزایش مبنای محاسبه سنوات خدمت کارگران در پایان سال قبل بوده است.
B15: 25-2- پرداخت شده سال جاری بابت تعداد 22 نفر بازنشسته و در سال قبل بابت تعداد 19 نفر بازنشسته بوده است .
B17: 26- مالیات پرداختنی
S18: (مبالغ به میلیون ریال)
D19: 1399 | S19: 1398
B20: سال مالی | D20: سود ( زیان ) | F20: درآمد مشمول مالیات (زیان تایید شده ) | I20: مــــــا لـــــــیــــــــا ت | S20: مالیات پرداختنی | U20: نحوه تشخیص
D21: ابرازی | I21: ابرازی | K21: تشخیصی | M21: قطعی | O21: پرداختی | Q21: مانده پرداختنی
W22: میلیون ريـــال | Y22: میلیون ريـــال | AA22: میلیون ريـــال | AC22: میلیون ريـــال | AE22: میلیون ريـــال | AG22: میلیون ريـــال | AI22: میلیون ريـــال
B24: 1397 | D24: -102816.49 | E24: 0 | F24: =64186.092242 -> 64186.092 | I24: ---- | K24: =16047+3209 -> 19256 | M24: ----- | O24: ---- | Q24: 0 | S24: 0 | U24: رسیدگی به دفاتر | X24: =D24/1000000 -> -0.10281649 | Y24: =E24/1000000 -> 0 | Z24: =F24/1000000 -> 0.064186092
B25: 1398 | D25: ='صورت تغییرات در حقوق مالکانه'!N14 -> -46320 | I25: ---- | K25: ----- | M25: ----- | O25: ---- | Q25: 0 | S25: 0 | U25: رسیدگی نشده
B26: 1399 | D26: ='صورت سود و زيان'!E17 -> -145491.39 | I26: ---- | K26: ----- | M26: ----- | O26: ---- | Q26: 0 | S26: 0 | U26: رسیدگی نشده
Q27: =SUM(Q24:Q26) -> 0 | S27: =SUM(S24:S26) -> 0
B29: 1 - 26 - ماليات بر درآمد شركت تا پايان سال 1396 قطعي و تسويه شده است. همچنین جهت رسیدگی سال 1397 مراجعه و برگ تشخیص صادر و مبلغ 64.186 میلیون ریال درآمد مشمول مالیات تشخیص و 19،256 میلیون ریال بابت اصل و جرایم متعلقه مطالبه شده است. باتوجه به اینکه شرکت به تشخیص فوق اعتراض نموده و در جریان رسیدگی می باشد، ذخیره ای در دفاتر انعکاس نیافته است.
B31: 2 - 26 - مانده مستهلک نشده زیان تاییدشده عملکرد سال های قبل تا پایان سال 1396 مجموعاً مبلغ 1.474.853 میلیون ریال می باشد. باتوجه به زیان تایید شده، برای سال‌های آتی سود مشمول مالیات متصور نبوده لذا دارایی مالیات انتقالی شناسایی نشده است.
B33: 3 - 26 - بابت عملکرد سال های 1398 و 1399 به دلیل زیان ابرازی و زیان قابل قبول سال های قبل ذخیره مالیات در نظر گرفته نشده است .
B36: 27
B39: 25-3- مبلغ مذکور بابت تحویل آب از دو حلقه چاه جهت مصارف صنعت برای مصرف دوران ساخت می باشد.
B41: 25-4- مبلغ مذکور بابت تحویل آب از ده حلقه چاه جهت مصارف خدماتی و فضای سبز می باشد.
B43: 25-5- مبالغ تهاتر شده با اسناد دریافتنی ( یادداشت های 1-14 و 2-14 ) عمدتاً شامل مطالبات ایجادی از محل قراردادهای منعقده با شهرداری مشهد ، مهدی کاوه ، شرکت سنگ و آهن فولاد سنگان و شرکت فرادژ امين شرق بينالود بابت فروش آب های زیرزمینی و سطحی و... می باشد.
B48: 1389 | D48: -156987.03 | E48: 0 | F48: -83048.19 | I48: ---- | K48: ----- | M48: ----- | O48: ---- | Q48: 0 | S48: 0 | U48: رسیدگی به دفاتر | X48: =D48/1000000 -> -0.15698703 | Y48: =E48/1000000 -> 0 | Z48: =F48/1000000 -> -0.08304819
B49: 1395 | D49: -564383.65 | E49: 0 | F49: -74822.586 | I49: ---- | K49: ----- | M49: ----- | O49: ---- | Q49: 0 | S49: 0 | U49: رسیدگی به دفاتر | X49: =D49/1000000 -> -0.56438365 | Y49: =E49/1000000 -> 0 | Z49: =F49/1000000 -> -0.074822586
B50: 1396 | D50: -427880.89 | E50: 0 | F50: -5521.3332 | I50: ---- | K50: ----- | M50: ----- | O50: ---- | Q50: 0 | S50: 0 | U50: رسیدگی به دفاتر | X50: =D50/1000000 -> -0.42788089 | Y50: =E50/1000000 -> 0 | Z50: =F50/1000000 -> -0.0055213332

Sheet 27-28
A1: شركت سهامي آب منطقه اي خراسان رضوي
A2: يادداشت هاي توضيحي صورت هاي مالي
A3: سال مالی منتهی به 30 اسفند 1399
B5: 27- اصلاح اشتباهات
Q6: (تجدید ارائه شده)
O7: 1399 | Q7: 1398
O8: میلیون ريـــال | Q8: میلیون ريـــال
B9: اصلاح هزینه استهلاک دارایی های انتقالی به آب و فاضلاب مشهد در سال 1396 | O9: 0 | Q9: 0
B10: اصلاح درآمد آب بهای چاه ها سال 1396 | O10: 0 | Q10: 275000
B11: اصلاح درآمد آب بهای چاه ها سال 1397 | O11: 24202 | Q11: =153459.544975+24202 -> 177661.54 | U11: =O11/1000000 -> 0.024202 | W11: =Q10/1000000 -> 0.275
B12: اصلاح درآمد آب بهای چاه ها سال 1398 | O12: 25069 | Q12: 0 | U12: =O12/1000000 -> 0.025069 | W12: =Q11/1000000 -> 0.17766154
O13: =SUM(O11:O12) -> 49271 | Q13: =SUM(Q10:Q11) -> 452661.54
B15: 27-1- به منظور ارائه تصویری مناسب از وضعیت مالی و نتایج عملیات، اطلاعات مقایسه ای مربوط در صورت های مالی مقایسه ای اصلاح و ارائه مجدد شده است و به همین دلیل اقلام مقایسه ای بعضاً با صورت های مالی ارائه شده در سال مالی قبل مطابقت ندارد. | U15: =O11-O12 -> -867
B17: 27-1-1- اصلاح و ارائه مجدد صورت های مالی 1398/12/29
E19: يادداشت | G19: طبق صورت های مالی | I19: اصلاحات | M19: تغییرات طبقه بندی | Q19: (تجدید ارائه شده)
G20: 1398/12/29 | I20: بدهکار | K20: بستانکار | M20: بدهکار | O20: بستانکار | Q20: 1398/12/29 | S20: =63076-13805 -> 49271
G22: میلیون ريـــال | I22: میلیون ريـــال | K22: میلیون ريـــال | M22: میلیون ريـــال | O22: میلیون ريـــال | Q22: میلیون ريـــال
B23: صورت سود و زیان : | U23: =G23/1000000 -> 0 | V23: =H23/1000000 -> 0 | W23: =I23/1000000 -> 0 | X23: =J23/1000000 -> 0 | Y23: =K23/1000000 -> 0
B24: درآمدهای عملیاتی | E24: 5 | G24: 866209 | I24: 0 | K24: =25069 -> 25069 | M24: 0 | O24: 0 | Q24: =G24-I24+K24-M24+O24 -> 891278 | S24: =K24-I24 -> 25069 | U24: =G24/1000000 -> 0.866209 | V24: =H24/1000000 -> 0 | W24: =I24/1000000 -> 0 | X24: =J24/1000000 -> 0 | Y24: =K24/1000000 -> 0.025069
B25: صورت وضعیت مالی : | S25: =K25-I25 -> 0
B26: دريافتني های تجاري و سایر دریافتنی ها | E26: 14 | G26: =2030395+24202 -> 2054597 | I26: 29504 | K26: 0 | M26: 0 | O26: 0 | Q26: =G26+I26-K26+M26-O26 -> 2084101 | S26: =K26-I26 -> -29504 | U26: =G26/1000000 -> 2.054597 | V26: =H26/1000000 -> 0 | W26: =I26/1000000 -> 0.029504 | X26: =J26/1000000 -> 0 | Y26: =K26/1000000 -> 0
B27: پرداختنی های تجاری و سایر پرداختنی ها | E27: 23 | G27: =1477297 -> 1477297 | I27: 0 | K27: =5677-1242 -> 4435 | M27: 0 | O27: 0 | Q27: =G27+K27-I27+O27-M27 -> 1481732 | S27: =K27-I27 -> 4435 | U27: =G27/1000000 -> 1.477297 | V27: =H27/1000000 -> 0 | W27: =I27/1000000 -> 0 | X27: =J27/1000000 -> 0 | Y27: =K27/1000000 -> 0.004435
B28: وجوه قابل انتقال به سرمایه | E28: 21 | G28: =1933957+932+96600 -> 2031489 | I28: 0 | K28: 0 | M28: 0 | O28: 0 | Q28: =G28+K28-I28+O28-M28 -> 2031489 | S28: =K28-I28 -> 0 | U28: =G29/1000000 -> 4.363622 | W28: =I28/1000000 -> 0 | Y28: =K28/1000000 -> 0
B29: پرداختنی های بلندمدت | E29: 23-2 | G29: =4460222-96600 -> 4363622 | I29: 0 | K29: 0 | M29: 0 | O29: 0 | Q29: =G29+K29-I29+O29-M29 -> 4363622 | S29: =K29-I29 -> 0 | W29: =I29/1000000 -> 0 | Y29: =K29/1000000 -> 0
B30: زیان انباشته ابتدای سال | G30: =-3340122+24202 -> -3315920 | I30: 0 | K30: 0 | M30: 0 | O30: 0 | Q30: =G30+K30-I30+O30-M30 -> -3315920 | S30: =K30-I30 -> 0 | W30: =I30/1000000 -> 0 | Y30: =K30/1000000 -> 0
I31: =SUM(I24:I30) -> 29504 | K31: =SUM(K24:K30) -> 29504 | M31: =SUM(M24:M30) -> 0 | O31: =SUM(O24:O30) -> 0
B33: 27-1-2- اصلاح و ارائه مجدد صورت های مالی 1397/12/29
E34: يادداشت | G34: طبق صورت های مالی | I34: اصلاحات | M34: تغییرات طبقه بندی | Q34: (تجدید ارائه شده)
G35: 1397/12/29 | I35: بدهکار | K35: بستانکار | M35: بدهکار | O35: بستانکار | Q35: 1397/12/29
G37: میلیون ريـــال | I37: میلیون ريـــال | K37: میلیون ريـــال | M37: میلیون ريـــال | O37: میلیون ريـــال | Q37: میلیون ريـــال
B38: صورت سود و زیان : | U38: =G38/1000000 -> 0 | V38: =H38/1000000 -> 0 | W38: =I38/1000000 -> 0 | X38: =J38/1000000 -> 0 | Y38: =K38/1000000 -> 0
B39: درآمدهای عملیاتی | E39: 5 | G39: 658704 | I39: 0 | K39: =153460+24202 -> 177662 | M39: 0 | O39: 0 | Q39: =G39-I39+K39 -> 836366 | U39: =G39/1000000 -> 0.658704 | V39: =H39/1000000 -> 0 | W39: =I39/1000000 -> 0 | X39: =J39/1000000 -> 0 | Y39: =K39/1000000 -> 0.177662
B40: اصلاح اشتباهات | G40: 290308 | I40: 0 | K40: 275000 | M40: 0 | O40: 0 | Q40: =G40-I40+K40 -> 565308 | U40: =G40/1000000 -> 0.290308 | V40: =H40/1000000 -> 0 | W40: =I40/1000000 -> 0 | X40: =J40/1000000 -> 0 | Y40: =K40/1000000 -> 0.275
B41: صورت وضعیت مالی :
B42: دريافتني های تجاري و سایر دریافتنی ها | E42: 14 | G42: =1298550+2402 -> 1300952 | I42: =467021+24202 -> 491223 | K42: 0 | M42: 0 | O42: 0 | Q42: =G42+I42-K42 -> 1792175 | U42: =G42/1000000 -> 1.300952 | V42: =H42/1000000 -> 0 | W42: =I42/1000000 -> 0.491223 | X42: =J42/1000000 -> 0 | Y42: =K42/1000000 -> 0
B43: وجوه قابل انتقال به سرمایه | E43: 21 | G43: =1698563+932 -> 1699495 | I43: 0 | K43: 0 | M43: 0 | O43: 96600 | Q43: =G43+K43-I43+O43-M43 -> 1796095 | S43: =K43-I43 -> 0 | U43: =G44/1000000 -> 1.397069 | W43: =I43/1000000 -> 0 | Y43: =K43/1000000 -> 0
B44: پرداختنی های تجاری و سایر پرداختنی ها | E44: 23 | G44: 1397069 | I44: 0 | K44: 38561 | M44: 0 | O44: 0 | Q44: =G44+K44-I44+O44-M44 -> 1435630 | U44: =G44/1000000 -> 1.397069 | V44: =H44/1000000 -> 0 | W44: =I44/1000000 -> 0 | X44: =J44/1000000 -> 0 | Y44: =K44/1000000 -> 0.038561
B45: پرداختنی های بلند مدت | E45: 23-2 | G45: 3793630 | I45: 0 | K45: 0 | M45: 96600 | O45: 0 | Q45: =G45+K45-I45+O45-M45 -> 3697030 | U45: =G45/1000000 -> 3.79363 | V45: =H45/1000000 -> 0 | W45: =I45/1000000 -> 0 | X45: =J45/1000000 -> 0 | Y45: =K45/1000000 -> 0
I46: =SUM(I39:I45) -> 491223 | K46: =SUM(K39:K45) -> 491223 | M46: =SUM(M39:M45) -> 96600 | O46: =SUM(O39:O45) -> 96600
B48: 28- نقد حاصل از عملیات
Q49: (تجدید ارائه شده)
M50: یادداشت | O50: =O7 -> 1399 | Q50: =Q7 -> 1398 | S50: صورت تطبيق سود ( زيان ) عملياتي با جريان خالص ورود وجه نقد ناشي از فعاليت هاي عملياتي به شرح زير است :
O51: میلیون ريـــال | Q51: میلیون ريـــال
B52: سود ( زيان ) خالص | O52: ='صورت سود و زيان'!E17 -> -145491.39 | Q52: ='صورت سود و زيان'!G17 -> -21251.381
B53: تعدیلات
B54: هزینه استهلاك دارایی های غیر جاری | M54: 12 | O54: ='دارایی ثابت 1'!W28 -> 379701 | Q54: 321954.97 | S54: =O54/1000000 -> 0.379701 | T54: =P54/1000000 -> 0 | U54: =Q54/1000000 -> 0.32195497 | W54: هزینه استهلاك دارایی های ثابت مشهود
B55: خالص افزایش در ذخيره مزاياي پايان خدمت كاركنان | O55: 6492 | Q55: 38873 | S55: =O55/1000000 -> 0.006492 | T55: =P55/1000000 -> 0 | U55: =Q55/1000000 -> 0.038873
B56: کمک های دریافتی از دولت بابت جبران زیان | O56: -15500 | Q56: -13750 | U56: =Q56/1000000 -> -0.01375
B57: سود حاصل از فروش دارایی های ثابت مشهود | O57: =-'9-11'!G23 -> -1753 | Q57: =-'9-11'!I23 -> -2257.7794
B58: هزینه آرای قضایی علیه شرکت | M58: 9-2 | O58: =-'9-11'!G10 -> 13347.733 | Q58: 0
B59: تعدیل مالیات بر ارزش افزوده از ابتدای اجرای قانون مذکور تا پایان سال 1397 | M59: 10-2 | O59: =-'9-11'!G22 -> 253677 | Q59: 0
O60: =SUM(O52:O59) -> 490473.34 | Q60: =SUM(Q52:Q59) -> 323568.81
B61: (افزايش) پیش پرداختها | O61: -8226.9056 | Q61: -4284.0215 | S61: =O61/1000000 -> -0.0082269056 | T61: =P61/1000000 -> 0 | U61: =Q61/1000000 -> -0.0042840215
B62: كاهش( افزايش ) موجودي مواد و كالا | O62: -5766.2575 | Q62: 1079.059 | S62: =O62/1000000 -> -0.0057662575 | T62: =P62/1000000 -> 0 | U62: =Q62/1000000 -> 0.001079059 | W62: 693166974484-
B63: (افزايش) دريافتني های عملياتي | O63: -676665 | Q63: -332012.03 | S63: =O63/1000000 -> -0.676665 | T63: =P63/1000000 -> 0 | U63: =Q63/1000000 -> -0.33201203
B64: افزايش پرداختني های عملياتي | O64: 294107 | Q64: 53073.388 | S64: =O64/1000000 -> 0.294107 | T64: =P64/1000000 -> 0 | U64: =Q64/1000000 -> 0.053073388
B65: افزایش ( کاهش ) پيش دريافت هاي عملياتي | O65: 28579 | Q65: 4862.8474 | S65: =O65/1000000 -> 0.028579 | T65: =P65/1000000 -> 0 | U65: =Q65/1000000 -> 0.0048628474
B66: نقد حاصل از عملیات | O66: =SUM(O60:O65) -> 122501.18 | Q66: =SUM(Q60:Q65) -> 46288.053
B68: 28
B70: 30- مبادلات غیر نقدی
B72: مبادلات غیر نقدی عمده طی سال به شرح زیر است:
K74: =O50 -> 1399 | Q74: =Q50 -> 1398
K75: میلیون ريـــال | Q75: میلیون ريـــال
K76: ='دارایی ثابت 1'!S19 -> 57232.627 | Q76: 901986
B77: ارزش دفتری دارایی های انتقالی به آب و فاضلاب مشهد | K77: 0 | Q77: 0
B78: دارایی های ثابت مشهود انتقال یافته از طرح های تملک دارایی های سرمایه ای | K78: =SUM(K69:K77) -> 57232.627 | Q78: =SUM(Q69:Q77) -> 901986

Sheet 29
A2: شركت سهامي آب منطقه اي خراسان رضوي
A3: يادداشت هاي توضيحي صورت هاي مالي
A4: سال مالی منتهی به 30 اسفند 1399
B5: 29- جزء (8) بند (ی) تبصره 2 قانون بودجه سال 1400 کل کشور
D7: سال 1399
F8: 1399
F9: واحد اندازه گیری | H9: مقدار | J9: نرخ تکلیفی فروش | L9: نرخ بازار | N9: نرخ بهای تمام شده | P9: بهای تمام شده | R9: درآمد واقعی | T9: برآورد بازار | V9: سود ( زیان )
J10: ریال | L10: ریال | N10: ریال | P10: میلیون ریال | R10: =+P10 -> میلیون ریال | T10: میلیون ریال | V10: =+R10 -> میلیون ریال
B11: آب سطحی | D11: آب کشاورزی | F11: میلیون متر مکعب آب | H11: ='5-1 5-2 5-3'!G10 -> 59 | J11: =R11/H11 -> 2199.3729 | L11: 29500 | N11: =P11/H11 -> 9909.3729 | P11: 584653 | R11: ='5-1 5-2 5-3'!I10 -> 129763 | T11: =L11*H11 -> 1740500 | V11: =T11-R11 -> 1610737
D12: آب شرب | F12: میلیون متر مکعب آب | H12: ='5-1 5-2 5-3'!G11 -> 133 | J12: =R12/H12 -> 473.4812 | L12: 29500 | N12: =P12/H12 -> 2114.6917 | P12: 281254 | R12: ='5-1 5-2 5-3'!I11 -> 62973 | T12: =L12*H12 -> 3923500 | V12: =T12-R12 -> 3860527
B13: حق النظاره و خدمات برداشتی چاه ها | D13: حق النظاره کشاورزی | F13: میلیون متر مکعب آب | H13: ='5-1 5-2 5-3'!G28 -> 3413 | J13: =R13/H13 -> 1.5713449 | L13: 29500 | N13: =P13/H13 -> 56.401992 | P13: 192500 | R13: 5363 | T13: =L13*H13 -> 100683500 | V13: =T13-R13 -> 100678137
D14: حق النظاره شرب | F14: میلیون متر مکعب آب | H14: 406 | J14: =R14/H14 -> 296.25369 | L14: 29500 | N14: =P14/H14 -> 56.401478 | P14: 22899 | R14: 120279 | T14: =L14*H14 -> 11977000 | V14: =T14-R14 -> 11856721
P15: =SUM(P11:P14) -> 1081306 | R15: =SUM(R11:R14) -> 318378 | T15: =SUM(T11:T14) -> 118324500 | V15: =SUM(V11:V14) -> 118006122
F17: 1398
F18: واحد اندازه گیری | H18: مقدار | J18: نرخ تکلیفی فروش | L18: نرخ بازار | N18: نرخ بهای تمام شده | P18: بهای تمام شده | R18: درآمد واقعی | T18: برآورد بازار | V18: سود ( زیان )
J19: ریال | L19: ریال | N19: ریال | P19: میلیون ریال | R19: =+P19 -> میلیون ریال | T19: میلیون ریال | V19: =+R19 -> میلیون ریال
B20: آب سطحی | D20: آب کشاورزی | F20: میلیون متر مکعب آب | H20: ='5-1 5-2 5-3'!K10 -> 65 | J20: =R20/H20 -> 1835.1231 | L20: 29500 | N20: =P20/H20 -> 8994.6615 | P20: 584653 | R20: 119283 | T20: =L20*H20 -> 1917500 | V20: =T20-R20 -> 1798217
D21: آب شرب | F21: میلیون متر مکعب آب | H21: ='5-1 5-2 5-3'!K11 -> 104 | J21: =R21/H21 -> 395.25 | L21: 29500 | N21: =P21/H21 -> 2704.3654 | P21: 281254 | R21: 41106 | T21: =L21*H21 -> 3068000 | V21: =T21-R21 -> 3026894
B22: حق النظاره و خدمات برداشتی چاه ها | D22: حق النظاره کشاورزی | F22: میلیون متر مکعب آب | H22: ='5-1 5-2 5-3'!K28 -> 4580 | J22: =R22/H22 -> 1.571179 | L22: 29500 | N22: =P22/H22 -> 42.030568 | P22: 192500 | R22: 7196 | T22: =L22*H22 -> 135110000 | V22: =T22-R22 -> 135102804
D23: حق النظاره شرب | F23: میلیون متر مکعب آب | H23: ='5-1 5-2 5-3'!K26 -> 285 | J23: =R23/H23 -> 225.46316 | L23: 29500 | N23: =P23/H23 -> 80.347368 | P23: 22899 | R23: 64257 | T23: =L23*H23 -> 8407500 | V23: =T23-R23 -> 8343243
P24: =SUM(P20:P23) -> 1081306 | R24: =SUM(R20:R23) -> 231842 | T24: =SUM(T20:T23) -> 148503000 | V24: =SUM(V20:V23) -> 148271158
B27: در اجرای مفاد جزء (8) بند (ی) تبصره 2 قانون بودجه سال 1400 کل کشور، با توجه به اینکه محصولات تولیدی و خدمات ارائه شده توسط شرکت به دلیل انحصاری بودن فاقد قیمت بازار می باشد، لذا به منظور انجام تکلیف قانونی یاد شده و به استناد مکاتبه شماره 1400/190/8105 مورخ 1400/05/17 شرکت مادر تخصصی مدیرت منابع آب ایران ارزش بازار هر متر مکعب آب سطحی و زیرزمینی برابر تعرفه هزینه های جبران افت آب سفره های زیزمینی در سال 1399 طبق مصوبه شماره 139939/ت57379 هـ مورخ 1399/12/2 هیأت محترم وزیران برای بخش آب محاسبه شده است.
B29: 29
D33: ارزش بازار با در نظر گرفتن قیمت تمام شده بعلاوه نرخ تورم اعلامی از سوی مرکز آمار ایران برای سال های 1399و 1398 به ترتیب به میزان 36،4درصد و 34،8 درصد محاسبه شده است. نظر به اینکه نرخ تکلیفی حق النظاره شرب بالاتر از نرخ بهای تمام شده بعلاوه نرخ تورم می باشد ،نرخ تکلیفی مبنای نرخ بازار قرار گرفته است. | X33: کاهش مبلغ فروش آب به شرکت ملی صنایع مس ایران نسبت به سال قبل به دلیل عدم افزایش نرخ آب و نیز کاهش مصرف در سال 1399 می‌باشد.

Sheet مدیریت س و ریسک
B1: شركت سهامي آب منطقه اي خراسان رضوي
B2: يادداشت هاي توضيحي صورت هاي مالي
B3: سال مالی منتهی به 30 اسفند 1399
B5: 30- مدیریت سرمایه و ریسک ها
B7: 30-1- مدیریت سرمایه
B9: شرکت سرمایه خود را مدیریت می کند تا اطمینان حاصل کند در حین حداکثر کردن بازده ذینفعان از طریق بهینه سازی تعادل بدهی و سرمایه، قادر به تداوم فعالیت خواهد بود. ساختار سرمایه شرکت از خالص بدهی و حقوق مالکانه تشکیل می‌شود. استراتژی کلی شرکت از سال 1398بدون تغییر باقی مانده است و شرکت در معرض هیچگونه الزامات سرمایه تحمیل شده از خارج از شرکت نیست. کمیته مدیریت ریسک شرکت، ساختار سرمایه شرکت را شش ماه یکبار بررسی می کند. به عنوان بخشی از این بررسی، کمیته، هزینه سرمایه و ریسک‌های مرتبط با هر طبقه از سرمایه را مدنظر قرار می دهد. | O9: شرکت سرمایه خود را مدیریت می کند تا اطمینان حاصل کند در حین حداکثر کردن بازده ذینفعان از طریق بهینه سازی تعادل بدهی و سرمایه، قادر به تداوم فعالیت خواهد بود. ساختار سرمایه شرکت از خالص بدهی و حقوق مالکانه تشکیل می شود. استراتژی کلی شرکت از سال 1397بدون تغییر باقی مانده است و شرکت در معرض هیچگونه الزامات سرمایه تحمیل شده از خارج از شرکت نیست. مدیریت ریسک شرکت، ساختار سرمایه شرکت را شش ماه یکبار بررسی می کند. به عنوان بخشی از این بررسی، کمیته، هزینه سرمایه و ریسک های مرتبط با هر طبقه از سرمایه را مدنظر قرار می دهد. شرکت یک نسبت اهرمی هدف به میزان 20%-25% دارد که بعنوان نسبت خالص بدهی به سرمایه تعیین شده است. نسبت اهرمی در1/12/29×13 با نرخ ... درصد زیر محدوده هدف بوده و به یک سطح معمول تر ... درصد، پس از پایان سال بازگشته است.
B11: 30-1-1- نسبت اهرمی
B13: نسبت اهرمی در پایان سال به شرح زیر است :
K15: 1399 | M15: 1398
K16: میلیون ريـــال | M16: میلیون ريـــال
C17: جمع بدهی | K17: ='صورت وضعیت مالی'!F42 -> 4357382 | M17: ='صورت وضعیت مالی'!H42 -> 6140131.7
C18: موجودی نقد | K18: =-'صورت وضعیت مالی'!F18 -> -49203 | M18: =-'صورت وضعیت مالی'!H18 -> -67241.655
C19: خالص بدهی | K19: =K17+K18 -> 4308179 | M19: =M17+M18 -> 6072890
C20: حقوق مالکانه | K20: ='صورت وضعیت مالی'!F30 -> 6835318.6 | M20: ='صورت تغییرات در حقوق مالکانه'!P17 -> 4544626.4
C21: نسبت خالص بدهی به حقوق مالکانه (‌درصد) | K21: =(K19/K20)*100 -> 63.028211 | M21: =(M19/M20)*100 -> 133.62793
B23: با عنایت به نحوه تامین مالی طرح ها و پروژه های شرکت بر اساس مقررات و قوانین کشوری، عمده بدهی این شرکت به مبلغ 1.253.880 میلیون ریال به خزانه وزارت امور اقتصادی و دارایی می باشد که برابر موافقت نامه های متبادله با سازمان مدیریت و برنامه ریزی کشور تامین و از طریق افزایش سرمایه پس از اخذ مجوزهای لازم، تسویه می‌گردد. به شرح یادداشت توضیحی 2-21 مبلغ 2،406،000 میلیون ریال از بدهی فوق به سرفصل سرمایه گذاری دولت منتقل گردیده تا پس از طی مراحل قانونی به سرمایه شرکت منتقل گردد.
B25: 30-2- اهداف مدیریت ریسک مالی
B27: مدیریت شرکت، انواع ریسک های مالی مربوط و درجه و اندازه آنها را تجزیه و تحلیل و ارائه می کند. این ریسک ها شامل ریسک بازار (شامل ریسک نرخ ارز و سایر ریسک‌های قیمت)، ریسک اعتباری و ریسک نقدینگی می باشد. مدیریت شرکت احتمال آسیب پذیری شرکت از ریسک های مزبور را ارزیابی و سیستم‌هایی را اتخاذ و اعمال می نماید تا آسیب پذیری به حداقل ممکن کاهش یابد.
B29: 30-3- مدیریت ریسک بازار
B30: شرکت مدیریت ریسک های بازار ( شامل ریسک تغییرات نرخ ارز و ریسک سایر قیمت ها) را مورد توجه و ارزیابی قرار می دهد. به شرح توضیحاتی که در ذیل ارائه می‌گردد در وضعیت فعلی آسیب پذیری شرکت از بابت ریسک های مذکور قابل ملاحظه نبوده و در حداقل قرار دارد.
B32: 30-4- مدیریت ریسک ارز
B34: شرکت فاقد عملیات و فعالیت های خارجی از قبیل واردات و صادرات بوده و فعالیت های شرکت ماهیتاً ارتباط مستقیمی با نوسانات نرخ ارز ندارد. همچنین ایجاد و توسعه سدها و تاسیسات وابسته عمدتاً از طریق مناقصه و با انعقاد قرارداد با پیمانکاران و سازندگان تجهیزات داخلی توسط طرح‌های تملک دارایی‌های سرمایه‌ای به انجام می‌رسد. اگرچه افزایش نرخ ارز می تواند به صورت غیر مستقیم بخشی از مخارج سرمایه ای که از طریق قراردادهای پیمانکاری انجام می شود را تحت تاثیر قرار دهد. لیکن اثرات آن قابل ملاحظه پیش بینی نمی شود. بنابر این ریسک بازار شرکت مرتبط با نوسانات نرخ ارز در حداقل ممکن قرار دارد و پیش‌بینی نمی شود که شرکت از بابت این ریسک در معرض آسیب پذیری باشد.
A39: 30
B41: 30-5- ریسک سایر قیمت ها
B43: فعالیت اصلی شرکت، انجام وظایف عملیاتی مدیریت منابع آب در زمینه شناخت، مطالعه، توسعه، حفاظت و بهره برداری از منابع آب و همچنین ایجاد و توسعه، بهره‌برداری و نگهداری از تاسیسات و سازه های آب ( به استثناء تاسیسات و سازه‌های مربوط به آب و فاضلاب) درچارچوب الزامات و سیاست‌های مدیریت حوضه آبریز و مطالعات جامع و برنامه ریزی توسعه منابع آب، تکالیف مندرج در قوانین و مقررات مربوط و سیاست‌های وزارت نیرو می باشد و این فعالیت ها تقریبا انحصاری بوده و طبق تعرفه های مصوب مراجع قانونی صورت می پذیرد. از طرفی هزینه های مربوط به حق النظاره چاهها و فروش آب به عنوان عمده ترین عامل تشکیل دهنده قیمت تمام شده درآمدهای عملیاتی می باشد که براساس دستورالعمل شورای اقتصاد و بخشنامه های وزیر محترم نیرو محاسبه می گردد. لذا شرکت درخصوص ریسک سایر قیمت‌ها نیز در حداقل ممکن قرار دارد و شرکت از این بابت در معرض آسیب پذیری قرار ندارد.
B45: 30-6- مدیریت ریسک اعتباری
B47: ریسک اعتباری به ریسکی اشاره دارد که طرف قرارداد در ایفای تعهدات قراردادی خود ناتوان باشد و منجر به زیان مالی برای شرکت شود. شرکت سیاستی مبنی بر معامله با قرارداد معتبر و اخذ وثیقه کافی، در موارد مقتضی، را اتخاذ کرده است، تا ریسک اعتباری ناشی از ناتوانی در ایفای تعهدات توسط مشتریان را کاهش دهد. آسیب پذیری اعتباری از طریق محدودیت های طرف قرارداد که بطور سالانه توسط کمیته مدیریت ریسک بررسی و تأیید می شود، کنترل می‌شود. دریافتنی های تجاری شامل تعداد زیادی از مشتریان است که در بین صنایع متنوع و مناطق جغرافیایی گسترده شده است. ارزیابی اعتباری مستمر بر اساس وضعیت مالی حساب های دریافتنی انجام می شود. همچنين شرکت هیچگونه وثیقه یا سایر روش های افزایش اعتبار به منظور پوشش ریسک‌های اعتباری مرتبط با دارایی های مالی خود نگهداری نمی کند. مبالغ حق النظاره آب بهای منابع زیر زمینی در چارچوب مصوبه وزیر نیرو (اجرایی از سال 1392) در سیستم مشترکین بر اساس مقادیر مندرج در پروانه بهره برداری منظور گردیده و سالیانه معادل مبلغ وصول شده به حساب درآمدهای جاری شرکت منتقل می گردد. با توجه به مراتب فوق ممکن است برخی مشترکین بدهی خود را به موقع پرداخت ننمایند یا در پرداخت به موقع ناتوان باشند لذا شرکت در این خصوص دارای ریسک اعتبار می باشد. شرکت در خصوص, شرکت های آب و فاضلاب که جزء شرکتها و نهادهای دولتی می باشند. آسیب پذیری ریسک اعتباری با اهمیتی ندارد. تمرکز ریسک اعتباری مرتبط به شرکت از 20 درصد ناخالص دارایی‌های پولی، در هر زمانی در طول سال، تجاوز نمی کند. تمرکز ریسک اعتباری مرتبط با سایر طرف‌های قرارداد از 5 درصد ناخالص دارایی‌های پولی، در هر زمانی در طول سال، تجاوز نمی کند.
C49: نام مشتری | G49: میزان مطالبات | I49: میزان مطالبات سر رسید شده
G50: میلیون ريـــال | I50: میلیون ريـــال
C51: شرکت آب و فاضلاب مشهد | G51: ='14'!I44 -> 430817 | I51: 381069 | R51: =I51/1000000 -> 0.381069
C52: شرکت آب و فاضلاب استان خراسان رضوی | G52: ='14'!I45 -> 338185 | I52: =189897.072226+70503.587348 -> 260400.66 | R52: =I52/1000000 -> 0.26040066
G53: =SUM(G51:G52) -> 769002 | I53: =SUM(I51:I52) -> 641469.66
B56: 30-7- مدیریت ریسک نقدینگی
B58: منابع حاصل از ارائه خدمات حق النظاره و کارشناسی و فروش آب مستقیماً به حساب درآمد اختصاصی این شرکت نزد بانک مرکزی که توسط خزانه داری کل کشور افتتاح گردیده است واریز می گردد و پس از درخواست وجه توسط خزانه به حساب پرداخت واریز می گردد، از این بابت ریسک نقدینگی در حداقل ممکن قرار دارد.
B60: 30-8- ریسک فراگیر عملیات
B62: به تشخیص شرکت , آثار ناشی از شیوع کووید 19 از جمله رویدادهای تعدیلی بعد از تاریخ صورت های مالی نیست. بنابر این صورت وضعیت مالی درپایان سال مالی مورد گزارش و نتایج عملیات برای دوره منتهی به آن به منظور انعکاس اثر آن رویدادها تعدیل نشده است.
B65: 31
B66: 32-3- سایر ریسک های قیمت
B68: شرکت در معرض ریسک های قیمت اوراق بهادار مالکانه (سهام) ناشی از سرمایه گذاری ها در اوراق بهادار مالکانه قرار دارد. برخی از سرمایه گذاری ها در اوراق بهادار مالکانه در شرکت به جای اهداف مبادله برای هدف استراتژیک نگهداری می شود . شرکت بطور فعال این سرمایه گذاری رو مبادله نمی کند .همچنین شرکت سایر سرمایه گذاری در اوراق بهادار مالکانه را برای اهداف مبادله نگهداری می کند.
B70: 32-3-1- تجزیه و تحلیل حساسیت قیمت اوراق بهادار مالکانه
B72: تجزیه و تحلیل حساسیت زیر بر اساس آسیب پذیری از ریسک های قیمت اوراق بهادار مالکانه در پایان سال تعیین شده اند . اگر قیمت های اوراق بهادار مالکانه 5 درصد بالاتر / پایین تر باشد، سود برای سال منتهی به 2/12/29×13 معادل ... میلیون ریال افزایش / کاهش (1/12/29×13 : معادل ... میلیون ریال افزایش / کاهش ) ناشی از تغییرات در ارزش بازار سرمایه گذاری های جاری سریع المعامله در اوراق بهادار مالکانه ، خواهد داشت و حساسیت شرکت نسبت به قیمت های اوراق بهادار مالکانه از سال قبل تغییر با اهمیتی نداشته است .

Sheet 31
B1: شركت سهامي آب منطقه اي خراسان رضوي
B2: يادداشت هاي توضيحي صورت هاي مالي
B3: سال مالی منتهی به 30 اسفند 1399
B5: 31 - معاملات با اشخاص وابسته
B7: 31-1- معاملات انجام شده با اشخاص وابسته طی سال مورد گزارش:
B9: شرح | C9: نام شخص وابسته | D9: نوع وابستگی | E9: مشمول ماده 129 | F9: خرید کالا و خدمات | G9: فروش کالا و خدمات | H9: دریافت وجه کمک زیان
E10: دریافتنی های غیرتجاری | F10: پرداختنی های تجاری | G10: پرداختنی های غیر تجاری
E11: ريال | F11: میلیون ريـــال | G11: میلیون ريـــال | H11: میلیون ريـــال
B12: شرکت تجاری اصلی و نهایی | C12: شرکت مديريت منابع آب ايران | D12: سهامدار اصلی | E12: ---- | F12: 15500 | G12: 0 | H12: 15500 | K12: =F12/1000000 -> 0.0155 | L12: =G12/1000000 -> 0
B13: اشخاص وابسته | C13: شرکت توزیع نیروی برق شهرستان مشهد | D13: وابسته به وزارت نیرو | E13: ---- | F13: 5713.6488 | G13: 0 | H13: 0 | K13: =F13/1000000 -> 0.0057136488 | L13: =G13/1000000 -> 0
C14: شرکت آب و فاضلاب مشهد | D14: وابسته به وزارت نیرو | E14: ---- | F14: 0 | G14: ='5'!G27 -> 87336.259 | H14: 0 | K14: =F14/1000000 -> 0 | L14: =G14/1000000 -> 0.087336259
C15: شرکت آب و فاضلاب استان خراسان رضوی | D15: وابسته به وزارت نیرو | E15: ---- | F15: 0 | G15: ='5'!G28 -> 77783.719 | H15: 0 | K15: =F15/1000000 -> 0 | L15: =G15/1000000 -> 0.077783719
C16: مرکز آموزش عالی کاربردی صنعت آب و برق خراسان | D16: وابسته به وزارت نیرو | E16: ---- | F16: 2939.6075 | G16: 0 | H16: 0 | K16: =F16/1000000 -> 0.0029396075 | L16: =G16/1000000 -> 0
C17: مرکز آموزش تحقیقات آموزش مدیریت تهران | D17: وابسته به وزارت نیرو | E17: ---- | F17: 191.73 | G17: 0 | H17: 0 | K17: =F17/1000000 -> 0.00019173 | L17: =G17/1000000 -> 0
B18: جمع کل | F18: =SUM(F12:F17) -> 24344.986 | G18: =SUM(G12:G17) -> 165119.98 | H18: =SUM(H12:H17) -> 15500
B20: 1 - 31-1 - معاملات با اشخاص وابسته با شرایط حاکم بر معاملات حقیقی تفاوت با اهمیتی نداشته است.
B22: 31-2- مانده حساب های نهایی اشخاص وابسته به شرح زیر است :
B24: شرح | C24: نام شخص وابسته | D24: دریافتنی های تجاری | E24: سایر دریافتنی ها | F24: پرداختنی های تجاری | G24: سایر پرداختنی ها | H24: 1399 | I24: 1398
H25: مانده طلب ( بدهی ) | I25: مانده طلب ( بدهی )
D26: میلیون ريـــال | E26: میلیون ريـــال | F26: میلیون ريـــال | G26: میلیون ريـــال | H26: میلیون ريـــال | I26: میلیون ريـــال
B27: شرکت های گروه | C27: شرکت سهامی آب منطقه ای خراسان شمالی | D27: 0 | E27: ='14'!E30 -> 983 | F27: 0 | G27: 0 | H27: =E27 -> 983 | I27: 983
C28: شرکت سهامی آب منطقه ای خراسان جنوبي | D28: 0 | E28: ='14'!E29 -> 611 | F28: 0 | G28: 0 | H28: =E28 -> 611 | I28: 611.35643 | K28: =D28/1000000 -> 0 | L28: =E28/1000000 -> 0.000611 | M28: =F28/1000000 -> 0 | N28: =G28/1000000 -> 0 | O28: =H28/1000000 -> 0.000611 | P28: =I28/1000000 -> 0.00061135643 | Q28: =J28/1000000 -> 0 | R28: =K28/1000000 -> 0
C29: شرکت سهامی آب منطقه ای یزد | D29: 0 | E29: 0 | F29: 0 | G29: 17 | H29: =-G29 -> -17 | I29: -17.05536
B30: اشخاص وابسته | C30: شرکت سهامی برق منطقه ای خراسان | D30: 0 | E30: 0 | F30: ='23'!H12 -> 630290 | G30: 0 | H30: =-F30 -> -630290 | I30: =-'23'!J12 -> -630290.14 | K30: =D30/1000000 -> 0 | L30: =E30/1000000 -> 0 | M30: =F30/1000000 -> 0.63029 | N30: =G30/1000000 -> 0 | O30: =H30/1000000 -> -0.63029 | P30: =I30/1000000 -> -0.63029014 | Q30: =J30/1000000 -> 0 | R30: =K30/1000000 -> 0
C31: شرکت توزیع نیروی برق شهرستان مشهد | D31: 0 | E31: 0 | F31: ='23'!H13 -> 8614 | G31: 0 | H31: =-F31 -> -8614 | I31: =-'23'!J13 -> -14620.276 | K31: =D31/1000000 -> 0 | L31: =E31/1000000 -> 0 | M31: =F31/1000000 -> 0.008614 | N31: =G31/1000000 -> 0 | O31: =H31/1000000 -> -0.008614 | P31: =I31/1000000 -> -0.014620276 | Q31: =J31/1000000 -> 0 | R31: =K31/1000000 -> 0
C32: شرکت آب و فاضلاب مشهد | D32: ='14'!I44 -> 430817 | E32: 0 | F32: 0 | G32: 0 | H32: =D32 -> 430817 | I32: ='14'!K44 -> 475350 | K32: =D32/1000000 -> 0.430817 | L32: =E32/1000000 -> 0 | M32: =F32/1000000 -> 0 | N32: =G32/1000000 -> 0 | O32: =H32/1000000 -> 0.430817 | P32: =I32/1000000 -> 0.47535 | Q32: =J32/1000000 -> 0 | R32: =K32/1000000 -> 4.30817e-07
C33: شرکت آب و فاضلاب استان خراسان رضوی | D33: ='14'!I45 -> 338185 | E33: 0 | F33: 0 | G33: 0 | H33: =D33 -> 338185 | I33: ='14'!K45 -> 260400.07 | K33: =D33/1000000 -> 0.338185 | L33: =E33/1000000 -> 0 | M33: =F33/1000000 -> 0 | N33: =G33/1000000 -> 0 | O33: =H33/1000000 -> 0.338185 | P33: =I33/1000000 -> 0.26040007 | Q33: =J33/1000000 -> 0 | R33: =K33/1000000 -> 3.38185e-07
C34: مرکز آموزش عالی کاربردی صنعت آب و برق خراسان | D34: 0 | E34: 0 | F34: 0 | G34: 1013 | H34: =-G34 -> -1013 | I34: -2166.0074 | K34: =D34/1000000 -> 0 | L34: =E34/1000000 -> 0 | M34: =F34/1000000 -> 0 | N34: =G34/1000000 -> 0.001013 | O34: =H34/1000000 -> -0.001013 | P34: =I34/1000000 -> -0.0021660074 | Q34: =J34/1000000 -> 0 | R34: =K34/1000000 -> 0
C35: مرکز آموزش عالی کاربردی صنعت آب و برق گیلان | D35: 0 | E35: 0 | F35: 0 | G35: 53 | H35: =-G35 -> -53 | I35: -53.4188 | K35: =D35/1000000 -> 0 | L35: =E35/1000000 -> 0 | M35: =F35/1000000 -> 0 | N35: =G35/1000000 -> 5.3e-05 | O35: =H35/1000000 -> -5.3e-05 | P35: =I35/1000000 -> -5.34188e-05 | Q35: =J35/1000000 -> 0 | R35: b
C36: مرکز آموزش عالی کاربردی صنعت آب و برق تهران | D36: 0 | E36: 0 | F36: 0 | G36: 0 | H36: =-G36 -> 0 | I36: -250.896 | K36: =D36/1000000 -> 0 | L36: =E36/1000000 -> 0 | M36: =F36/1000000 -> 0 | N36: =G36/1000000 -> 0 | O36: =H36/1000000 -> 0 | P36: =I36/1000000 -> -0.000250896 | Q36: =J36/1000000 -> 0 | R36: =K36/1000000 -> 0
B37: جمع کل | D37: =SUM(D27:D36) -> 769002 | E37: =SUM(E27:E36) -> 1594 | F37: =SUM(F27:F36) -> 638904 | G37: =SUM(G27:G36) -> 1083 | H37: =SUM(H27:H36) -> 130609 | I37: =SUM(I27:I36) -> 89946.639
B39: 31-3 - هیچ گونه کاهش ارزشی در رابطه با مطالبات از اشخاص وابسته در سال های 1398 و 1399 شناسایی نشده است .
B42: 32 | L42: 75787120920

Sheet 32
B1: شركت سهامي آب منطقه اي خراسان رضوي
B2: يادداشت هاي توضيحي صورت هاي مالي
B3: سال مالی منتهی به 30 اسفند 1399
B5: 32- تعهدات، بدهي هاي احتمالي و دارایی های احتمالی
B7: 32-1- شرکت در تاریخ صورت وضعیت مالی بالغ بر مبلغ 395 میلیون ریال ( به شرح یادداشت 7-12 ) تعهدات سرمایه ای دارد. | R7: 0
B9: 32-2- پرداخت حق تقدیمی و اجاره سالیانه بخشی از زمین های دریاچه سد طرق که متعلق به آستان قدس رضوی است در تعهد وزارت نیرو می باشد و باید از طریق سازمان مدیریت و برنامه ریزی کشور و مبادله موافقت نامه صورت پذیرد که تا تاریخ تایید صورت های مالی به نتیجه نرسیده است. | R9: 32-3- باتوجه به اعتراض صورت گرفته به مبلغ 35 میلیارد ریال جریمه عدم پرداخت به موقع مالیات بر ارزش افزوده، پرونده رسیدگی به مالیات بر ارزش افزوده شرکت مربوط به سال های 1388 لغایت 1395 در سازمان امور مالیاتی در حال بررسی بوده که تا این تاریخ رای قطعی صادر نگردیده است.
B11: 32-3- باتوجه به ادعای آقایان حمید و اکبر شایگی در خصوص مالکیت بر بخشی از بستر سد کارده, پرونده ای علیه شرکت در قوه قضائیه درجریان می‌باشد که به دلیل تداخل پلاک ها و نامشخص بودن مساحت مورد ادعا، وضعیت پرونده تاکنون قطعی نگردیده و رای نهایی صادر نشده است و آثار ریالی احتمالی مشخص نمی‌باشد.
B13: 32-4- دارایی های احتمالی شامل موارد زیر است:
E15: یادداشت | G15: مانده اول سال | I15: وصولی طی سال | K15: اضافات طی سال | M15: مانده پایان سال
G16: میلیون ريـــال | I16: میلیون ريـــال | K16: میلیون ريـــال | M16: میلیون ريـــال
B17: آب بها و حق النظاره كشاورزي | E17: 32-4-3 | G17: 17411 | I17: 5362.5812 | K17: 0 | M17: =G17-I17+K17 -> 12048.419
B18: آب بها و حق النظاره خدمات | E18: 32-4-4 | G18: 14055 | I18: 14055 | K18: 0 | M18: =G18-I18+K18 -> 0
B19: خسارت وارده به منابع آب های زیرزمینی | E19: 32-4-5 | G19: 497936 | I19: ='7-8'!F32 -> 317936.49 | K19: 18766 | M19: =G19-I19+K19 -> 198765.51
G20: =SUM(G17:G19) -> 529402 | I20: =SUM(I17:I19) -> 337354.07 | K20: =SUM(K17:K19) -> 18766 | M20: =SUM(M17:M19) -> 210813.93
B22: 32-4-1- درآمدهای موضوع اصلی شرکت که شناسایی آن به روش تعهدی به شرح یادداشت 5 ممکن نبوده در این سرفصل منعکس و پس از احراز شرایط شناسایی و وصول به حساب درآمد منظور می گردد.
B24: 32-4-2- درآمدهای منابع زیرزمینی عمدتاٌ آب بهاء در چارچوب مصوبه وزیر نیرو از سال 1392 اجرایی شده و در سیستم مشترکین شرکت بر اساس مقادیر مندرج در پروانه بهره‌برداری بیش از 2،800 حلقه چاه به حساب مشترکین منظور گردیده است. به دلیل پراکندگی جغرافیایی مشترکین امکان کنترل و بازدید کلیه چاه‌ها میسر نشده و تعدادی از چاه‌ها متروکه بوده و در حال حاضر مورد استفاده مشترک نمی باشد. لذا امکان وصول آب بهاء و حق النظاره از تعدادی از مشترکین میسر نیست. از طرفی دیگر اخذ آب بهاء از مشترکین طبق مصوبه فوق الذکر از سال 1392 موجب افزایش بدهی مشترکین گردیده و بخش عمده آنها به نرخ آب بهای اعلام شده معترض بوده و از پرداخت صورتحساب های صادره خودداری می نمایند. شایان ذکر است افزایش نرخ آب بها بر اساس دستورالعمل شماره 321953 مورخ 1394/10/26 شورای اقتصاد برای اجرا از تاریخ 1394/12/01 ابلاغ گردیده است، لذا به استناد بند 2 دستورالعمل شناسایی و ثبت درآمدها مصوب 1382/06/26 شرکت مدیریت منابع آب ایران این بخش از درآمدها به صورت تعهدی در حساب‌های انتظامی انعکاس یافته و معادل مبلغ وصول شده به درآمدهای جاری شرکت منظور می گردد. در سال جاری از این بابت مبلغ 337.354 میلیون ریال وصول و به حساب درآمدها (یادداشت 3-5 ) منظور و مابقی به مبلغ 210.814 میلیون ریال به دلیل عدم وصول و اعتراض مشترکین به مبالغ مورد مطالبه تا رفع مشکلات و نهایی شدن آن ها به‌طور علی الحساب در این سرفصل انعکاس یافته است. | S24: 35-1- درآمدهای منابع زیرزمینی عمدتاٌ آب بهاء در چارچوب مصوبه وزیر نیرو از سال 1392 اجرایی شده و در سیستم مشترکین شرکت بر اساس مقادیر مندرج در پروانه بهره برداری بیش از 2800 حلقه چاه به حساب مشترکین منظور گردیده است . به دلیل پراکندگی جغرافیایی مشترکین امکان کنترل و بازدید کلیه چاه‌ها میسر نشده و تعدادی از چاه ها متروکه بوده و در حال حاضر مورد استفاده مشترک نمی باشد. لذا امکان وصول آب بهاء و حق النظاره از تعدادی از مشترکین میسر نیست. از طرفی دیگر اخذ آب بهاء از مشترکین طبق مصوبه فوق الذکر از سال 1392 موجب افزایش بدهی مشترکین گردیده و بخش عمده آنها به نرخ آب بهای اعلام شده معترض بوده و از پرداخت صورتحساب های صادره خودداری می نمایند. شایان ذکر است افزایش نرخ آب بها بر اساس دستورالعمل شماره 321953 مورخ 1394/10/26 شورای اقتصاد برای اجرا از تاریخ 1394/12/01 ابلاغ گردیده است، لذا به استناد بند 2 دستورالعمل شناسایی و ثبت درآمدها مصوب 1382/06/26 شرکت مدیریت منابع آب ایران این بخش از درآمدها به صورت تعهدی در حساب های انتظامی انعکاس یافته و معادل مبلغ وصول شده به درآمدهای جاری شرکت منظور می گردد. لازم به توضیح است که مبلغ 741.675 میلیون ریال بابت صورت حساب های صادره، در سال جاری در سرفصل درآمدها ( یادداشت 2-20 ) انعکاس یافته است.
B25: 32-4-3- مانده فوق مربوط به حق النظاره ایجاد شده در سال های قبل از سال 1384 می باشد که به دلیل عدم مراجعه مالکین چاه های مذکور به شرکت تاکنون تعیین وضعیت و وصول نشده است و به هنگام وصول به حساب درآمد منظور می گردد. از ابتداي سال 1384 باتوجه به مصوبه شماره 241881/ ت 40718 ﻫ مورخ 1387/12/24 هيات وزيران و ماده 3 قانون تامين منابع مالي براي جبران خسارت ناشي از خشكسالي يا سرمازدگي، دريافت هر گونه وجهي از فعاليت هاي بخش كشاورزي و دامداري به عنوان حق النظاره آب ممنوع مي باشد .
B27: 32-4-4- مبالغ فوق عمدتاً شامل بدهی تعدادی از مشترکین اشخاص حقیقی، اماکن مذهبی، آموزشی و تحقیقاتی می باشد. | R27: 35-3- مبالغ فوق عمدتاً شامل بدهی تعدادی از مشترکین اشخاص حقیقی ، اماکن مذهبی ، آموزشی و تحقیقاتی می باشد. همچنین آب بهاء و حق النظاره بخش صنعت مربوط به نیروگاه های تولید برق ، آستان قدس رضوی ، تعدادی از شرکت ها و کارخانجات تولیدی و بخش خدمات شامل تعدادی از شهرداری های استان ، سازمان میراث فرهنگی ، اداره کل فرودگاه ها ، مرکز تحقیقات کشاورزی ، اداره منابع طبیعی و اداره کل گمرکات استان می باشد.
B28: 32-4-5- مبالغ فوق عمدتاً شامل بدهی تعدادی از مشترکین اشخاص حقیقی و حقوقی بابت مازاد برداشت آب و همچنین جرایم مطالبه شده از صاحبان چاه های فاقد پروانه بابت برداشت غیر مجاز آب که بر اساس گزارشات کارشناسی صادره مطالبه گردیده می باشد. شایان ذکر است که با توجه به اینکه عمده گزارشات مذکور بابت اضافه برداشت آب توسط کشاورزان بوده و باتوجه به تصمیمات اتخاذ شده بخشی از مطالبات مذکور هنگام مراجعه مشترکین بعضاً تا 50 درصد مشمول تخفیف می گردد، می باشد. تا تاریخ تایید صورت های مالی مبلغ 97،852 میلیون ریال از مبلغ مذکور وصول گردیده است.
B30: 33- رویدادهای بعد از تاریخ صورت وضعیت مالی
B32: رویداد با اهمیتی در دوره بعد از تاریخ تایید صورت های مالی تا تایید صورت های مالی ، که مستلزم افشاء و یا تعدیل اقلام صورت های مالی باشد اتفاق نیافتاده است.
B39: 33

Sheet پ 1
B1: پیوست یک
C2: شركت سهامي آب منطقه اي خراسان رضوي
C3: سایر اطلاعات مالی
C4: تطبیق عملکرد با بودجه مصوب
C5: سال مالي منتهي به 30 اسفند 1399 | N5: تطبیق بودجه و عملکرد
B7: بودجه اولیه (مطابق با پیوست 3 قانون بودجه کل کشور ) مصوب مجمع عمومی عادی مورخ 1398/07/07 و بودجه اصلاحی مصوب مجمع عمومی عادی به‌طور فوق‌العاده مورخ 1399/07/22 به امضای اعضای مجمع رسیده و بودجه اولیه در تاریخ 1399/01/27 توسط سازمان برنامه و بودجه کشور ابلاغ گردیده است.
B9: 1-1- تطبیق عملکرد و بودجه مصوب ( اقلام جاری و سرمایه ای ) به شرح ذیل می باشد:
I11: شماره طبقه بندی : 211500
H12: مبالغ به میلیون ریال | N12: 1395/12/30
B13: شرح | C13: بودجه مصوب | D13: تغییرات بودجه اصلاحی | F13: بودجه مصوب اصلاحی | G13: عملکــرد | H13: انحراف مساعد (نامساعد) | J13: دلایل | K13: دلایل انحراف
D14: مبلغ | E14: درصد | H14: مبلغ | I14: درصد
B15: درآمدها
B16: درآمدهای اصلی آب | C16: 137567 | D16: #REF! | E16: #REF! | F16: 224460 | G16: ='5'!I10 -> 197312.92 | H16: =G16-F16 -> -27147.078 | I16: =H16/F16*100 -> -12.094395 | J16: 2-2-3 | K16: 1-1-1 | N16: =H16/C16 -> -0.19733714
B17: حق النظاره و آب بهاء چاه ها و خدمات کارشناسی | C17: 692117 | D17: #REF! | E17: #REF! | F17: 1053589 | G17: =('5'!I11+'5'!I12) -> 1094254.9 | H17: =G17-F17 -> 40665.878 | I17: =H17/F17*100 -> 3.8597478 | J17: 2-2-4 | K17: 1-1-2 | N17: =H17/C17 -> 0.058755786
B18: سایر درآمدهای عملیاتی و غیر عملیاتی | C18: 339335 | D18: #REF! | E18: #REF! | F18: 95330 | G18: =('7-8'!F36+'9-11'!G21+'9-11'!G23+'9-11'!G24) -> 348400.96 | H18: =G18-F18 -> 253070.96 | I18: =H18/F18*100 -> 265.46833 | J18: 2-2-5 | K18: 1-1-3 | N18: =H18/C18 -> 0.74578502
B19: جمع درآمدها | C19: =SUM(C16:C18) -> 1169019 | D19: #REF! | E19: #REF! | F19: =SUM(F16:F18) -> 1373379 | G19: =SUM(G16:G18) -> 1639968.8 | H19: =SUM(H16:H18) -> 266589.76 | I19: =H19/F19*100 -> 19.41123 | N19: =H19/C19 -> 0.2280457
B20: هزینه ها
B21: قیمت تمام شده حاصل از فروش آب | C21: 696056 | D21: #REF! | E21: #REF! | F21: 883878 | G21: =('5-5'!F11+'5-5'!F12+'5-5'!F13) -> 900953.8 | H21: =F21-G21 -> -17075.805 | I21: =H21/F21*100 -> -1.9319187 | J21: 2-2-1 | K21: 1-1-4 | N21: =H21/C21 -> -0.024532228
B22: قیمت تمام شده حاصل از ارائه خدمات و حق النظاره | C22: 280212 | D22: #REF! | E22: #REF! | F22: 179407 | G22: =('5-5'!F14+'5-5'!F15) -> 258767.26 | H22: =F22-G22 -> -79360.257 | I22: =H22/F22*100 -> -44.234761 | K22: 1-1-4 | N22: =H22/C22 -> -0.28321506
B23: هزینه های توزیع و فروش - اداری و عمومی | C23: 212751 | D23: #REF! | E23: #REF! | F23: 330094 | G23: ='7-8'!F18 -> 335863.36 | H23: =F23-G23 -> -5769.3577 | I23: =H23/F23*100 -> -1.7477924 | J23: 2-2-2 | K23: 1-1-4 | N23: =H23/C23 -> -0.027117888
B24: سایر هزینه ها و هزینه های غیر عملیاتی | C24: 0 | F24: 0 | G24: =-('9-11'!G11+'9-11'!G22) -> 305375.73 | H24: =F24-G24 -> -305375.73 | I24: -100 | K24: 10-2و 9
B25: جمع هزینه ها | C25: =SUM(C21:C24) -> 1189019 | D25: #REF! | E25: #REF! | F25: =SUM(F21:F24) -> 1393379 | G25: =SUM(G21:G24) -> 1800960.2 | H25: =SUM(H21:H24) -> -407581.15 | I25: =H25/F25*100 -> -29.251277
B26: زیان قبل از کمک زیان دریافتی | C26: =C19-C25 -> -20000 | D26: =D19-D25 -> #REF! | E26: =E19-E25 -> #REF! | F26: =F19-F25 -> -20000 | G26: =G19-G25 -> -160991.39 | H26: =H19+H25 -> -140991.39 | I26: =H26/F26*100 -> 704.95697
B27: کمک زیان دریافتی از دولت بابت جبران زیان | C27: 0 | D27: #REF! | E27: 100 | F27: 0 | G27: ='صورت سود و زيان'!E16 -> 15500 | H27: =G27-C27 -> 15500 | I27: 100
B28: زیان خالص | C28: =SUM(C26:C27) -> -20000 | F28: =SUM(F26:F27) -> -20000 | G28: =SUM(G26:G27) -> -145491.39 | H28: =SUM(H26:H27) -> -125491.39 | I28: =H28/F28*100 -> 627.45697
B29: هزینه های سرمایه ای :
B30: بودجه سرمایه ای از محل منابع داخلی
B31: زمین | C31: 3000 | F31: 8000 | G31: 7242 | H31: =F31-G31 -> 758 | I31: =H31/F31*100 -> 9.475 | K31: 1-1-5
B32: ساختمان و محوطه سازی | C32: 8000 | F32: 8000 | G32: 3406 | H32: =F32-G32 -> 4594 | I32: =H32/F32*100 -> 57.425 | K32: 1-1-5
B33: تاسیسات و تجهیزات | C33: 45000 | D33: #REF! | E33: #REF! | F33: 105000 | G33: 67912 | H33: =F33-G33 -> 37088 | I33: =H33/F33*100 -> 35.321905 | K33: 1-1-5
B34: وسایط نقلیه | C34: 5000 | D34: #REF! | E34: 100 | F34: 8000 | G34: 9219 | H34: =F34-G34 -> -1219 | I34: =H34/F34*100 -> -15.2375 | K34: 1-1-5
B35: اثاثیه و لوازم اداری | C35: 12000 | D35: #REF! | E35: #REF! | F35: 15000 | G35: 9708 | H35: =F35-G35 -> 5292 | I35: =H35/F35*100 -> 35.28 | K35: 1-1-5
B36: لوازم و ابزار فنی | C36: 15000 | D36: #REF! | E36: #REF! | F36: 20000 | G36: 9913 | H36: =F36-G36 -> 10087 | I36: =H36/F36*100 -> 50.435 | K36: 1-1-5
B37: جمع | C37: =SUM(C31:C36) -> 88000 | D37: =SUM(D29:D36) -> #REF! | E37: =SUM(E29:E36) -> #REF! | F37: =SUM(F31:F36) -> 164000 | G37: =SUM(G31:G36) -> 107400 | H37: =SUM(H31:H36) -> 56600
B38: جمع کل | C38: =#REF!+C37 -> #REF! | D38: =#REF!+D37 -> #REF! | E38: =#REF!+E37 -> #REF! | F38: =#REF!+F37 -> #REF! | G38: =#REF!+G37 -> #REF! | H38: =#REF!+H37 -> #REF!
B46: 34

Sheet پیوست یک
B1: ادامه پیوست یک
C2: شركت سهامي آب منطقه اي خراسان رضوي
C3: سایر اطلاعات مالی
C4: تطبیق عملکرد با بودجه مصوب
C5: سال مالي منتهي به 30 اسفند 1399
B7: 1-1-1- درآمدهای اصلی آب با تغییرات اندکی نسبت به سال قبل برآورد گردیده و در بودجه پیش بینی و با توجه به پیگیری در وصول مطالبات ، عملکرد شرکت به میزان 12 درصد انحراف نا مساعد از بودجه دارد.
B9: 1-1-2- کاهش در درآمد حق النظاره و خدمات کارشناسی با توجه به پیگیری در وصول مطالبات ، عملکرد شرکت به میزان 4 درصد انحراف نامساعد از بودجه دارد.
B11: 1-1-3- در بخش سایر درآمدها با توجه اقدامات انجام شده ، درآمد پیش بینی شده به طور کامل در این بخش محقق گردیده است .
B13: 1-1-4- افزایش و کاهش هزینه ها در قیمت تمام شده حاصل از فروش آب ، ارائه خدمات و هزینه های عمومی و اداری به دلیل بازنگری مراکز هزینه و احتساب سهم مراکز تولیدی و عمومی و اداری از مراکز خدماتی در بخش قیمت تمام شده فروش آب بوده ، لیکن سرجمع هزینه های انجام شده متناسب با بودجه پیش بینی شده می باشد .
B15: 1-1-5- کاهش عملکرد شرکت در مصرف بودجه سرمایه ای, به دلیل مشکلات نقدینگی بوده است.
B17: 1-2 - تطبیق اهداف کمی بودجه مصوب و عملکرد به شرح جدول ذیل می باشد :
B19: شرح | C19: واحــــــد سنجش | D19: بودجه مصوب | E19: بودجه مصوب اصلاحی | F19: عملکــرد | G19: انحراف مساعد (نامساعد) | H19: دلایل انحراف
D21: مجمع | E21: مجمع
B22: الف) بهره برداری آب | C22: میلیون متر مکعب | D22: =D23+D24+D25 -> 210 | E22: =E23+E24+E25 -> 210 | F22: =SUM(F23:F25) -> 193
B23: 1- کشاورزی | C23: میلیون متر مکعب | D23: 91 | E23: 91 | F23: ='5-1 5-2 5-3'!G10 -> 59 | G23: =F23/E23*100-100 -> -35.164835 | H23: 1-2-1
B24: 2- شـــرب | C24: میلیون متر مکعب | D24: 115 | E24: 115 | F24: ='5-1 5-2 5-3'!G11 -> 133 | G24: =F24/E24*100-100 -> 15.652174 | H24: 1-2-1
B25: 3- صنعتــی | C25: میلیون متر مکعب | D25: 4 | E25: 4 | F25: ='5-1 5-2 5-3'!G12 -> 1 | G25: =F25/E25*100-100 -> -75
B26: ب ) نظارت بر بهره برداری آب | C26: میلیون متر مکعب | D26: =D27+D28+D29+D30 -> 3774 | E26: =E27+E28+E29+E30 -> 3935 | F26: =SUM(F27:F30) -> 4213
B27: 1- کشاورزی | C27: میلیون متر مکعب | D27: 3613 | E27: 3774 | F27: ='5-1 5-2 5-3'!G28 -> 3413 | G27: =F27/E27*100-100 -> -9.5654478 | H27: 1-2-1
B28: 2- شـــرب | C28: میلیون متر مکعب | D28: 100 | E28: 100 | F28: ='5-1 5-2 5-3'!G26 -> 406 | G28: =F28/E28*100-100 -> 306 | H28: 1-2-1
B29: 3- صنعتــی | C29: میلیون متر مکعب | D29: 25 | E29: 25 | F29: ='5-1 5-2 5-3'!G27 -> 303 | G29: =F29/E29*100-100 -> 1112 | H29: 1-2-1
B30: 4- سایـــر | C30: میلیون متر مکعب | D30: 36 | E30: 36 | F30: ='5-1 5-2 5-3'!G29 -> 91 | G30: =F30/E30*100-100 -> 152.77778
B34: 1-2-1- مقادیر بودجه با توجه به تامین آب و افزایش قراردادهای منعقده محقق شده است.
A36: 35

Sheet صورت وضعیت مالی طرحها
B1: پیوست دو
D2: شرکت سهامي آب منطقه اي خراسان رضوي
B3: سایر اطلاعات مالی
B4: صورت وضعيت مالي طرح هاي تملک دارايي هاي سرمايه اي
B5: در تاریخ 1399/12/30
B9: کاربرد منابع دریافتی | D9: 1399/12/30 | F9: 1398/12/29 | H9: بدهی ها و ارزش خالص | J9: 1399/12/30 | L9: 1398/12/29 | O9: توجه:
D10: میلیون ريـــال | F10: میلیون ريـــال | J10: میلیون ريـــال | L10: میلیون ريـــال | O10: ارقام مقایسه ای منطبق با صورت مالی نهایی سال قبل طرحها درج شد.
B11: دارایی های جاری: | H11: بدهی های جاری:
B12: موجودی نقد | D12: 58894 | F12: 70358 | H12: حسابها و اسناد پرداختنی حاصل از عملیات مبادله ای | J12: 1136450 | L12: 751029 | O12: =D12/1000000 -> 0.058894 | P12: =E12/1000000 -> 0 | Q12: =F12/1000000 -> 0.070358
B13: حسابها و اسناد دریافتنی حاصل از عملبات مبادله ای | D13: 67860 | F13: 31734 | H13: سایر بدهی های جاری | J13: 21677 | L13: 15182 | O13: =D13/1000000 -> 0.06786 | P13: =E13/1000000 -> 0 | Q13: =F13/1000000 -> 0.031734
B14: موجودی مواد و کالا | D14: 36337 | F14: 47211 | O14: =D14/1000000 -> 0.036337 | P14: =E14/1000000 -> 0 | Q14: =F14/1000000 -> 0.047211
B15: جمع دارایی های جاری | D15: =SUM(D12:D14) -> 163091 | F15: =SUM(F12:F14) -> 149303 | H15: جمع بدهی های جاری | J15: =J12+J13 -> 1158127 | L15: =L12+L13 -> 766211
B16: دارایی های غیر جاری | H16: ارزش خالص انباشته: | O16: =D16/1000000 -> 0 | P16: =E16/1000000 -> 0 | Q16: =F16/1000000 -> 0
B17: دارایی های ثابت مشهود | D17: 5677541 | F17: 4580185 | H17: ارزش خالص پایان سال | J17: 4682505 | L17: 3963277 | O17: =D17/1000000 -> 5.677541 | P17: =E17/1000000 -> 0 | Q17: =F17/1000000 -> 4.580185
B21: جمع دارایی ها | D21: =D15+D17 -> 5840632 | F21: =F15+F17 -> 4729488 | H21: جمع بدهی ها و ارزش خالص انباشته | J21: =J15+J17 -> 5840632 | L21: =L15+L17 -> 4729488
B27: 36
B31: کاربرد منابع دریافتی | D31: 1399/12/30 | F31: 1398/12/29 | H31: بدهی ها و ارزش خالص | J31: 1399/12/30 | L31: 1398/12/29
D32: میلیون ريـــال | F32: میلیون ريـــال | J32: میلیون ريـــال | L32: میلیون ريـــال
B33: دارایی های جاری: | H33: بدهی های جاری:
B34: موجودی نقد | D34: 37476.706 | F34: 32432.916 | H34: حسابها و اسناد پرداختنی حاصل از عملیات مبادله ای | J34: 1174969.5 | L34: 800069.68
B35: حسابها و اسناد دریافتنی حاصل از عملبات مبادله ای | D35: 67860.599 | F35: 67270.775 | H35: سایر بدهی های جاری
B36: موجودی مواد و کالا | D36: 169739.84 | F36: 115265.36
B37: پیش پرداخت ها | D37: 146324.39 | F37: 4723.176 | H37: ارزش خالص انباشته:
B38: دارایی های در جریان تکمیل | D38: 5416000.8 | F38: 4585095.7 | H38: ارزش خالص پایان سال | J38: 4662432.8 | L38: 4004718.2
B42: جمع دارایی ها | D42: =SUM(D34:D41) -> 5837402.3 | F42: =SUM(F34:F41) -> 4804787.9 | H42: جمع بدهی ها و ارزش خالص انباشته | J42: =J34+J38 -> 5837402.3 | L42: =L34+L38 -> 4804787.9

Sheet پ 301
B1: پیوست دو
D2: شرکت سهامی آب منطقه‌ای خراسان رضوی
D3: مفاد جزء (8) بند (ی) تبصره 2 قانون بودجه سال 1400 کل کشور
D4: ='[1]سر برگ صفحات'!B3 -> سال مالي منتهی به 30 اسفند 1399
B6: سال 1399
D7: واحد اندازه گیری | F7: مقدار | H7: نرخ تکلیفی | J7: نرخ بازار | L7: نرخ بهای تمام شده | N7: بهای تمام شده | P7: برآورد بازار | R7: درآمد کل | T7: سود ( زیان )
H8: ریال | J8: ریال | L8: ریال | N8: میلیون ریال | P8: میلیون ریال | R8: =+N8 -> میلیون ریال | T8: =+R8 -> میلیون ریال
B9: آب کشاورزی | D9: میلیون متر مکعب آب | F9: ='5-1 5-2 5-3'!G10 -> 59 | H9: =R9/F9 -> 2131.1186 | J9: =L9*136.4% -> 13516.385 | L9: =N9/F9 -> 9909.3729 | N9: 584653 | P9: =J9*F9 -> 797466.69 | R9: 125736 | T9: =P9-R9 -> 671730.69
B10: آب شرب | D10: میلیون متر مکعب آب | F10: ='5-1 5-2 5-3'!G11 -> 133 | H10: =R10/F10 -> 454.78947 | J10: =L10*136.4% -> 2884.4395 | L10: =N10/F10 -> 2114.6917 | N10: 281254 | P10: =J10*F10 -> 383630.46 | R10: 60487 | T10: =P10-R10 -> 323143.46
B11: حق النظاره کشاورزی | D11: میلیون متر مکعب آب | F11: 3413 | H11: =R11/F11 -> 1.5713449 | J11: =L11*136.4% -> 76.932318 | L11: =N11/F11 -> 56.401992 | N11: 192500 | P11: =J11*F11 -> 262570 | R11: 5363 | T11: =P11-R11 -> 257207
B12: حق النظاره شرب | D12: میلیون متر مکعب آب | F12: 406 | H12: =R12/F12 -> 296.25369 | J12: =H12 -> 296.25369 | L12: =N12/F12 -> 56.401478 | N12: 22899 | P12: =J12*F12 -> 120279 | R12: 120279 | T12: =P12-R12 -> 0
N13: =SUM(N9:N12) -> 1081306 | P13: =SUM(P9:P12) -> 1563946.1 | R13: =SUM(R9:R12) -> 311865 | T13: =SUM(T9:T12) -> 1252081.1
B15: سال 1398
D16: واحد اندازه گیری | F16: مقدار | H16: نرخ تکلیفی | J16: نرخ بازار | L16: نرخ بهای تمام شده | N16: بهای تمام شده | P16: برآورد بازار | R16: درآمد کل | T16: سود ( زیان )
H17: ریال | J17: ریال | L17: ریال | N17: میلیون ریال | P17: میلیون ریال | R17: =+N17 -> میلیون ریال | T17: =+R17 -> میلیون ریال
B18: آب کشاورزی | D18: میلیون متر مکعب آب | F18: 65 | H18: =R18/F18 -> 1835.1231 | J18: =L18*134.8/100 -> 9424.0754 | L18: =N18/F18 -> 6991.1538 | N18: 454425 | P18: =J18*F18 -> 612564.9 | R18: 119283 | T18: =P18-R18 -> 493281.9
B19: آب شرب | D19: میلیون متر مکعب آب | F19: 104 | H19: =R19/F19 -> 395.25 | J19: =L19*134.8/100 -> 2029.738 | L19: =N19/F19 -> 1505.7404 | N19: 156597 | P19: =J19*F19 -> 211092.76 | R19: 41106 | T19: =P19-R19 -> 169986.76
B20: حق النظاره کشاورزی | D20: میلیون متر مکعب آب | F20: 4580 | H20: =R20/F20 -> 1.571179 | J20: =L20*134.8/100 -> 53.072938 | L20: =N20/F20 -> 39.371616 | N20: 180322 | P20: =J20*F20 -> 243074.06 | R20: 7196 | T20: =P20-R20 -> 235878.06
B21: حق النظاره شرب | D21: میلیون متر مکعب آب | F21: 285 | H21: =R21/F21 -> 225.46316 | J21: =H21 -> 225.46316 | L21: =N21/F21 -> 39.37193 | N21: 11221 | P21: =J21*F21 -> 64257 | R21: 64257 | T21: =P21-R21 -> 0
N22: =SUM(N18:N21) -> 802565 | P22: =SUM(P18:P21) -> 1130988.7 | R22: =SUM(R18:R21) -> 231842 | T22: =SUM(T18:T21) -> 899146.71
B24: ارزش بازار با در نظر گرفتن قیمت تمام شده بعلاوه نرخ تورم اعلامی از سوی مرکز آمار ایران برای سال های 1399و 1398 به ترتیب به میزان 36،4درصد و 34،8 درصد محاسبه شده است. نظر به اینکه نرخ تکلیفی حق النظاره شرب بالاتر از نرخ بهای تمام شده بعلاوه نرخ تورم می باشد ،نرخ تکلیفی مبنای نرخ بازار قرار گرفته است. | V24: کاهش مبلغ فروش آب به شرکت ملی صنایع مس ایران نسبت به سال قبل به دلیل عدم افزایش نرخ آب و نیز کاهش مصرف در سال 1399 می‌باشد.
B26: 37

Sheet پ302
B1: پیوست دو
D2: شرکت سهامی آب منطقه‌ای خراسان رضوی
D3: مفاد جزء (8) بند (ی) تبصره 2 قانون بودجه سال 1400 کل کشور
D4: ='[1]سر برگ صفحات'!B3 -> سال مالي منتهی به 30 اسفند 1399
B6: سال 1399
D7: واحد اندازه گیری | F7: مقدار | H7: نرخ تکلیفی | J7: نرخ بازار | L7: نرخ بهای تمام شده | N7: بهای تمام شده | P7: برآورد بازار | R7: درآمد کل | T7: سود ( زیان )
H8: ریال | J8: ریال | L8: ریال | N8: میلیون ریال | P8: میلیون ریال | R8: =+N8 -> میلیون ریال | T8: =+R8 -> میلیون ریال
B9: آب کشاورزی | D9: میلیون متر مکعب آب | F9: 38 | H9: =R9/F9 -> 3308.8421 | J9: =L9*136.4% -> 20985.966 | L9: =N9/F9 -> 15385.605 | N9: 584653 | P9: =J9*F9 -> 797466.69 | R9: 125736 | T9: =P9-R9 -> 671730.69
B10: آب شرب | D10: میلیون متر مکعب آب | F10: 132 | H10: =R10/F10 -> 458.23485 | J10: =L10*136.4% -> 2906.2913 | L10: =N10/F10 -> 2130.7121 | N10: 281254 | P10: =J10*F10 -> 383630.46 | R10: 60487 | T10: =P10-R10 -> 323143.46
B11: حق النظاره کشاورزی | D11: میلیون متر مکعب آب | F11: 3413 | H11: =R11/F11 -> 0 | J11: =L11*136.4% -> 216.64354 | L11: =N11/F11 -> 158.82957 | N11: ='[2]14'!F16/'[2]13'!F16*'[2]13'!F13 -> 542085.34 | P11: =J11*F11 -> 739404.4 | R11: 0 | T11: =P11-R11 -> 739404.4
B12: حق النظاره شرب | D12: میلیون متر مکعب آب | F12: 406 | H12: =R12/F12 -> 163.38916 | J12: =H12 -> 163.38916 | L12: =N12/F12 -> 55.327895 | N12: ='[2]14'!F16/'[2]13'!F16*'[2]13'!F14 -> 22463.125 | P12: =J12*F12 -> 66336 | R12: ='[2]13'!H14 -> 66336 | T12: =P12-R12 -> 0
N13: =SUM(N9:N12) -> 1430455.5 | P13: =SUM(P9:P12) -> 1986837.5 | R13: =SUM(R9:R12) -> 252559 | T13: =SUM(T9:T12) -> 1734278.5
B15: سال 1398
D16: واحد اندازه گیری | F16: مقدار | H16: نرخ تکلیفی | J16: نرخ بازار | L16: نرخ بهای تمام شده | N16: بهای تمام شده | P16: برآورد بازار | R16: درآمد کل | T16: سود ( زیان )
H17: ریال | J17: ریال | L17: ریال | N17: میلیون ریال | P17: میلیون ریال | R17: =+N17 -> میلیون ریال | T17: =+R17 -> میلیون ریال
B18: آب کشاورزی | D18: میلیون متر مکعب آب | F18: 65 | H18: =R18/F18 -> 1835.1231 | J18: =L18*134.8/100 -> 7453.4653 | L18: =N18/F18 -> 5529.2769 | N18: 359403 | P18: =J18*F18 -> 484475.24 | R18: 119283 | T18: =P18-R18 -> 365192.24
B19: آب شرب | D19: میلیون متر مکعب آب | F19: 104 | H19: =R19/F19 -> 395.25 | J19: =L19*134.8/100 -> 2980.778 | L19: =N19/F19 -> 2211.2596 | N19: 229971 | P19: =J19*F19 -> 310000.91 | R19: 41106 | T19: =P19-R19 -> 268894.91
B20: حق النظاره کشاورزی | D20: میلیون متر مکعب آب | F20: 4580 | H20: =R20/F20 -> 0 | J20: =L20*134.8/100 -> 112.18244 | L20: =N20/F20 -> 83.221397 | N20: 381154 | P20: =J20*F20 -> 513795.59 | R20: 0 | T20: =P20-R20 -> 513795.59
B21: حق النظاره شرب | D21: میلیون متر مکعب آب | F21: 285 | H21: =R21/F21 -> 152.12982 | J21: =H21 -> 152.12982 | L21: =N21/F21 -> 105.41404 | N21: 30043 | P21: =J21*F21 -> 43357 | R21: ='[1]13'!L15 -> 43357 | T21: 0
N22: =SUM(N18:N21) -> 1000571 | P22: =SUM(P18:P21) -> 1351628.7 | R22: =SUM(R18:R21) -> 203746 | T22: =SUM(T18:T21) -> 1147882.7
B24: ارزش بازار با در نظر گرفتن قیمت تمام شده بعلاوه نرخ تورم اعلامی از سوی مرکز آمار ایران برای سال های 1399و 1398 به ترتیب به میزان 36،4درصد و 34،8 درصد محاسبه شده است.نظر به اینکه نرخ تکلیفی حق النظاره شرب بالاتر از نرخ بهای تمام شده بعلاوه نرخ تورم می باشد ،نرخ تکلیفی مبنای نرخ بازار قرار گرفته است. | V24: کاهش مبلغ فروش آب به شرکت ملی صنایع مس ایران نسبت به سال قبل به دلیل عدم افزایش نرخ آب و نیز کاهش مصرف در سال 1399 می‌باشد.
B27: 36

Sheet گردش وجوه نقد 99
A1: شرکت سهامی آب منطقه ای خراسان رضوی
A2: صورت وضعیت مالی
A3: در تاریخ 30 اسفند 1399
A5: داراييها | C5: يادداشت | E5: 1399/12/30 | G5: 1398/12/29 | H5: 1397/01/01
E6: ريـــال | G6: ريـــال | H6: ريـــال
A7: دارایی های غيرجاري :
A8: دارایی های ثابت مشهود | C8: 12 | E8: ='دارایی ثابت 1'!W31 -> 8313339.4 | G8: 8511826 | H8: 12797231301805 | K8: =E8-G8-'دارایی ثابت 1'!W19 -> -255719.22
A9: دارایی های نامشهود | C9: 13 | E9: ='13'!K25 -> 18713.546 | G9: 18678 | H9: 18537293755 | K9: =E9-G9 -> 35.545795
A10: دریافتنی های بلند مدت | C10: 14-2 | E10: ='14-2'!E33 -> 46650 | G10: 6008 | H10: 9522097048 | K10: =E10-G10 -> 40642
A11: ساير دارايي ها | C11: 0 | E11: ='14-2'!E50 -> 0 | G11: 0 | H11: 10000000000 | K11: =E11-G11 -> 0
A12: جمع دارایی های غيرجاري | E12: =SUM(E8:E11) -> 8378703 | G12: =SUM(G8:G11) -> 8536512 | H12: =SUM(H8:H11) -> 12835290692608 | K12: 0
K13: =E13-G13 -> 0
A14: دارایي هاي جاري :
A15: دريافتني های تجاري و غیرتجاری | C15: 14 | E15: ='14'!I34 -> 2753899 | G15: ='14'!K34 -> 2084101.4 | H15: 1136811321430 | K15: =E15-G15 -> 669797.55 | N15: =K10+K15 -> 710439.55
A16: پیش پرداخت ها | C16: 15 | E16: ='15-19'!E17 -> 19094 | G16: ='15-19'!G17 -> 10867.311 | H16: 2347410298 | K16: =E16-G16 -> 8226.6894
A17: موجودی مواد و کالا | C17: 16 | E17: 10135 | G17: 4369 | H17: 3432192075 | K17: =E17-G17 -> 5766
A18: موجودي نقد | C18: 17 | E18: ='15-19'!E33 -> 49203 | G18: ='15-19'!G33 -> 67241.655 | H18: 17474151392 | K18: =E18-G18 -> -18038.655
A19: جمع دارایی های جاري | E19: =SUM(E15:E18) -> 2832331 | G19: =SUM(G15:G18) -> 2166579.4 | H19: =SUM(H15:H18) -> 1160065075195 | K19: 0
K20: =H20-J20 -> 0
A21: جمع دارايي ها | E21: =E19+E12 -> 11211034 | G21: =G19+G12 -> 10703091 | H21: =H19+H12 -> 13995355767803 | K21: =SUM(K8:K20) -> 450709.91
A22: طرح های تملک دارایی های سرمایه ای ( پیوست 1) | E22: ='صورت وضعیت مالی طرحها'!D21 -> 5840632 | G22: ='صورت وضعیت مالی طرحها'!F21 -> 4729488 | H22: 7519264539388 | K22: 0
K30: =H30-J30 -> 0
K32: =H32-J32 -> 0
K33: =H33-J33 -> 0
C34: 3 | K34: =H34-J34 -> 0
A35: حقوق عمومی ،حقوق مالکانه و بدهی ها | C35: يادداشت | E35: 1399/12/30 | G35: 1398/12/29 | H35: 1397/01/01
E36: ريـــال | G36: ريـــال | H36: ریال
A37: حقوق عمومي | C37: 18 | E37: 18333 | G37: 18333 | H37: 18332830265 | K37: =E37-G37 -> 0
A38: حقوق مالکانه :
A39: سرمايه | C39: 19 | E39: 7671699 | G39: 7671699 | H39: 7671699390000 | K39: =E39-G39 -> 0
A40: کاهش سرمایه در جریان | C40: 20 | E40: -1846470 | G40: -1846470 | H40: 0 | K40: =E40-G40 -> 0
A41: سرمایه گذاری دولت | C41: 21 | E41: ='20-22'!I16 -> 4467673 | G41: ='20-22'!K16 -> 2031489.4 | H41: 200727650000 | K41: =E41-G41 -> 2436183.6
A42: اندوخته قانوني | C42: 22 | E42: 10 | G42: 10 | H42: 10000000 | K42: =E42-G42 -> 0
A43: وجوه قابل انتقال به سرمایه | C43: 23 | E43: 932 | G43: 932 | H43: 932375456 | K43: =E43-G43 -> 0
A44: زيان انباشته | E44: ='صورت تغییرات در حقوق مالکانه'!N23 -> -3457593.4 | G44: ='صورت وضعیت مالی'!H29 -> -3312102 | H44: -3640697726847 | K44: =E44-G44 -> -145491.39
A45: جمع حقوق مالکانه | E45: =SUM(E39:E44) -> 6836250.6 | G45: =SUM(G39:G44) -> 4545558.4 | H45: =SUM(H39:H44) -> 4232671688609
A46: بدهی های غير جاري : | K46: =E46-G46 -> 0
A47: پرداختني های بلند مدت | C47: 24-2 | E47: ='23.2'!I13 -> 1988400.7 | G47: ='23.2'!K13 -> 4363621.5 | H47: 8132287576038 | K47: =E47-G47-'دارایی ثابت 1'!W19 -> -2432453.5
A48: پيش دريافت های بلند مدت | C48: 25 | E48: ='24'!I22 -> 98948 | G48: ='24'!K22 -> 158721.91 | H48: 110823878094 | K48: =E48-G48 -> -59773.907
A49: ذخيره مزاياي پايان خدمت كاركنان | C49: 26 | E49: ='25-26'!S12 -> 136522.32 | G49: ='25-26'!U12 -> 130031.46 | H49: 102932282872 | K49: =E49-G49 -> 6490.8555
A50: جمع بدهی های غير جاري | E50: =SUM(E47:E49) -> 2223871 | G50: =SUM(G47:G49) -> 4652374.9 | H50: =SUM(H47:H49) -> 8346043737004
A51: بدهی های جاري : | K51: =E51-G51 -> 0
A52: پرداختنی های تجاری و غیرتجاری | C52: 24 | E52: ='23'!H30 -> 2039133 | G52: ='23'!J30 -> 1481732 | H52: 1316633764564 | K52: =E52-G52 -> 557401 | N52: =K41+K47+K52 -> 561131.12
A53: پيش دريافت ها | C53: 25 | E53: ='24'!E22 -> 94378 | G53: ='24'!G22 -> 6024.8035 | H53: 81673747361 | K53: =E53-G53 -> 88353.196 | N53: =K53+K48 -> 28579.29
A54: مالیات پرداختنی | C54: 27 | E54: 0 | G54: 0 | H54: 0 | K54: =E54-G54 -> 0 | L54: 0
A55: جمع بدهي هاي جاري | E55: =SUM(E52:E54) -> 2133511 | G55: =SUM(G52:G54) -> 1487756.8 | H55: =SUM(H52:H54) -> 1398307511925
A56: جمع بدهيها | E56: =E55+E50 -> 4357382 | G56: =G55+G50 -> 6140131.7 | H56: =H55+H50 -> 9744351248929 | N56: =E53+E48 -> 193326
A57: جمع حقوق مالکانه ،حقوق عمومی و بدهي ها | E57: =E56+E45+E37 -> 11211966 | G57: =G56+G45+G37 -> 10704023 | H57: =H56+H45+H37 -> 13995355767803 | K57: =SUM(K39:K56) -> 450709.87
